Workbook
Name Buchungswege: Einstellungen!$A$9:$A$20
Name Print_Area: Jahresplan!$A$1:$AF$22

Sheet Buchungen
A1: ="Buchungen: "&Einstellungen!$B$4 -> Buchungen: Meine Ferienwohnung
A2: Trag jede Buchung in eine eigene Zeile ein. Weiße Felder füllst du aus, graue rechnet die Tabelle selbst. | H2: besoo.de
A3: Die ersten vier Zeilen sind erfundene Beispiele. Lösch einfach ihren Inhalt und schreib deine eigenen Buchungen hinein.
A4: Erstellt von besoo.de
A6: Anreise | B6: Abreise | C6: Nächte | D6: Gast | E6: Personen | F6: Buchungsweg | G6: Status | H6: Preis | I6: Anzahlung erhalten | J6: Noch offen | K6: Notiz | L6: Prüfung
A7: 46578 | B7: 46585 | C7: =IF(AND(ISNUMBER(A7),ISNUMBER(B7)),IF(B7>A7,B7-A7,""),"") -> 7 | D7: Familie Petersen | E7: 4 | F7: Eigene Anfrage per Mail | G7: Gebucht | H7: 1120 | I7: 336 | J7: =IF(OR(H7="",G7<>"Gebucht"),"",H7-N(I7)) -> 784 | K7: Restzahlung bis 10.06. | L7: =IF(AND(A7="",B7=""),"",IF(OR(A7="",B7=""),"Datum fehlt",IF(B7<=A7,"Abreise prüfen",IF(G7="","Status fehlt",IF(G7="Storniert","",IF(COUNTIFS($A$7:$A$206,"<"&B7,$B$7:$B$206,">"&A7,$G$7:$G$206,"<>Storniert")>1,"Überschneidung","ok")))))) -> ok
A8: 46585 | B8: 46592 | C8: =IF(AND(ISNUMBER(A8),ISNUMBER(B8)),IF(B8>A8,B8-A8,""),"") -> 7 | D8: Anne Brandt | E8: 2 | F8: Booking.com | G8: Gebucht | H8: 980 | I8: 980 | J8: =IF(OR(H8="",G8<>"Gebucht"),"",H8-N(I8)) -> 0 | L8: =IF(AND(A8="",B8=""),"",IF(OR(A8="",B8=""),"Datum fehlt",IF(B8<=A8,"Abreise prüfen",IF(G8="","Status fehlt",IF(G8="Storniert","",IF(COUNTIFS($A$7:$A$206,"<"&B8,$B$7:$B$206,">"&A8,$G$7:$G$206,"<>Storniert")>1,"Überschneidung","ok")))))) -> ok
A9: 46601 | B9: 46604 | C9: =IF(AND(ISNUMBER(A9),ISNUMBER(B9)),IF(B9>A9,B9-A9,""),"") -> 3 | D9: Wir selbst | G9: Eigennutzung | J9: =IF(OR(H9="",G9<>"Gebucht"),"",H9-N(I9)) | L9: =IF(AND(A9="",B9=""),"",IF(OR(A9="",B9=""),"Datum fehlt",IF(B9<=A9,"Abreise prüfen",IF(G9="","Status fehlt",IF(G9="Storniert","",IF(COUNTIFS($A$7:$A$206,"<"&B9,$B$7:$B$206,">"&A9,$G$7:$G$206,"<>Storniert")>1,"Überschneidung","ok")))))) -> ok
A10: 46613 | B10: 46620 | C10: =IF(AND(ISNUMBER(A10),ISNUMBER(B10)),IF(B10>A10,B10-A10,""),"") -> 7 | D10: Familie Yilmaz | E10: 5 | F10: Telefon | G10: Anfrage | H10: 1190 | J10: =IF(OR(H10="",G10<>"Gebucht"),"",H10-N(I10)) | K10: Angebot geschickt, Antwort offen | L10: =IF(AND(A10="",B10=""),"",IF(OR(A10="",B10=""),"Datum fehlt",IF(B10<=A10,"Abreise prüfen",IF(G10="","Status fehlt",IF(G10="Storniert","",IF(COUNTIFS($A$7:$A$206,"<"&B10,$B$7:$B$206,">"&A10,$G$7:$G$206,"<>Storniert")>1,"Überschneidung","ok")))))) -> ok
C11: =IF(AND(ISNUMBER(A11),ISNUMBER(B11)),IF(B11>A11,B11-A11,""),"") | J11: =IF(OR(H11="",G11<>"Gebucht"),"",H11-N(I11)) | L11: =IF(AND(A11="",B11=""),"",IF(OR(A11="",B11=""),"Datum fehlt",IF(B11<=A11,"Abreise prüfen",IF(G11="","Status fehlt",IF(G11="Storniert","",IF(COUNTIFS($A$7:$A$206,"<"&B11,$B$7:$B$206,">"&A11,$G$7:$G$206,"<>Storniert")>1,"Überschneidung","ok"))))))
C12: =IF(AND(ISNUMBER(A12),ISNUMBER(B12)),IF(B12>A12,B12-A12,""),"") | J12: =IF(OR(H12="",G12<>"Gebucht"),"",H12-N(I12)) | L12: =IF(AND(A12="",B12=""),"",IF(OR(A12="",B12=""),"Datum fehlt",IF(B12<=A12,"Abreise prüfen",IF(G12="","Status fehlt",IF(G12="Storniert","",IF(COUNTIFS($A$7:$A$206,"<"&B12,$B$7:$B$206,">"&A12,$G$7:$G$206,"<>Storniert")>1,"Überschneidung","ok"))))))
C13: =IF(AND(ISNUMBER(A13),ISNUMBER(B13)),IF(B13>A13,B13-A13,""),"") | J13: =IF(OR(H13="",G13<>"Gebucht"),"",H13-N(I13)) | L13: =IF(AND(A13="",B13=""),"",IF(OR(A13="",B13=""),"Datum fehlt",IF(B13<=A13,"Abreise prüfen",IF(G13="","Status fehlt",IF(G13="Storniert","",IF(COUNTIFS($A$7:$A$206,"<"&B13,$B$7:$B$206,">"&A13,$G$7:$G$206,"<>Storniert")>1,"Überschneidung","ok"))))))
C14: =IF(AND(ISNUMBER(A14),ISNUMBER(B14)),IF(B14>A14,B14-A14,""),"") | J14: =IF(OR(H14="",G14<>"Gebucht"),"",H14-N(I14)) | L14: =IF(AND(A14="",B14=""),"",IF(OR(A14="",B14=""),"Datum fehlt",IF(B14<=A14,"Abreise prüfen",IF(G14="","Status fehlt",IF(G14="Storniert","",IF(COUNTIFS($A$7:$A$206,"<"&B14,$B$7:$B$206,">"&A14,$G$7:$G$206,"<>Storniert")>1,"Überschneidung","ok"))))))
C15: =IF(AND(ISNUMBER(A15),ISNUMBER(B15)),IF(B15>A15,B15-A15,""),"") | J15: =IF(OR(H15="",G15<>"Gebucht"),"",H15-N(I15)) | L15: =IF(AND(A15="",B15=""),"",IF(OR(A15="",B15=""),"Datum fehlt",IF(B15<=A15,"Abreise prüfen",IF(G15="","Status fehlt",IF(G15="Storniert","",IF(COUNTIFS($A$7:$A$206,"<"&B15,$B$7:$B$206,">"&A15,$G$7:$G$206,"<>Storniert")>1,"Überschneidung","ok"))))))
C16: =IF(AND(ISNUMBER(A16),ISNUMBER(B16)),IF(B16>A16,B16-A16,""),"") | J16: =IF(OR(H16="",G16<>"Gebucht"),"",H16-N(I16)) | L16: =IF(AND(A16="",B16=""),"",IF(OR(A16="",B16=""),"Datum fehlt",IF(B16<=A16,"Abreise prüfen",IF(G16="","Status fehlt",IF(G16="Storniert","",IF(COUNTIFS($A$7:$A$206,"<"&B16,$B$7:$B$206,">"&A16,$G$7:$G$206,"<>Storniert")>1,"Überschneidung","ok"))))))
C17: =IF(AND(ISNUMBER(A17),ISNUMBER(B17)),IF(B17>A17,B17-A17,""),"") | J17: =IF(OR(H17="",G17<>"Gebucht"),"",H17-N(I17)) | L17: =IF(AND(A17="",B17=""),"",IF(OR(A17="",B17=""),"Datum fehlt",IF(B17<=A17,"Abreise prüfen",IF(G17="","Status fehlt",IF(G17="Storniert","",IF(COUNTIFS($A$7:$A$206,"<"&B17,$B$7:$B$206,">"&A17,$G$7:$G$206,"<>Storniert")>1,"Überschneidung","ok"))))))
C18: =IF(AND(ISNUMBER(A18),ISNUMBER(B18)),IF(B18>A18,B18-A18,""),"") | J18: =IF(OR(H18="",G18<>"Gebucht"),"",H18-N(I18)) | L18: =IF(AND(A18="",B18=""),"",IF(OR(A18="",B18=""),"Datum fehlt",IF(B18<=A18,"Abreise prüfen",IF(G18="","Status fehlt",IF(G18="Storniert","",IF(COUNTIFS($A$7:$A$206,"<"&B18,$B$7:$B$206,">"&A18,$G$7:$G$206,"<>Storniert")>1,"Überschneidung","ok"))))))
C19: =IF(AND(ISNUMBER(A19),ISNUMBER(B19)),IF(B19>A19,B19-A19,""),"") | J19: =IF(OR(H19="",G19<>"Gebucht"),"",H19-N(I19)) | L19: =IF(AND(A19="",B19=""),"",IF(OR(A19="",B19=""),"Datum fehlt",IF(B19<=A19,"Abreise prüfen",IF(G19="","Status fehlt",IF(G19="Storniert","",IF(COUNTIFS($A$7:$A$206,"<"&B19,$B$7:$B$206,">"&A19,$G$7:$G$206,"<>Storniert")>1,"Überschneidung","ok"))))))
C20: =IF(AND(ISNUMBER(A20),ISNUMBER(B20)),IF(B20>A20,B20-A20,""),"") | J20: =IF(OR(H20="",G20<>"Gebucht"),"",H20-N(I20)) | L20: =IF(AND(A20="",B20=""),"",IF(OR(A20="",B20=""),"Datum fehlt",IF(B20<=A20,"Abreise prüfen",IF(G20="","Status fehlt",IF(G20="Storniert","",IF(COUNTIFS($A$7:$A$206,"<"&B20,$B$7:$B$206,">"&A20,$G$7:$G$206,"<>Storniert")>1,"Überschneidung","ok"))))))
C21: =IF(AND(ISNUMBER(A21),ISNUMBER(B21)),IF(B21>A21,B21-A21,""),"") | J21: =IF(OR(H21="",G21<>"Gebucht"),"",H21-N(I21)) | L21: =IF(AND(A21="",B21=""),"",IF(OR(A21="",B21=""),"Datum fehlt",IF(B21<=A21,"Abreise prüfen",IF(G21="","Status fehlt",IF(G21="Storniert","",IF(COUNTIFS($A$7:$A$206,"<"&B21,$B$7:$B$206,">"&A21,$G$7:$G$206,"<>Storniert")>1,"Überschneidung","ok"))))))
C22: =IF(AND(ISNUMBER(A22),ISNUMBER(B22)),IF(B22>A22,B22-A22,""),"") | J22: =IF(OR(H22="",G22<>"Gebucht"),"",H22-N(I22)) | L22: =IF(AND(A22="",B22=""),"",IF(OR(A22="",B22=""),"Datum fehlt",IF(B22<=A22,"Abreise prüfen",IF(G22="","Status fehlt",IF(G22="Storniert","",IF(COUNTIFS($A$7:$A$206,"<"&B22,$B$7:$B$206,">"&A22,$G$7:$G$206,"<>Storniert")>1,"Überschneidung","ok"))))))
... C206: =IF(AND(ISNUMBER(A206),ISNUMBER(B206)),IF(B206>A206,B206-A206,""),"") | J206: =IF(OR(H206="",G206<>"Gebucht"),"",H206-N(I206)) | L206: =IF(AND(A206="",B206=""),"",IF(OR(A206="",B206=""),"Datum fehlt",IF(B206<=A206,"Abreise prüfen",IF(G206="","Status fehlt",IF(G206="Storniert","",IF(COUNTIFS($A$7:$A$206,"<"&B206,$B$7:$B$206,">"&A206,$G$7:$G$206,"<>Storniert")>1,"Überschneidung","ok"))))))

Sheet Jahresplan
A1: =Einstellungen!$B$4&": Belegung "&Einstellungen!$B$5 -> Meine Ferienwohnung: Belegung 2027
A2: Hier trägst du nichts ein. Das Blatt füllt sich aus dem Blatt „Buchungen“. | AC2: besoo.de
B3: Gebucht | H3: Anfrage | N3: Eigennutzung | T3: Gesperrt | Z3: Überschneidung
A5: Monat | B5: 1 | C5: 2 | D5: 3 | E5: 4 | F5: 5 | G5: 6 | H5: 7 | I5: 8 | J5: 9 | K5: 10 | L5: 11 | M5: 12 | N5: 13 | O5: 14 | P5: 15 | Q5: 16 | R5: 17 | S5: 18 | T5: 19 | U5: 20 | V5: 21 | W5: 22 | X5: 23 | Y5: 24 | Z5: 25 | AA5: 26 | AB5: 27 | AC5: 28 | AD5: 29 | AE5: 30 | AF5: 31
A6: Januar | B6: =IF(AH6=0,"",IF(AND(COUNTIFS(Buchungen!$A$7:$A$206,AH6,Buchungen!$G$7:$G$206,"<>Storniert")>0,COUNTIFS(Buchungen!$B$7:$B$206,AH6,Buchungen!$G$7:$G$206,"<>Storniert")>0),"W",IF(COUNTIFS(Buchungen!$A$7:$A$206,AH6,Buchungen!$G$7:$G$206,"<>Storniert")>0,"An",IF(COUNTIFS(Buchungen!$B$7:$B$206,AH6,Buchungen!$G$7:$G$206,"<>Storniert")>0,"Ab","")))) | C6: =IF(AI6=0,"",IF(AND(COUNTIFS(Buchungen!$A$7:$A$206,AI6,Buchungen!$G$7:$G$206,"<>Storniert")>0,COUNTIFS(Buchungen!$B$7:$B$206,AI6,Buchungen!$G$7:$G$206,"<>Storniert")>0),"W",IF(COUNTIFS(Buchungen!$A$7:$A$206,AI6,Buchungen!$G$7:$G$206,"<>Storniert")>0,"An",IF(COUNTIFS(Buchungen!$B$7:$B$206,AI6,Buchungen!$G$7:$G$206,"<>Storniert")>0,"Ab","")))) | D6: =IF(AJ6=0,"",IF(AND(COUNTIFS(Buchungen!$A$7:$A$206,AJ6,Buchungen!$G$7:$G$206,"<>Storniert")>0,COUNTIFS(Buchungen!$B$7:$B$206,AJ6,Buchungen!$G$7:$G$206,"<>Storniert")>0),"W",IF(COUNTIFS(Buchungen!$A$7:$A$206,AJ6,Buchungen!$G$7:$G$206,"<>Storniert")>0,"An",IF(COUNTIFS(Buchungen!$B$7:$B$206,AJ6,Buchungen!$G$7:$G$206,"<>Storniert")>0,"Ab","")))) | E6: =IF(AK6=0,"",IF(AND(COUNTIFS(Buchungen!$A$7:$A$206,AK6,Buchungen!$G$7:$G$206,"<>Storniert")>0,COUNTIFS(Buchungen!$B$7:$B$206,AK6,Buchungen!$G$7:$G$206,"<>Storniert")>0),"W",IF(COUNTIFS(Buchungen!$A$7:$A$206,AK6,Buchungen!$G$7:$G$206,"<>Storniert")>0,"An",IF(COUNTIFS(Buchungen!$B$7:$B$206,AK6,Buchungen!$G$7:$G$206,"<>Storniert")>0,"Ab","")))) | F6: =IF(AL6=0,"",IF(AND(COUNTIFS(Buchungen!$A$7:$A$206,AL6,Buchungen!$G$7:$G$206,"<>Storniert")>0,COUNTIFS(Buchungen!$B$7:$B$206,AL6,Buchungen!$G$7:$G$206,"<>Storniert")>0),"W",IF(COUNTIFS(Buchungen!$A$7:$A$206,AL6,Buchungen!$G$7:$G$206,"<>Storniert")>0,"An",IF(COUNTIFS(Buchungen!$B$7:$B$206,AL6,Buchungen!$G$7:$G$206,"<>Storniert")>0,"Ab","")))) | G6: =IF(AM6=0,"",IF(AND(COUNTIFS(Buchungen!$A$7:$A$206,AM6,Buchungen!$G$7:$G$206,"<>Storniert")>0,COUNTIFS(Buchungen!$B$7:$B$206,AM6,Buchungen!$G$7:$G$206,"<>Storniert")>0),"W",IF(COUNTIFS(Buchungen!$A$7:$A$206,AM6,Buchungen!$G$7:$G$206,"<>Storniert")>0,"An",IF(COUNTIFS(Buchungen!$B$7:$B$206,AM6,Buchungen!$G$7:$G$206,"<>Storniert")>0,"Ab","")))) | H6: =IF(AN6=0,"",IF(AND(COUNTIFS(Buchungen!$A$7:$A$206,AN6,Buchungen!$G$7:$G$206,"<>Storniert")>0,COUNTIFS(Buchungen!$B$7:$B$206,AN6,Buchungen!$G$7:$G$206,"<>Storniert")>0),"W",IF(COUNTIFS(Buchungen!$A$7:$A$206,AN6,Buchungen!$G$7:$G$206,"<>Storniert")>0,"An",IF(COUNTIFS(Buchungen!$B$7:$B$206,AN6,Buchungen!$G$7:$G$206,"<>Storniert")>0,"Ab","")))) | I6: =IF(AO6=0,"",IF(AND(COUNTIFS(Buchungen!$A$7:$A$206,AO6,Buchungen!$G$7:$G$206,"<>Storniert")>0,COUNTIFS(Buchungen!$B$7:$B$206,AO6,Buchungen!$G$7:$G$206,"<>Storniert")>0),"W",IF(COUNTIFS(Buchungen!$A$7:$A$206,AO6,Buchungen!$G$7:$G$206,"<>Storniert")>0,"An",IF(COUNTIFS(Buchungen!$B$7:$B$206,AO6,Buchungen!$G$7:$G$206,"<>Storniert")>0,"Ab","")))) | ... AF6: =IF(BL6=0,"",IF(AND(COUNTIFS(Buchungen!$A$7:$A$206,BL6,Buchungen!$G$7:$G$206,"<>Storniert")>0,COUNTIFS(Buchungen!$B$7:$B$206,BL6,Buchungen!$G$7:$G$206,"<>Storniert")>0),"W",IF(COUNTIFS(Buchungen!$A$7:$A$206,BL6,Buchungen!$G$7:$G$206,"<>Storniert")>0,"An",IF(COUNTIFS(Buchungen!$B$7:$B$206,BL6,Buchungen!$G$7:$G$206,"<>Storniert")>0,"Ab","")))) | AH6: =IF(MONTH(DATE(Einstellungen!$B$5,1,B$5))=1,DATE(Einstellungen!$B$5,1,B$5),0) -> 46388 | AI6: =IF(MONTH(DATE(Einstellungen!$B$5,1,C$5))=1,DATE(Einstellungen!$B$5,1,C$5),0) -> 46389 | AJ6: =IF(MONTH(DATE(Einstellungen!$B$5,1,D$5))=1,DATE(Einstellungen!$B$5,1,D$5),0) -> 46390 | AK6: =IF(MONTH(DATE(Einstellungen!$B$5,1,E$5))=1,DATE(Einstellungen!$B$5,1,E$5),0) -> 46391 | AL6: =IF(MONTH(DATE(Einstellungen!$B$5,1,F$5))=1,DATE(Einstellungen!$B$5,1,F$5),0) -> 46392 | AM6: =IF(MONTH(DATE(Einstellungen!$B$5,1,G$5))=1,DATE(Einstellungen!$B$5,1,G$5),0) -> 46393 | AN6: =IF(MONTH(DATE(Einstellungen!$B$5,1,H$5))=1,DATE(Einstellungen!$B$5,1,H$5),0) -> 46394 | AO6: =IF(MONTH(DATE(Einstellungen!$B$5,1,I$5))=1,DATE(Einstellungen!$B$5,1,I$5),0) -> 46395 | ... BL6: =IF(MONTH(DATE(Einstellungen!$B$5,1,AF$5))=1,DATE(Einstellungen!$B$5,1,AF$5),0) -> 46418 | BN6: =IF(AH6=0,-1,IF(COUNTIFS(Buchungen!$A$7:$A$206,"<="&AH6,Buchungen!$B$7:$B$206,">"&AH6,Buchungen!$G$7:$G$206,"<>Storniert")=0,0,IF(COUNTIFS(Buchungen!$A$7:$A$206,"<="&AH6,Buchungen!$B$7:$B$206,">"&AH6,Buchungen!$G$7:$G$206,"<>Storniert")>1,9,IF(COUNTIFS(Buchungen!$A$7:$A$206,"<="&AH6,Buchungen!$B$7:$B$206,">"&AH6,Buchungen!$G$7:$G$206,"Gebucht")=1,1,IF(COUNTIFS(Buchungen!$A$7:$A$206,"<="&AH6,Buchungen!$B$7:$B$206,">"&AH6,Buchungen!$G$7:$G$206,"Anfrage")=1,2,IF(COUNTIFS(Buchungen!$A$7:$A$206,"<="&AH6,Buchungen!$B$7:$B$206,">"&AH6,Buchungen!$G$7:$G$206,"Eigennutzung")=1,3,IF(COUNTIFS(Buchungen!$A$7:$A$206,"<="&AH6,Buchungen!$B$7:$B$206,">"&AH6,Buchungen!$G$7:$G$206,"Gesperrt")=1,4,9))))))) -> 0 | BO6: =IF(AI6=0,-1,IF(COUNTIFS(Buchungen!$A$7:$A$206,"<="&AI6,Buchungen!$B$7:$B$206,">"&AI6,Buchungen!$G$7:$G$206,"<>Storniert")=0,0,IF(COUNTIFS(Buchungen!$A$7:$A$206,"<="&AI6,Buchungen!$B$7:$B$206,">"&AI6,Buchungen!$G$7:$G$206,"<>Storniert")>1,9,IF(COUNTIFS(Buchungen!$A$7:$A$206,"<="&AI6,Buchungen!$B$7:$B$206,">"&AI6,Buchungen!$G$7:$G$206,"Gebucht")=1,1,IF(COUNTIFS(Buchungen!$A$7:$A$206,"<="&AI6,Buchungen!$B$7:$B$206,">"&AI6,Buchungen!$G$7:$G$206,"Anfrage")=1,2,IF(COUNTIFS(Buchungen!$A$7:$A$206,"<="&AI6,Buchungen!$B$7:$B$206,">"&AI6,Buchungen!$G$7:$G$206,"Eigennutzung")=1,3,IF(COUNTIFS(Buchungen!$A$7:$A$206,"<="&AI6,Buchungen!$B$7:$B$206,">"&AI6,Buchungen!$G$7:$G$206,"Gesperrt")=1,4,9))))))) -> 0 | BP6: =IF(AJ6=0,-1,IF(COUNTIFS(Buchungen!$A$7:$A$206,"<="&AJ6,Buchungen!$B$7:$B$206,">"&AJ6,Buchungen!$G$7:$G$206,"<>Storniert")=0,0,IF(COUNTIFS(Buchungen!$A$7:$A$206,"<="&AJ6,Buchungen!$B$7:$B$206,">"&AJ6,Buchungen!$G$7:$G$206,"<>Storniert")>1,9,IF(COUNTIFS(Buchungen!$A$7:$A$206,"<="&AJ6,Buchungen!$B$7:$B$206,">"&AJ6,Buchungen!$G$7:$G$206,"Gebucht")=1,1,IF(COUNTIFS(Buchungen!$A$7:$A$206,"<="&AJ6,Buchungen!$B$7:$B$206,">"&AJ6,Buchungen!$G$7:$G$206,"Anfrage")=1,2,IF(COUNTIFS(Buchungen!$A$7:$A$206,"<="&AJ6,Buchungen!$B$7:$B$206,">"&AJ6,Buchungen!$G$7:$G$206,"Eigennutzung")=1,3,IF(COUNTIFS(Buchungen!$A$7:$A$206,"<="&AJ6,Buchungen!$B$7:$B$206,">"&AJ6,Buchungen!$G$7:$G$206,"Gesperrt")=1,4,9))))))) -> 0 | BQ6: =IF(AK6=0,-1,IF(COUNTIFS(Buchungen!$A$7:$A$206,"<="&AK6,Buchungen!$B$7:$B$206,">"&AK6,Buchungen!$G$7:$G$206,"<>Storniert")=0,0,IF(COUNTIFS(Buchungen!$A$7:$A$206,"<="&AK6,Buchungen!$B$7:$B$206,">"&AK6,Buchungen!$G$7:$G$206,"<>Storniert")>1,9,IF(COUNTIFS(Buchungen!$A$7:$A$206,"<="&AK6,Buchungen!$B$7:$B$206,">"&AK6,Buchungen!$G$7:$G$206,"Gebucht")=1,1,IF(COUNTIFS(Buchungen!$A$7:$A$206,"<="&AK6,Buchungen!$B$7:$B$206,">"&AK6,Buchungen!$G$7:$G$206,"Anfrage")=1,2,IF(COUNTIFS(Buchungen!$A$7:$A$206,"<="&AK6,Buchungen!$B$7:$B$206,">"&AK6,Buchungen!$G$7:$G$206,"Eigennutzung")=1,3,IF(COUNTIFS(Buchungen!$A$7:$A$206,"<="&AK6,Buchungen!$B$7:$B$206,">"&AK6,Buchungen!$G$7:$G$206,"Gesperrt")=1,4,9))))))) -> 0 | BR6: =IF(AL6=0,-1,IF(COUNTIFS(Buchungen!$A$7:$A$206,"<="&AL6,Buchungen!$B$7:$B$206,">"&AL6,Buchungen!$G$7:$G$206,"<>Storniert")=0,0,IF(COUNTIFS(Buchungen!$A$7:$A$206,"<="&AL6,Buchungen!$B$7:$B$206,">"&AL6,Buchungen!$G$7:$G$206,"<>Storniert")>1,9,IF(COUNTIFS(Buchungen!$A$7:$A$206,"<="&AL6,Buchungen!$B$7:$B$206,">"&AL6,Buchungen!$G$7:$G$206,"Gebucht")=1,1,IF(COUNTIFS(Buchungen!$A$7:$A$206,"<="&AL6,Buchungen!$B$7:$B$206,">"&AL6,Buchungen!$G$7:$G$206,"Anfrage")=1,2,IF(COUNTIFS(Buchungen!$A$7:$A$206,"<="&AL6,Buchungen!$B$7:$B$206,">"&AL6,Buchungen!$G$7:$G$206,"Eigennutzung")=1,3,IF(COUNTIFS(Buchungen!$A$7:$A$206,"<="&AL6,Buchungen!$B$7:$B$206,">"&AL6,Buchungen!$G$7:$G$206,"Gesperrt")=1,4,9))))))) -> 0 | BS6: =IF(AM6=0,-1,IF(COUNTIFS(Buchungen!$A$7:$A$206,"<="&AM6,Buchungen!$B$7:$B$206,">"&AM6,Buchungen!$G$7:$G$206,"<>Storniert")=0,0,IF(COUNTIFS(Buchungen!$A$7:$A$206,"<="&AM6,Buchungen!$B$7:$B$206,">"&AM6,Buchungen!$G$7:$G$206,"<>Storniert")>1,9,IF(COUNTIFS(Buchungen!$A$7:$A$206,"<="&AM6,Buchungen!$B$7:$B$206,">"&AM6,Buchungen!$G$7:$G$206,"Gebucht")=1,1,IF(COUNTIFS(Buchungen!$A$7:$A$206,"<="&AM6,Buchungen!$B$7:$B$206,">"&AM6,Buchungen!$G$7:$G$206,"Anfrage")=1,2,IF(COUNTIFS(Buchungen!$A$7:$A$206,"<="&AM6,Buchungen!$B$7:$B$206,">"&AM6,Buchungen!$G$7:$G$206,"Eigennutzung")=1,3,IF(COUNTIFS(Buchungen!$A$7:$A$206,"<="&AM6,Buchungen!$B$7:$B$206,">"&AM6,Buchungen!$G$7:$G$206,"Gesperrt")=1,4,9))))))) -> 0 | BT6: =IF(AN6=0,-1,IF(COUNTIFS(Buchungen!$A$7:$A$206,"<="&AN6,Buchungen!$B$7:$B$206,">"&AN6,Buchungen!$G$7:$G$206,"<>Storniert")=0,0,IF(COUNTIFS(Buchungen!$A$7:$A$206,"<="&AN6,Buchungen!$B$7:$B$206,">"&AN6,Buchungen!$G$7:$G$206,"<>Storniert")>1,9,IF(COUNTIFS(Buchungen!$A$7:$A$206,"<="&AN6,Buchungen!$B$7:$B$206,">"&AN6,Buchungen!$G$7:$G$206,"Gebucht")=1,1,IF(COUNTIFS(Buchungen!$A$7:$A$206,"<="&AN6,Buchungen!$B$7:$B$206,">"&AN6,Buchungen!$G$7:$G$206,"Anfrage")=1,2,IF(COUNTIFS(Buchungen!$A$7:$A$206,"<="&AN6,Buchungen!$B$7:$B$206,">"&AN6,Buchungen!$G$7:$G$206,"Eigennutzung")=1,3,IF(COUNTIFS(Buchungen!$A$7:$A$206,"<="&AN6,Buchungen!$B$7:$B$206,">"&AN6,Buchungen!$G$7:$G$206,"Gesperrt")=1,4,9))))))) -> 0 | BU6: =IF(AO6=0,-1,IF(COUNTIFS(Buchungen!$A$7:$A$206,"<="&AO6,Buchungen!$B$7:$B$206,">"&AO6,Buchungen!$G$7:$G$206,"<>Storniert")=0,0,IF(COUNTIFS(Buchungen!$A$7:$A$206,"<="&AO6,Buchungen!$B$7:$B$206,">"&AO6,Buchungen!$G$7:$G$206,"<>Storniert")>1,9,IF(COUNTIFS(Buchungen!$A$7:$A$206,"<="&AO6,Buchungen!$B$7:$B$206,">"&AO6,Buchungen!$G$7:$G$206,"Gebucht")=1,1,IF(COUNTIFS(Buchungen!$A$7:$A$206,"<="&AO6,Buchungen!$B$7:$B$206,">"&AO6,Buchungen!$G$7:$G$206,"Anfrage")=1,2,IF(COUNTIFS(Buchungen!$A$7:$A$206,"<="&AO6,Buchungen!$B$7:$B$206,">"&AO6,Buchungen!$G$7:$G$206,"Eigennutzung")=1,3,IF(COUNTIFS(Buchungen!$A$7:$A$206,"<="&AO6,Buchungen!$B$7:$B$206,">"&AO6,Buchungen!$G$7:$G$206,"Gesperrt")=1,4,9))))))) -> 0 | ... CR6: =IF(BL6=0,-1,IF(COUNTIFS(Buchungen!$A$7:$A$206,"<="&BL6,Buchungen!$B$7:$B$206,">"&BL6,Buchungen!$G$7:$G$206,"<>Storniert")=0,0,IF(COUNTIFS(Buchungen!$A$7:$A$206,"<="&BL6,Buchungen!$B$7:$B$206,">"&BL6,Buchungen!$G$7:$G$206,"<>Storniert")>1,9,IF(COUNTIFS(Buchungen!$A$7:$A$206,"<="&BL6,Buchungen!$B$7:$B$206,">"&BL6,Buchungen!$G$7:$G$206,"Gebucht")=1,1,IF(COUNTIFS(Buchungen!$A$7:$A$206,"<="&BL6,Buchungen!$B$7:$B$206,">"&BL6,Buchungen!$G$7:$G$206,"Anfrage")=1,2,IF(COUNTIFS(Buchungen!$A$7:$A$206,"<="&BL6,Buchungen!$B$7:$B$206,">"&BL6,Buchungen!$G$7:$G$206,"Eigennutzung")=1,3,IF(COUNTIFS(Buchungen!$A$7:$A$206,"<="&BL6,Buchungen!$B$7:$B$206,">"&BL6,Buchungen!$G$7:$G$206,"Gesperrt")=1,4,9))))))) -> 0
A7: Februar | B7: =IF(AH7=0,"",IF(AND(COUNTIFS(Buchungen!$A$7:$A$206,AH7,Buchungen!$G$7:$G$206,"<>Storniert")>0,COUNTIFS(Buchungen!$B$7:$B$206,AH7,Buchungen!$G$7:$G$206,"<>Storniert")>0),"W",IF(COUNTIFS(Buchungen!$A$7:$A$206,AH7,Buchungen!$G$7:$G$206,"<>Storniert")>0,"An",IF(COUNTIFS(Buchungen!$B$7:$B$206,AH7,Buchungen!$G$7:$G$206,"<>Storniert")>0,"Ab","")))) | C7: =IF(AI7=0,"",IF(AND(COUNTIFS(Buchungen!$A$7:$A$206,AI7,Buchungen!$G$7:$G$206,"<>Storniert")>0,COUNTIFS(Buchungen!$B$7:$B$206,AI7,Buchungen!$G$7:$G$206,"<>Storniert")>0),"W",IF(COUNTIFS(Buchungen!$A$7:$A$206,AI7,Buchungen!$G$7:$G$206,"<>Storniert")>0,"An",IF(COUNTIFS(Buchungen!$B$7:$B$206,AI7,Buchungen!$G$7:$G$206,"<>Storniert")>0,"Ab","")))) | D7: =IF(AJ7=0,"",IF(AND(COUNTIFS(Buchungen!$A$7:$A$206,AJ7,Buchungen!$G$7:$G$206,"<>Storniert")>0,COUNTIFS(Buchungen!$B$7:$B$206,AJ7,Buchungen!$G$7:$G$206,"<>Storniert")>0),"W",IF(COUNTIFS(Buchungen!$A$7:$A$206,AJ7,Buchungen!$G$7:$G$206,"<>Storniert")>0,"An",IF(COUNTIFS(Buchungen!$B$7:$B$206,AJ7,Buchungen!$G$7:$G$206,"<>Storniert")>0,"Ab","")))) | E7: =IF(AK7=0,"",IF(AND(COUNTIFS(Buchungen!$A$7:$A$206,AK7,Buchungen!$G$7:$G$206,"<>Storniert")>0,COUNTIFS(Buchungen!$B$7:$B$206,AK7,Buchungen!$G$7:$G$206,"<>Storniert")>0),"W",IF(COUNTIFS(Buchungen!$A$7:$A$206,AK7,Buchungen!$G$7:$G$206,"<>Storniert")>0,"An",IF(COUNTIFS(Buchungen!$B$7:$B$206,AK7,Buchungen!$G$7:$G$206,"<>Storniert")>0,"Ab","")))) | F7: =IF(AL7=0,"",IF(AND(COUNTIFS(Buchungen!$A$7:$A$206,AL7,Buchungen!$G$7:$G$206,"<>Storniert")>0,COUNTIFS(Buchungen!$B$7:$B$206,AL7,Buchungen!$G$7:$G$206,"<>Storniert")>0),"W",IF(COUNTIFS(Buchungen!$A$7:$A$206,AL7,Buchungen!$G$7:$G$206,"<>Storniert")>0,"An",IF(COUNTIFS(Buchungen!$B$7:$B$206,AL7,Buchungen!$G$7:$G$206,"<>Storniert")>0,"Ab","")))) | G7: =IF(AM7=0,"",IF(AND(COUNTIFS(Buchungen!$A$7:$A$206,AM7,Buchungen!$G$7:$G$206,"<>Storniert")>0,COUNTIFS(Buchungen!$B$7:$B$206,AM7,Buchungen!$G$7:$G$206,"<>Storniert")>0),"W",IF(COUNTIFS(Buchungen!$A$7:$A$206,AM7,Buchungen!$G$7:$G$206,"<>Storniert")>0,"An",IF(COUNTIFS(Buchungen!$B$7:$B$206,AM7,Buchungen!$G$7:$G$206,"<>Storniert")>0,"Ab","")))) | H7: =IF(AN7=0,"",IF(AND(COUNTIFS(Buchungen!$A$7:$A$206,AN7,Buchungen!$G$7:$G$206,"<>Storniert")>0,COUNTIFS(Buchungen!$B$7:$B$206,AN7,Buchungen!$G$7:$G$206,"<>Storniert")>0),"W",IF(COUNTIFS(Buchungen!$A$7:$A$206,AN7,Buchungen!$G$7:$G$206,"<>Storniert")>0,"An",IF(COUNTIFS(Buchungen!$B$7:$B$206,AN7,Buchungen!$G$7:$G$206,"<>Storniert")>0,"Ab","")))) | I7: =IF(AO7=0,"",IF(AND(COUNTIFS(Buchungen!$A$7:$A$206,AO7,Buchungen!$G$7:$G$206,"<>Storniert")>0,COUNTIFS(Buchungen!$B$7:$B$206,AO7,Buchungen!$G$7:$G$206,"<>Storniert")>0),"W",IF(COUNTIFS(Buchungen!$A$7:$A$206,AO7,Buchungen!$G$7:$G$206,"<>Storniert")>0,"An",IF(COUNTIFS(Buchungen!$B$7:$B$206,AO7,Buchungen!$G$7:$G$206,"<>Storniert")>0,"Ab","")))) | ... AF7: =IF(BL7=0,"",IF(AND(COUNTIFS(Buchungen!$A$7:$A$206,BL7,Buchungen!$G$7:$G$206,"<>Storniert")>0,COUNTIFS(Buchungen!$B$7:$B$206,BL7,Buchungen!$G$7:$G$206,"<>Storniert")>0),"W",IF(COUNTIFS(Buchungen!$A$7:$A$206,BL7,Buchungen!$G$7:$G$206,"<>Storniert")>0,"An",IF(COUNTIFS(Buchungen!$B$7:$B$206,BL7,Buchungen!$G$7:$G$206,"<>Storniert")>0,"Ab","")))) | AH7: =IF(MONTH(DATE(Einstellungen!$B$5,2,B$5))=2,DATE(Einstellungen!$B$5,2,B$5),0) -> 46419 | AI7: =IF(MONTH(DATE(Einstellungen!$B$5,2,C$5))=2,DATE(Einstellungen!$B$5,2,C$5),0) -> 46420 | AJ7: =IF(MONTH(DATE(Einstellungen!$B$5,2,D$5))=2,DATE(Einstellungen!$B$5,2,D$5),0) -> 46421 | AK7: =IF(MONTH(DATE(Einstellungen!$B$5,2,E$5))=2,DATE(Einstellungen!$B$5,2,E$5),0) -> 46422 | AL7: =IF(MONTH(DATE(Einstellungen!$B$5,2,F$5))=2,DATE(Einstellungen!$B$5,2,F$5),0) -> 46423 | AM7: =IF(MONTH(DATE(Einstellungen!$B$5,2,G$5))=2,DATE(Einstellungen!$B$5,2,G$5),0) -> 46424 | AN7: =IF(MONTH(DATE(Einstellungen!$B$5,2,H$5))=2,DATE(Einstellungen!$B$5,2,H$5),0) -> 46425 | AO7: =IF(MONTH(DATE(Einstellungen!$B$5,2,I$5))=2,DATE(Einstellungen!$B$5,2,I$5),0) -> 46426 | ... BL7: =IF(MONTH(DATE(Einstellungen!$B$5,2,AF$5))=2,DATE(Einstellungen!$B$5,2,AF$5),0) -> 0 | BN7: =IF(AH7=0,-1,IF(COUNTIFS(Buchungen!$A$7:$A$206,"<="&AH7,Buchungen!$B$7:$B$206,">"&AH7,Buchungen!$G$7:$G$206,"<>Storniert")=0,0,IF(COUNTIFS(Buchungen!$A$7:$A$206,"<="&AH7,Buchungen!$B$7:$B$206,">"&AH7,Buchungen!$G$7:$G$206,"<>Storniert")>1,9,IF(COUNTIFS(Buchungen!$A$7:$A$206,"<="&AH7,Buchungen!$B$7:$B$206,">"&AH7,Buchungen!$G$7:$G$206,"Gebucht")=1,1,IF(COUNTIFS(Buchungen!$A$7:$A$206,"<="&AH7,Buchungen!$B$7:$B$206,">"&AH7,Buchungen!$G$7:$G$206,"Anfrage")=1,2,IF(COUNTIFS(Buchungen!$A$7:$A$206,"<="&AH7,Buchungen!$B$7:$B$206,">"&AH7,Buchungen!$G$7:$G$206,"Eigennutzung")=1,3,IF(COUNTIFS(Buchungen!$A$7:$A$206,"<="&AH7,Buchungen!$B$7:$B$206,">"&AH7,Buchungen!$G$7:$G$206,"Gesperrt")=1,4,9))))))) -> 0 | BO7: =IF(AI7=0,-1,IF(COUNTIFS(Buchungen!$A$7:$A$206,"<="&AI7,Buchungen!$B$7:$B$206,">"&AI7,Buchungen!$G$7:$G$206,"<>Storniert")=0,0,IF(COUNTIFS(Buchungen!$A$7:$A$206,"<="&AI7,Buchungen!$B$7:$B$206,">"&AI7,Buchungen!$G$7:$G$206,"<>Storniert")>1,9,IF(COUNTIFS(Buchungen!$A$7:$A$206,"<="&AI7,Buchungen!$B$7:$B$206,">"&AI7,Buchungen!$G$7:$G$206,"Gebucht")=1,1,IF(COUNTIFS(Buchungen!$A$7:$A$206,"<="&AI7,Buchungen!$B$7:$B$206,">"&AI7,Buchungen!$G$7:$G$206,"Anfrage")=1,2,IF(COUNTIFS(Buchungen!$A$7:$A$206,"<="&AI7,Buchungen!$B$7:$B$206,">"&AI7,Buchungen!$G$7:$G$206,"Eigennutzung")=1,3,IF(COUNTIFS(Buchungen!$A$7:$A$206,"<="&AI7,Buchungen!$B$7:$B$206,">"&AI7,Buchungen!$G$7:$G$206,"Gesperrt")=1,4,9))))))) -> 0 | BP7: =IF(AJ7=0,-1,IF(COUNTIFS(Buchungen!$A$7:$A$206,"<="&AJ7,Buchungen!$B$7:$B$206,">"&AJ7,Buchungen!$G$7:$G$206,"<>Storniert")=0,0,IF(COUNTIFS(Buchungen!$A$7:$A$206,"<="&AJ7,Buchungen!$B$7:$B$206,">"&AJ7,Buchungen!$G$7:$G$206,"<>Storniert")>1,9,IF(COUNTIFS(Buchungen!$A$7:$A$206,"<="&AJ7,Buchungen!$B$7:$B$206,">"&AJ7,Buchungen!$G$7:$G$206,"Gebucht")=1,1,IF(COUNTIFS(Buchungen!$A$7:$A$206,"<="&AJ7,Buchungen!$B$7:$B$206,">"&AJ7,Buchungen!$G$7:$G$206,"Anfrage")=1,2,IF(COUNTIFS(Buchungen!$A$7:$A$206,"<="&AJ7,Buchungen!$B$7:$B$206,">"&AJ7,Buchungen!$G$7:$G$206,"Eigennutzung")=1,3,IF(COUNTIFS(Buchungen!$A$7:$A$206,"<="&AJ7,Buchungen!$B$7:$B$206,">"&AJ7,Buchungen!$G$7:$G$206,"Gesperrt")=1,4,9))))))) -> 0 | BQ7: =IF(AK7=0,-1,IF(COUNTIFS(Buchungen!$A$7:$A$206,"<="&AK7,Buchungen!$B$7:$B$206,">"&AK7,Buchungen!$G$7:$G$206,"<>Storniert")=0,0,IF(COUNTIFS(Buchungen!$A$7:$A$206,"<="&AK7,Buchungen!$B$7:$B$206,">"&AK7,Buchungen!$G$7:$G$206,"<>Storniert")>1,9,IF(COUNTIFS(Buchungen!$A$7:$A$206,"<="&AK7,Buchungen!$B$7:$B$206,">"&AK7,Buchungen!$G$7:$G$206,"Gebucht")=1,1,IF(COUNTIFS(Buchungen!$A$7:$A$206,"<="&AK7,Buchungen!$B$7:$B$206,">"&AK7,Buchungen!$G$7:$G$206,"Anfrage")=1,2,IF(COUNTIFS(Buchungen!$A$7:$A$206,"<="&AK7,Buchungen!$B$7:$B$206,">"&AK7,Buchungen!$G$7:$G$206,"Eigennutzung")=1,3,IF(COUNTIFS(Buchungen!$A$7:$A$206,"<="&AK7,Buchungen!$B$7:$B$206,">"&AK7,Buchungen!$G$7:$G$206,"Gesperrt")=1,4,9))))))) -> 0 | BR7: =IF(AL7=0,-1,IF(COUNTIFS(Buchungen!$A$7:$A$206,"<="&AL7,Buchungen!$B$7:$B$206,">"&AL7,Buchungen!$G$7:$G$206,"<>Storniert")=0,0,IF(COUNTIFS(Buchungen!$A$7:$A$206,"<="&AL7,Buchungen!$B$7:$B$206,">"&AL7,Buchungen!$G$7:$G$206,"<>Storniert")>1,9,IF(COUNTIFS(Buchungen!$A$7:$A$206,"<="&AL7,Buchungen!$B$7:$B$206,">"&AL7,Buchungen!$G$7:$G$206,"Gebucht")=1,1,IF(COUNTIFS(Buchungen!$A$7:$A$206,"<="&AL7,Buchungen!$B$7:$B$206,">"&AL7,Buchungen!$G$7:$G$206,"Anfrage")=1,2,IF(COUNTIFS(Buchungen!$A$7:$A$206,"<="&AL7,Buchungen!$B$7:$B$206,">"&AL7,Buchungen!$G$7:$G$206,"Eigennutzung")=1,3,IF(COUNTIFS(Buchungen!$A$7:$A$206,"<="&AL7,Buchungen!$B$7:$B$206,">"&AL7,Buchungen!$G$7:$G$206,"Gesperrt")=1,4,9))))))) -> 0 | BS7: =IF(AM7=0,-1,IF(COUNTIFS(Buchungen!$A$7:$A$206,"<="&AM7,Buchungen!$B$7:$B$206,">"&AM7,Buchungen!$G$7:$G$206,"<>Storniert")=0,0,IF(COUNTIFS(Buchungen!$A$7:$A$206,"<="&AM7,Buchungen!$B$7:$B$206,">"&AM7,Buchungen!$G$7:$G$206,"<>Storniert")>1,9,IF(COUNTIFS(Buchungen!$A$7:$A$206,"<="&AM7,Buchungen!$B$7:$B$206,">"&AM7,Buchungen!$G$7:$G$206,"Gebucht")=1,1,IF(COUNTIFS(Buchungen!$A$7:$A$206,"<="&AM7,Buchungen!$B$7:$B$206,">"&AM7,Buchungen!$G$7:$G$206,"Anfrage")=1,2,IF(COUNTIFS(Buchungen!$A$7:$A$206,"<="&AM7,Buchungen!$B$7:$B$206,">"&AM7,Buchungen!$G$7:$G$206,"Eigennutzung")=1,3,IF(COUNTIFS(Buchungen!$A$7:$A$206,"<="&AM7,Buchungen!$B$7:$B$206,">"&AM7,Buchungen!$G$7:$G$206,"Gesperrt")=1,4,9))))))) -> 0 | BT7: =IF(AN7=0,-1,IF(COUNTIFS(Buchungen!$A$7:$A$206,"<="&AN7,Buchungen!$B$7:$B$206,">"&AN7,Buchungen!$G$7:$G$206,"<>Storniert")=0,0,IF(COUNTIFS(Buchungen!$A$7:$A$206,"<="&AN7,Buchungen!$B$7:$B$206,">"&AN7,Buchungen!$G$7:$G$206,"<>Storniert")>1,9,IF(COUNTIFS(Buchungen!$A$7:$A$206,"<="&AN7,Buchungen!$B$7:$B$206,">"&AN7,Buchungen!$G$7:$G$206,"Gebucht")=1,1,IF(COUNTIFS(Buchungen!$A$7:$A$206,"<="&AN7,Buchungen!$B$7:$B$206,">"&AN7,Buchungen!$G$7:$G$206,"Anfrage")=1,2,IF(COUNTIFS(Buchungen!$A$7:$A$206,"<="&AN7,Buchungen!$B$7:$B$206,">"&AN7,Buchungen!$G$7:$G$206,"Eigennutzung")=1,3,IF(COUNTIFS(Buchungen!$A$7:$A$206,"<="&AN7,Buchungen!$B$7:$B$206,">"&AN7,Buchungen!$G$7:$G$206,"Gesperrt")=1,4,9))))))) -> 0 | BU7: =IF(AO7=0,-1,IF(COUNTIFS(Buchungen!$A$7:$A$206,"<="&AO7,Buchungen!$B$7:$B$206,">"&AO7,Buchungen!$G$7:$G$206,"<>Storniert")=0,0,IF(COUNTIFS(Buchungen!$A$7:$A$206,"<="&AO7,Buchungen!$B$7:$B$206,">"&AO7,Buchungen!$G$7:$G$206,"<>Storniert")>1,9,IF(COUNTIFS(Buchungen!$A$7:$A$206,"<="&AO7,Buchungen!$B$7:$B$206,">"&AO7,Buchungen!$G$7:$G$206,"Gebucht")=1,1,IF(COUNTIFS(Buchungen!$A$7:$A$206,"<="&AO7,Buchungen!$B$7:$B$206,">"&AO7,Buchungen!$G$7:$G$206,"Anfrage")=1,2,IF(COUNTIFS(Buchungen!$A$7:$A$206,"<="&AO7,Buchungen!$B$7:$B$206,">"&AO7,Buchungen!$G$7:$G$206,"Eigennutzung")=1,3,IF(COUNTIFS(Buchungen!$A$7:$A$206,"<="&AO7,Buchungen!$B$7:$B$206,">"&AO7,Buchungen!$G$7:$G$206,"Gesperrt")=1,4,9))))))) -> 0 | ... CR7: =IF(BL7=0,-1,IF(COUNTIFS(Buchungen!$A$7:$A$206,"<="&BL7,Buchungen!$B$7:$B$206,">"&BL7,Buchungen!$G$7:$G$206,"<>Storniert")=0,0,IF(COUNTIFS(Buchungen!$A$7:$A$206,"<="&BL7,Buchungen!$B$7:$B$206,">"&BL7,Buchungen!$G$7:$G$206,"<>Storniert")>1,9,IF(COUNTIFS(Buchungen!$A$7:$A$206,"<="&BL7,Buchungen!$B$7:$B$206,">"&BL7,Buchungen!$G$7:$G$206,"Gebucht")=1,1,IF(COUNTIFS(Buchungen!$A$7:$A$206,"<="&BL7,Buchungen!$B$7:$B$206,">"&BL7,Buchungen!$G$7:$G$206,"Anfrage")=1,2,IF(COUNTIFS(Buchungen!$A$7:$A$206,"<="&BL7,Buchungen!$B$7:$B$206,">"&BL7,Buchungen!$G$7:$G$206,"Eigennutzung")=1,3,IF(COUNTIFS(Buchungen!$A$7:$A$206,"<="&BL7,Buchungen!$B$7:$B$206,">"&BL7,Buchungen!$G$7:$G$206,"Gesperrt")=1,4,9))))))) -> -1
A8: März | B8: =IF(AH8=0,"",IF(AND(COUNTIFS(Buchungen!$A$7:$A$206,AH8,Buchungen!$G$7:$G$206,"<>Storniert")>0,COUNTIFS(Buchungen!$B$7:$B$206,AH8,Buchungen!$G$7:$G$206,"<>Storniert")>0),"W",IF(COUNTIFS(Buchungen!$A$7:$A$206,AH8,Buchungen!$G$7:$G$206,"<>Storniert")>0,"An",IF(COUNTIFS(Buchungen!$B$7:$B$206,AH8,Buchungen!$G$7:$G$206,"<>Storniert")>0,"Ab","")))) | C8: =IF(AI8=0,"",IF(AND(COUNTIFS(Buchungen!$A$7:$A$206,AI8,Buchungen!$G$7:$G$206,"<>Storniert")>0,COUNTIFS(Buchungen!$B$7:$B$206,AI8,Buchungen!$G$7:$G$206,"<>Storniert")>0),"W",IF(COUNTIFS(Buchungen!$A$7:$A$206,AI8,Buchungen!$G$7:$G$206,"<>Storniert")>0,"An",IF(COUNTIFS(Buchungen!$B$7:$B$206,AI8,Buchungen!$G$7:$G$206,"<>Storniert")>0,"Ab","")))) | D8: =IF(AJ8=0,"",IF(AND(COUNTIFS(Buchungen!$A$7:$A$206,AJ8,Buchungen!$G$7:$G$206,"<>Storniert")>0,COUNTIFS(Buchungen!$B$7:$B$206,AJ8,Buchungen!$G$7:$G$206,"<>Storniert")>0),"W",IF(COUNTIFS(Buchungen!$A$7:$A$206,AJ8,Buchungen!$G$7:$G$206,"<>Storniert")>0,"An",IF(COUNTIFS(Buchungen!$B$7:$B$206,AJ8,Buchungen!$G$7:$G$206,"<>Storniert")>0,"Ab","")))) | E8: =IF(AK8=0,"",IF(AND(COUNTIFS(Buchungen!$A$7:$A$206,AK8,Buchungen!$G$7:$G$206,"<>Storniert")>0,COUNTIFS(Buchungen!$B$7:$B$206,AK8,Buchungen!$G$7:$G$206,"<>Storniert")>0),"W",IF(COUNTIFS(Buchungen!$A$7:$A$206,AK8,Buchungen!$G$7:$G$206,"<>Storniert")>0,"An",IF(COUNTIFS(Buchungen!$B$7:$B$206,AK8,Buchungen!$G$7:$G$206,"<>Storniert")>0,"Ab","")))) | F8: =IF(AL8=0,"",IF(AND(COUNTIFS(Buchungen!$A$7:$A$206,AL8,Buchungen!$G$7:$G$206,"<>Storniert")>0,COUNTIFS(Buchungen!$B$7:$B$206,AL8,Buchungen!$G$7:$G$206,"<>Storniert")>0),"W",IF(COUNTIFS(Buchungen!$A$7:$A$206,AL8,Buchungen!$G$7:$G$206,"<>Storniert")>0,"An",IF(COUNTIFS(Buchungen!$B$7:$B$206,AL8,Buchungen!$G$7:$G$206,"<>Storniert")>0,"Ab","")))) | G8: =IF(AM8=0,"",IF(AND(COUNTIFS(Buchungen!$A$7:$A$206,AM8,Buchungen!$G$7:$G$206,"<>Storniert")>0,COUNTIFS(Buchungen!$B$7:$B$206,AM8,Buchungen!$G$7:$G$206,"<>Storniert")>0),"W",IF(COUNTIFS(Buchungen!$A$7:$A$206,AM8,Buchungen!$G$7:$G$206,"<>Storniert")>0,"An",IF(COUNTIFS(Buchungen!$B$7:$B$206,AM8,Buchungen!$G$7:$G$206,"<>Storniert")>0,"Ab","")))) | H8: =IF(AN8=0,"",IF(AND(COUNTIFS(Buchungen!$A$7:$A$206,AN8,Buchungen!$G$7:$G$206,"<>Storniert")>0,COUNTIFS(Buchungen!$B$7:$B$206,AN8,Buchungen!$G$7:$G$206,"<>Storniert")>0),"W",IF(COUNTIFS(Buchungen!$A$7:$A$206,AN8,Buchungen!$G$7:$G$206,"<>Storniert")>0,"An",IF(COUNTIFS(Buchungen!$B$7:$B$206,AN8,Buchungen!$G$7:$G$206,"<>Storniert")>0,"Ab","")))) | I8: =IF(AO8=0,"",IF(AND(COUNTIFS(Buchungen!$A$7:$A$206,AO8,Buchungen!$G$7:$G$206,"<>Storniert")>0,COUNTIFS(Buchungen!$B$7:$B$206,AO8,Buchungen!$G$7:$G$206,"<>Storniert")>0),"W",IF(COUNTIFS(Buchungen!$A$7:$A$206,AO8,Buchungen!$G$7:$G$206,"<>Storniert")>0,"An",IF(COUNTIFS(Buchungen!$B$7:$B$206,AO8,Buchungen!$G$7:$G$206,"<>Storniert")>0,"Ab","")))) | ... AF8: =IF(BL8=0,"",IF(AND(COUNTIFS(Buchungen!$A$7:$A$206,BL8,Buchungen!$G$7:$G$206,"<>Storniert")>0,COUNTIFS(Buchungen!$B$7:$B$206,BL8,Buchungen!$G$7:$G$206,"<>Storniert")>0),"W",IF(COUNTIFS(Buchungen!$A$7:$A$206,BL8,Buchungen!$G$7:$G$206,"<>Storniert")>0,"An",IF(COUNTIFS(Buchungen!$B$7:$B$206,BL8,Buchungen!$G$7:$G$206,"<>Storniert")>0,"Ab","")))) | AH8: =IF(MONTH(DATE(Einstellungen!$B$5,3,B$5))=3,DATE(Einstellungen!$B$5,3,B$5),0) -> 46447 | AI8: =IF(MONTH(DATE(Einstellungen!$B$5,3,C$5))=3,DATE(Einstellungen!$B$5,3,C$5),0) -> 46448 | AJ8: =IF(MONTH(DATE(Einstellungen!$B$5,3,D$5))=3,DATE(Einstellungen!$B$5,3,D$5),0) -> 46449 | AK8: =IF(MONTH(DATE(Einstellungen!$B$5,3,E$5))=3,DATE(Einstellungen!$B$5,3,E$5),0) -> 46450 | AL8: =IF(MONTH(DATE(Einstellungen!$B$5,3,F$5))=3,DATE(Einstellungen!$B$5,3,F$5),0) -> 46451 | AM8: =IF(MONTH(DATE(Einstellungen!$B$5,3,G$5))=3,DATE(Einstellungen!$B$5,3,G$5),0) -> 46452 | AN8: =IF(MONTH(DATE(Einstellungen!$B$5,3,H$5))=3,DATE(Einstellungen!$B$5,3,H$5),0) -> 46453 | AO8: =IF(MONTH(DATE(Einstellungen!$B$5,3,I$5))=3,DATE(Einstellungen!$B$5,3,I$5),0) -> 46454 | ... BL8: =IF(MONTH(DATE(Einstellungen!$B$5,3,AF$5))=3,DATE(Einstellungen!$B$5,3,AF$5),0) -> 46477 | BN8: =IF(AH8=0,-1,IF(COUNTIFS(Buchungen!$A$7:$A$206,"<="&AH8,Buchungen!$B$7:$B$206,">"&AH8,Buchungen!$G$7:$G$206,"<>Storniert")=0,0,IF(COUNTIFS(Buchungen!$A$7:$A$206,"<="&AH8,Buchungen!$B$7:$B$206,">"&AH8,Buchungen!$G$7:$G$206,"<>Storniert")>1,9,IF(COUNTIFS(Buchungen!$A$7:$A$206,"<="&AH8,Buchungen!$B$7:$B$206,">"&AH8,Buchungen!$G$7:$G$206,"Gebucht")=1,1,IF(COUNTIFS(Buchungen!$A$7:$A$206,"<="&AH8,Buchungen!$B$7:$B$206,">"&AH8,Buchungen!$G$7:$G$206,"Anfrage")=1,2,IF(COUNTIFS(Buchungen!$A$7:$A$206,"<="&AH8,Buchungen!$B$7:$B$206,">"&AH8,Buchungen!$G$7:$G$206,"Eigennutzung")=1,3,IF(COUNTIFS(Buchungen!$A$7:$A$206,"<="&AH8,Buchungen!$B$7:$B$206,">"&AH8,Buchungen!$G$7:$G$206,"Gesperrt")=1,4,9))))))) -> 0 | BO8: =IF(AI8=0,-1,IF(COUNTIFS(Buchungen!$A$7:$A$206,"<="&AI8,Buchungen!$B$7:$B$206,">"&AI8,Buchungen!$G$7:$G$206,"<>Storniert")=0,0,IF(COUNTIFS(Buchungen!$A$7:$A$206,"<="&AI8,Buchungen!$B$7:$B$206,">"&AI8,Buchungen!$G$7:$G$206,"<>Storniert")>1,9,IF(COUNTIFS(Buchungen!$A$7:$A$206,"<="&AI8,Buchungen!$B$7:$B$206,">"&AI8,Buchungen!$G$7:$G$206,"Gebucht")=1,1,IF(COUNTIFS(Buchungen!$A$7:$A$206,"<="&AI8,Buchungen!$B$7:$B$206,">"&AI8,Buchungen!$G$7:$G$206,"Anfrage")=1,2,IF(COUNTIFS(Buchungen!$A$7:$A$206,"<="&AI8,Buchungen!$B$7:$B$206,">"&AI8,Buchungen!$G$7:$G$206,"Eigennutzung")=1,3,IF(COUNTIFS(Buchungen!$A$7:$A$206,"<="&AI8,Buchungen!$B$7:$B$206,">"&AI8,Buchungen!$G$7:$G$206,"Gesperrt")=1,4,9))))))) -> 0 | BP8: =IF(AJ8=0,-1,IF(COUNTIFS(Buchungen!$A$7:$A$206,"<="&AJ8,Buchungen!$B$7:$B$206,">"&AJ8,Buchungen!$G$7:$G$206,"<>Storniert")=0,0,IF(COUNTIFS(Buchungen!$A$7:$A$206,"<="&AJ8,Buchungen!$B$7:$B$206,">"&AJ8,Buchungen!$G$7:$G$206,"<>Storniert")>1,9,IF(COUNTIFS(Buchungen!$A$7:$A$206,"<="&AJ8,Buchungen!$B$7:$B$206,">"&AJ8,Buchungen!$G$7:$G$206,"Gebucht")=1,1,IF(COUNTIFS(Buchungen!$A$7:$A$206,"<="&AJ8,Buchungen!$B$7:$B$206,">"&AJ8,Buchungen!$G$7:$G$206,"Anfrage")=1,2,IF(COUNTIFS(Buchungen!$A$7:$A$206,"<="&AJ8,Buchungen!$B$7:$B$206,">"&AJ8,Buchungen!$G$7:$G$206,"Eigennutzung")=1,3,IF(COUNTIFS(Buchungen!$A$7:$A$206,"<="&AJ8,Buchungen!$B$7:$B$206,">"&AJ8,Buchungen!$G$7:$G$206,"Gesperrt")=1,4,9))))))) -> 0 | BQ8: =IF(AK8=0,-1,IF(COUNTIFS(Buchungen!$A$7:$A$206,"<="&AK8,Buchungen!$B$7:$B$206,">"&AK8,Buchungen!$G$7:$G$206,"<>Storniert")=0,0,IF(COUNTIFS(Buchungen!$A$7:$A$206,"<="&AK8,Buchungen!$B$7:$B$206,">"&AK8,Buchungen!$G$7:$G$206,"<>Storniert")>1,9,IF(COUNTIFS(Buchungen!$A$7:$A$206,"<="&AK8,Buchungen!$B$7:$B$206,">"&AK8,Buchungen!$G$7:$G$206,"Gebucht")=1,1,IF(COUNTIFS(Buchungen!$A$7:$A$206,"<="&AK8,Buchungen!$B$7:$B$206,">"&AK8,Buchungen!$G$7:$G$206,"Anfrage")=1,2,IF(COUNTIFS(Buchungen!$A$7:$A$206,"<="&AK8,Buchungen!$B$7:$B$206,">"&AK8,Buchungen!$G$7:$G$206,"Eigennutzung")=1,3,IF(COUNTIFS(Buchungen!$A$7:$A$206,"<="&AK8,Buchungen!$B$7:$B$206,">"&AK8,Buchungen!$G$7:$G$206,"Gesperrt")=1,4,9))))))) -> 0 | BR8: =IF(AL8=0,-1,IF(COUNTIFS(Buchungen!$A$7:$A$206,"<="&AL8,Buchungen!$B$7:$B$206,">"&AL8,Buchungen!$G$7:$G$206,"<>Storniert")=0,0,IF(COUNTIFS(Buchungen!$A$7:$A$206,"<="&AL8,Buchungen!$B$7:$B$206,">"&AL8,Buchungen!$G$7:$G$206,"<>Storniert")>1,9,IF(COUNTIFS(Buchungen!$A$7:$A$206,"<="&AL8,Buchungen!$B$7:$B$206,">"&AL8,Buchungen!$G$7:$G$206,"Gebucht")=1,1,IF(COUNTIFS(Buchungen!$A$7:$A$206,"<="&AL8,Buchungen!$B$7:$B$206,">"&AL8,Buchungen!$G$7:$G$206,"Anfrage")=1,2,IF(COUNTIFS(Buchungen!$A$7:$A$206,"<="&AL8,Buchungen!$B$7:$B$206,">"&AL8,Buchungen!$G$7:$G$206,"Eigennutzung")=1,3,IF(COUNTIFS(Buchungen!$A$7:$A$206,"<="&AL8,Buchungen!$B$7:$B$206,">"&AL8,Buchungen!$G$7:$G$206,"Gesperrt")=1,4,9))))))) -> 0 | BS8: =IF(AM8=0,-1,IF(COUNTIFS(Buchungen!$A$7:$A$206,"<="&AM8,Buchungen!$B$7:$B$206,">"&AM8,Buchungen!$G$7:$G$206,"<>Storniert")=0,0,IF(COUNTIFS(Buchungen!$A$7:$A$206,"<="&AM8,Buchungen!$B$7:$B$206,">"&AM8,Buchungen!$G$7:$G$206,"<>Storniert")>1,9,IF(COUNTIFS(Buchungen!$A$7:$A$206,"<="&AM8,Buchungen!$B$7:$B$206,">"&AM8,Buchungen!$G$7:$G$206,"Gebucht")=1,1,IF(COUNTIFS(Buchungen!$A$7:$A$206,"<="&AM8,Buchungen!$B$7:$B$206,">"&AM8,Buchungen!$G$7:$G$206,"Anfrage")=1,2,IF(COUNTIFS(Buchungen!$A$7:$A$206,"<="&AM8,Buchungen!$B$7:$B$206,">"&AM8,Buchungen!$G$7:$G$206,"Eigennutzung")=1,3,IF(COUNTIFS(Buchungen!$A$7:$A$206,"<="&AM8,Buchungen!$B$7:$B$206,">"&AM8,Buchungen!$G$7:$G$206,"Gesperrt")=1,4,9))))))) -> 0 | BT8: =IF(AN8=0,-1,IF(COUNTIFS(Buchungen!$A$7:$A$206,"<="&AN8,Buchungen!$B$7:$B$206,">"&AN8,Buchungen!$G$7:$G$206,"<>Storniert")=0,0,IF(COUNTIFS(Buchungen!$A$7:$A$206,"<="&AN8,Buchungen!$B$7:$B$206,">"&AN8,Buchungen!$G$7:$G$206,"<>Storniert")>1,9,IF(COUNTIFS(Buchungen!$A$7:$A$206,"<="&AN8,Buchungen!$B$7:$B$206,">"&AN8,Buchungen!$G$7:$G$206,"Gebucht")=1,1,IF(COUNTIFS(Buchungen!$A$7:$A$206,"<="&AN8,Buchungen!$B$7:$B$206,">"&AN8,Buchungen!$G$7:$G$206,"Anfrage")=1,2,IF(COUNTIFS(Buchungen!$A$7:$A$206,"<="&AN8,Buchungen!$B$7:$B$206,">"&AN8,Buchungen!$G$7:$G$206,"Eigennutzung")=1,3,IF(COUNTIFS(Buchungen!$A$7:$A$206,"<="&AN8,Buchungen!$B$7:$B$206,">"&AN8,Buchungen!$G$7:$G$206,"Gesperrt")=1,4,9))))))) -> 0 | BU8: =IF(AO8=0,-1,IF(COUNTIFS(Buchungen!$A$7:$A$206,"<="&AO8,Buchungen!$B$7:$B$206,">"&AO8,Buchungen!$G$7:$G$206,"<>Storniert")=0,0,IF(COUNTIFS(Buchungen!$A$7:$A$206,"<="&AO8,Buchungen!$B$7:$B$206,">"&AO8,Buchungen!$G$7:$G$206,"<>Storniert")>1,9,IF(COUNTIFS(Buchungen!$A$7:$A$206,"<="&AO8,Buchungen!$B$7:$B$206,">"&AO8,Buchungen!$G$7:$G$206,"Gebucht")=1,1,IF(COUNTIFS(Buchungen!$A$7:$A$206,"<="&AO8,Buchungen!$B$7:$B$206,">"&AO8,Buchungen!$G$7:$G$206,"Anfrage")=1,2,IF(COUNTIFS(Buchungen!$A$7:$A$206,"<="&AO8,Buchungen!$B$7:$B$206,">"&AO8,Buchungen!$G$7:$G$206,"Eigennutzung")=1,3,IF(COUNTIFS(Buchungen!$A$7:$A$206,"<="&AO8,Buchungen!$B$7:$B$206,">"&AO8,Buchungen!$G$7:$G$206,"Gesperrt")=1,4,9))))))) -> 0 | ... CR8: =IF(BL8=0,-1,IF(COUNTIFS(Buchungen!$A$7:$A$206,"<="&BL8,Buchungen!$B$7:$B$206,">"&BL8,Buchungen!$G$7:$G$206,"<>Storniert")=0,0,IF(COUNTIFS(Buchungen!$A$7:$A$206,"<="&BL8,Buchungen!$B$7:$B$206,">"&BL8,Buchungen!$G$7:$G$206,"<>Storniert")>1,9,IF(COUNTIFS(Buchungen!$A$7:$A$206,"<="&BL8,Buchungen!$B$7:$B$206,">"&BL8,Buchungen!$G$7:$G$206,"Gebucht")=1,1,IF(COUNTIFS(Buchungen!$A$7:$A$206,"<="&BL8,Buchungen!$B$7:$B$206,">"&BL8,Buchungen!$G$7:$G$206,"Anfrage")=1,2,IF(COUNTIFS(Buchungen!$A$7:$A$206,"<="&BL8,Buchungen!$B$7:$B$206,">"&BL8,Buchungen!$G$7:$G$206,"Eigennutzung")=1,3,IF(COUNTIFS(Buchungen!$A$7:$A$206,"<="&BL8,Buchungen!$B$7:$B$206,">"&BL8,Buchungen!$G$7:$G$206,"Gesperrt")=1,4,9))))))) -> 0
A9: April | B9: =IF(AH9=0,"",IF(AND(COUNTIFS(Buchungen!$A$7:$A$206,AH9,Buchungen!$G$7:$G$206,"<>Storniert")>0,COUNTIFS(Buchungen!$B$7:$B$206,AH9,Buchungen!$G$7:$G$206,"<>Storniert")>0),"W",IF(COUNTIFS(Buchungen!$A$7:$A$206,AH9,Buchungen!$G$7:$G$206,"<>Storniert")>0,"An",IF(COUNTIFS(Buchungen!$B$7:$B$206,AH9,Buchungen!$G$7:$G$206,"<>Storniert")>0,"Ab","")))) | C9: =IF(AI9=0,"",IF(AND(COUNTIFS(Buchungen!$A$7:$A$206,AI9,Buchungen!$G$7:$G$206,"<>Storniert")>0,COUNTIFS(Buchungen!$B$7:$B$206,AI9,Buchungen!$G$7:$G$206,"<>Storniert")>0),"W",IF(COUNTIFS(Buchungen!$A$7:$A$206,AI9,Buchungen!$G$7:$G$206,"<>Storniert")>0,"An",IF(COUNTIFS(Buchungen!$B$7:$B$206,AI9,Buchungen!$G$7:$G$206,"<>Storniert")>0,"Ab","")))) | D9: =IF(AJ9=0,"",IF(AND(COUNTIFS(Buchungen!$A$7:$A$206,AJ9,Buchungen!$G$7:$G$206,"<>Storniert")>0,COUNTIFS(Buchungen!$B$7:$B$206,AJ9,Buchungen!$G$7:$G$206,"<>Storniert")>0),"W",IF(COUNTIFS(Buchungen!$A$7:$A$206,AJ9,Buchungen!$G$7:$G$206,"<>Storniert")>0,"An",IF(COUNTIFS(Buchungen!$B$7:$B$206,AJ9,Buchungen!$G$7:$G$206,"<>Storniert")>0,"Ab","")))) | E9: =IF(AK9=0,"",IF(AND(COUNTIFS(Buchungen!$A$7:$A$206,AK9,Buchungen!$G$7:$G$206,"<>Storniert")>0,COUNTIFS(Buchungen!$B$7:$B$206,AK9,Buchungen!$G$7:$G$206,"<>Storniert")>0),"W",IF(COUNTIFS(Buchungen!$A$7:$A$206,AK9,Buchungen!$G$7:$G$206,"<>Storniert")>0,"An",IF(COUNTIFS(Buchungen!$B$7:$B$206,AK9,Buchungen!$G$7:$G$206,"<>Storniert")>0,"Ab","")))) | F9: =IF(AL9=0,"",IF(AND(COUNTIFS(Buchungen!$A$7:$A$206,AL9,Buchungen!$G$7:$G$206,"<>Storniert")>0,COUNTIFS(Buchungen!$B$7:$B$206,AL9,Buchungen!$G$7:$G$206,"<>Storniert")>0),"W",IF(COUNTIFS(Buchungen!$A$7:$A$206,AL9,Buchungen!$G$7:$G$206,"<>Storniert")>0,"An",IF(COUNTIFS(Buchungen!$B$7:$B$206,AL9,Buchungen!$G$7:$G$206,"<>Storniert")>0,"Ab","")))) | G9: =IF(AM9=0,"",IF(AND(COUNTIFS(Buchungen!$A$7:$A$206,AM9,Buchungen!$G$7:$G$206,"<>Storniert")>0,COUNTIFS(Buchungen!$B$7:$B$206,AM9,Buchungen!$G$7:$G$206,"<>Storniert")>0),"W",IF(COUNTIFS(Buchungen!$A$7:$A$206,AM9,Buchungen!$G$7:$G$206,"<>Storniert")>0,"An",IF(COUNTIFS(Buchungen!$B$7:$B$206,AM9,Buchungen!$G$7:$G$206,"<>Storniert")>0,"Ab","")))) | H9: =IF(AN9=0,"",IF(AND(COUNTIFS(Buchungen!$A$7:$A$206,AN9,Buchungen!$G$7:$G$206,"<>Storniert")>0,COUNTIFS(Buchungen!$B$7:$B$206,AN9,Buchungen!$G$7:$G$206,"<>Storniert")>0),"W",IF(COUNTIFS(Buchungen!$A$7:$A$206,AN9,Buchungen!$G$7:$G$206,"<>Storniert")>0,"An",IF(COUNTIFS(Buchungen!$B$7:$B$206,AN9,Buchungen!$G$7:$G$206,"<>Storniert")>0,"Ab","")))) | I9: =IF(AO9=0,"",IF(AND(COUNTIFS(Buchungen!$A$7:$A$206,AO9,Buchungen!$G$7:$G$206,"<>Storniert")>0,COUNTIFS(Buchungen!$B$7:$B$206,AO9,Buchungen!$G$7:$G$206,"<>Storniert")>0),"W",IF(COUNTIFS(Buchungen!$A$7:$A$206,AO9,Buchungen!$G$7:$G$206,"<>Storniert")>0,"An",IF(COUNTIFS(Buchungen!$B$7:$B$206,AO9,Buchungen!$G$7:$G$206,"<>Storniert")>0,"Ab","")))) | ... AF9: =IF(BL9=0,"",IF(AND(COUNTIFS(Buchungen!$A$7:$A$206,BL9,Buchungen!$G$7:$G$206,"<>Storniert")>0,COUNTIFS(Buchungen!$B$7:$B$206,BL9,Buchungen!$G$7:$G$206,"<>Storniert")>0),"W",IF(COUNTIFS(Buchungen!$A$7:$A$206,BL9,Buchungen!$G$7:$G$206,"<>Storniert")>0,"An",IF(COUNTIFS(Buchungen!$B$7:$B$206,BL9,Buchungen!$G$7:$G$206,"<>Storniert")>0,"Ab","")))) | AH9: =IF(MONTH(DATE(Einstellungen!$B$5,4,B$5))=4,DATE(Einstellungen!$B$5,4,B$5),0) -> 46478 | AI9: =IF(MONTH(DATE(Einstellungen!$B$5,4,C$5))=4,DATE(Einstellungen!$B$5,4,C$5),0) -> 46479 | AJ9: =IF(MONTH(DATE(Einstellungen!$B$5,4,D$5))=4,DATE(Einstellungen!$B$5,4,D$5),0) -> 46480 | AK9: =IF(MONTH(DATE(Einstellungen!$B$5,4,E$5))=4,DATE(Einstellungen!$B$5,4,E$5),0) -> 46481 | AL9: =IF(MONTH(DATE(Einstellungen!$B$5,4,F$5))=4,DATE(Einstellungen!$B$5,4,F$5),0) -> 46482 | AM9: =IF(MONTH(DATE(Einstellungen!$B$5,4,G$5))=4,DATE(Einstellungen!$B$5,4,G$5),0) -> 46483 | AN9: =IF(MONTH(DATE(Einstellungen!$B$5,4,H$5))=4,DATE(Einstellungen!$B$5,4,H$5),0) -> 46484 | AO9: =IF(MONTH(DATE(Einstellungen!$B$5,4,I$5))=4,DATE(Einstellungen!$B$5,4,I$5),0) -> 46485 | ... BL9: =IF(MONTH(DATE(Einstellungen!$B$5,4,AF$5))=4,DATE(Einstellungen!$B$5,4,AF$5),0) -> 0 | BN9: =IF(AH9=0,-1,IF(COUNTIFS(Buchungen!$A$7:$A$206,"<="&AH9,Buchungen!$B$7:$B$206,">"&AH9,Buchungen!$G$7:$G$206,"<>Storniert")=0,0,IF(COUNTIFS(Buchungen!$A$7:$A$206,"<="&AH9,Buchungen!$B$7:$B$206,">"&AH9,Buchungen!$G$7:$G$206,"<>Storniert")>1,9,IF(COUNTIFS(Buchungen!$A$7:$A$206,"<="&AH9,Buchungen!$B$7:$B$206,">"&AH9,Buchungen!$G$7:$G$206,"Gebucht")=1,1,IF(COUNTIFS(Buchungen!$A$7:$A$206,"<="&AH9,Buchungen!$B$7:$B$206,">"&AH9,Buchungen!$G$7:$G$206,"Anfrage")=1,2,IF(COUNTIFS(Buchungen!$A$7:$A$206,"<="&AH9,Buchungen!$B$7:$B$206,">"&AH9,Buchungen!$G$7:$G$206,"Eigennutzung")=1,3,IF(COUNTIFS(Buchungen!$A$7:$A$206,"<="&AH9,Buchungen!$B$7:$B$206,">"&AH9,Buchungen!$G$7:$G$206,"Gesperrt")=1,4,9))))))) -> 0 | BO9: =IF(AI9=0,-1,IF(COUNTIFS(Buchungen!$A$7:$A$206,"<="&AI9,Buchungen!$B$7:$B$206,">"&AI9,Buchungen!$G$7:$G$206,"<>Storniert")=0,0,IF(COUNTIFS(Buchungen!$A$7:$A$206,"<="&AI9,Buchungen!$B$7:$B$206,">"&AI9,Buchungen!$G$7:$G$206,"<>Storniert")>1,9,IF(COUNTIFS(Buchungen!$A$7:$A$206,"<="&AI9,Buchungen!$B$7:$B$206,">"&AI9,Buchungen!$G$7:$G$206,"Gebucht")=1,1,IF(COUNTIFS(Buchungen!$A$7:$A$206,"<="&AI9,Buchungen!$B$7:$B$206,">"&AI9,Buchungen!$G$7:$G$206,"Anfrage")=1,2,IF(COUNTIFS(Buchungen!$A$7:$A$206,"<="&AI9,Buchungen!$B$7:$B$206,">"&AI9,Buchungen!$G$7:$G$206,"Eigennutzung")=1,3,IF(COUNTIFS(Buchungen!$A$7:$A$206,"<="&AI9,Buchungen!$B$7:$B$206,">"&AI9,Buchungen!$G$7:$G$206,"Gesperrt")=1,4,9))))))) -> 0 | BP9: =IF(AJ9=0,-1,IF(COUNTIFS(Buchungen!$A$7:$A$206,"<="&AJ9,Buchungen!$B$7:$B$206,">"&AJ9,Buchungen!$G$7:$G$206,"<>Storniert")=0,0,IF(COUNTIFS(Buchungen!$A$7:$A$206,"<="&AJ9,Buchungen!$B$7:$B$206,">"&AJ9,Buchungen!$G$7:$G$206,"<>Storniert")>1,9,IF(COUNTIFS(Buchungen!$A$7:$A$206,"<="&AJ9,Buchungen!$B$7:$B$206,">"&AJ9,Buchungen!$G$7:$G$206,"Gebucht")=1,1,IF(COUNTIFS(Buchungen!$A$7:$A$206,"<="&AJ9,Buchungen!$B$7:$B$206,">"&AJ9,Buchungen!$G$7:$G$206,"Anfrage")=1,2,IF(COUNTIFS(Buchungen!$A$7:$A$206,"<="&AJ9,Buchungen!$B$7:$B$206,">"&AJ9,Buchungen!$G$7:$G$206,"Eigennutzung")=1,3,IF(COUNTIFS(Buchungen!$A$7:$A$206,"<="&AJ9,Buchungen!$B$7:$B$206,">"&AJ9,Buchungen!$G$7:$G$206,"Gesperrt")=1,4,9))))))) -> 0 | BQ9: =IF(AK9=0,-1,IF(COUNTIFS(Buchungen!$A$7:$A$206,"<="&AK9,Buchungen!$B$7:$B$206,">"&AK9,Buchungen!$G$7:$G$206,"<>Storniert")=0,0,IF(COUNTIFS(Buchungen!$A$7:$A$206,"<="&AK9,Buchungen!$B$7:$B$206,">"&AK9,Buchungen!$G$7:$G$206,"<>Storniert")>1,9,IF(COUNTIFS(Buchungen!$A$7:$A$206,"<="&AK9,Buchungen!$B$7:$B$206,">"&AK9,Buchungen!$G$7:$G$206,"Gebucht")=1,1,IF(COUNTIFS(Buchungen!$A$7:$A$206,"<="&AK9,Buchungen!$B$7:$B$206,">"&AK9,Buchungen!$G$7:$G$206,"Anfrage")=1,2,IF(COUNTIFS(Buchungen!$A$7:$A$206,"<="&AK9,Buchungen!$B$7:$B$206,">"&AK9,Buchungen!$G$7:$G$206,"Eigennutzung")=1,3,IF(COUNTIFS(Buchungen!$A$7:$A$206,"<="&AK9,Buchungen!$B$7:$B$206,">"&AK9,Buchungen!$G$7:$G$206,"Gesperrt")=1,4,9))))))) -> 0 | BR9: =IF(AL9=0,-1,IF(COUNTIFS(Buchungen!$A$7:$A$206,"<="&AL9,Buchungen!$B$7:$B$206,">"&AL9,Buchungen!$G$7:$G$206,"<>Storniert")=0,0,IF(COUNTIFS(Buchungen!$A$7:$A$206,"<="&AL9,Buchungen!$B$7:$B$206,">"&AL9,Buchungen!$G$7:$G$206,"<>Storniert")>1,9,IF(COUNTIFS(Buchungen!$A$7:$A$206,"<="&AL9,Buchungen!$B$7:$B$206,">"&AL9,Buchungen!$G$7:$G$206,"Gebucht")=1,1,IF(COUNTIFS(Buchungen!$A$7:$A$206,"<="&AL9,Buchungen!$B$7:$B$206,">"&AL9,Buchungen!$G$7:$G$206,"Anfrage")=1,2,IF(COUNTIFS(Buchungen!$A$7:$A$206,"<="&AL9,Buchungen!$B$7:$B$206,">"&AL9,Buchungen!$G$7:$G$206,"Eigennutzung")=1,3,IF(COUNTIFS(Buchungen!$A$7:$A$206,"<="&AL9,Buchungen!$B$7:$B$206,">"&AL9,Buchungen!$G$7:$G$206,"Gesperrt")=1,4,9))))))) -> 0 | BS9: =IF(AM9=0,-1,IF(COUNTIFS(Buchungen!$A$7:$A$206,"<="&AM9,Buchungen!$B$7:$B$206,">"&AM9,Buchungen!$G$7:$G$206,"<>Storniert")=0,0,IF(COUNTIFS(Buchungen!$A$7:$A$206,"<="&AM9,Buchungen!$B$7:$B$206,">"&AM9,Buchungen!$G$7:$G$206,"<>Storniert")>1,9,IF(COUNTIFS(Buchungen!$A$7:$A$206,"<="&AM9,Buchungen!$B$7:$B$206,">"&AM9,Buchungen!$G$7:$G$206,"Gebucht")=1,1,IF(COUNTIFS(Buchungen!$A$7:$A$206,"<="&AM9,Buchungen!$B$7:$B$206,">"&AM9,Buchungen!$G$7:$G$206,"Anfrage")=1,2,IF(COUNTIFS(Buchungen!$A$7:$A$206,"<="&AM9,Buchungen!$B$7:$B$206,">"&AM9,Buchungen!$G$7:$G$206,"Eigennutzung")=1,3,IF(COUNTIFS(Buchungen!$A$7:$A$206,"<="&AM9,Buchungen!$B$7:$B$206,">"&AM9,Buchungen!$G$7:$G$206,"Gesperrt")=1,4,9))))))) -> 0 | BT9: =IF(AN9=0,-1,IF(COUNTIFS(Buchungen!$A$7:$A$206,"<="&AN9,Buchungen!$B$7:$B$206,">"&AN9,Buchungen!$G$7:$G$206,"<>Storniert")=0,0,IF(COUNTIFS(Buchungen!$A$7:$A$206,"<="&AN9,Buchungen!$B$7:$B$206,">"&AN9,Buchungen!$G$7:$G$206,"<>Storniert")>1,9,IF(COUNTIFS(Buchungen!$A$7:$A$206,"<="&AN9,Buchungen!$B$7:$B$206,">"&AN9,Buchungen!$G$7:$G$206,"Gebucht")=1,1,IF(COUNTIFS(Buchungen!$A$7:$A$206,"<="&AN9,Buchungen!$B$7:$B$206,">"&AN9,Buchungen!$G$7:$G$206,"Anfrage")=1,2,IF(COUNTIFS(Buchungen!$A$7:$A$206,"<="&AN9,Buchungen!$B$7:$B$206,">"&AN9,Buchungen!$G$7:$G$206,"Eigennutzung")=1,3,IF(COUNTIFS(Buchungen!$A$7:$A$206,"<="&AN9,Buchungen!$B$7:$B$206,">"&AN9,Buchungen!$G$7:$G$206,"Gesperrt")=1,4,9))))))) -> 0 | BU9: =IF(AO9=0,-1,IF(COUNTIFS(Buchungen!$A$7:$A$206,"<="&AO9,Buchungen!$B$7:$B$206,">"&AO9,Buchungen!$G$7:$G$206,"<>Storniert")=0,0,IF(COUNTIFS(Buchungen!$A$7:$A$206,"<="&AO9,Buchungen!$B$7:$B$206,">"&AO9,Buchungen!$G$7:$G$206,"<>Storniert")>1,9,IF(COUNTIFS(Buchungen!$A$7:$A$206,"<="&AO9,Buchungen!$B$7:$B$206,">"&AO9,Buchungen!$G$7:$G$206,"Gebucht")=1,1,IF(COUNTIFS(Buchungen!$A$7:$A$206,"<="&AO9,Buchungen!$B$7:$B$206,">"&AO9,Buchungen!$G$7:$G$206,"Anfrage")=1,2,IF(COUNTIFS(Buchungen!$A$7:$A$206,"<="&AO9,Buchungen!$B$7:$B$206,">"&AO9,Buchungen!$G$7:$G$206,"Eigennutzung")=1,3,IF(COUNTIFS(Buchungen!$A$7:$A$206,"<="&AO9,Buchungen!$B$7:$B$206,">"&AO9,Buchungen!$G$7:$G$206,"Gesperrt")=1,4,9))))))) -> 0 | ... CR9: =IF(BL9=0,-1,IF(COUNTIFS(Buchungen!$A$7:$A$206,"<="&BL9,Buchungen!$B$7:$B$206,">"&BL9,Buchungen!$G$7:$G$206,"<>Storniert")=0,0,IF(COUNTIFS(Buchungen!$A$7:$A$206,"<="&BL9,Buchungen!$B$7:$B$206,">"&BL9,Buchungen!$G$7:$G$206,"<>Storniert")>1,9,IF(COUNTIFS(Buchungen!$A$7:$A$206,"<="&BL9,Buchungen!$B$7:$B$206,">"&BL9,Buchungen!$G$7:$G$206,"Gebucht")=1,1,IF(COUNTIFS(Buchungen!$A$7:$A$206,"<="&BL9,Buchungen!$B$7:$B$206,">"&BL9,Buchungen!$G$7:$G$206,"Anfrage")=1,2,IF(COUNTIFS(Buchungen!$A$7:$A$206,"<="&BL9,Buchungen!$B$7:$B$206,">"&BL9,Buchungen!$G$7:$G$206,"Eigennutzung")=1,3,IF(COUNTIFS(Buchungen!$A$7:$A$206,"<="&BL9,Buchungen!$B$7:$B$206,">"&BL9,Buchungen!$G$7:$G$206,"Gesperrt")=1,4,9))))))) -> -1
A10: Mai | B10: =IF(AH10=0,"",IF(AND(COUNTIFS(Buchungen!$A$7:$A$206,AH10,Buchungen!$G$7:$G$206,"<>Storniert")>0,COUNTIFS(Buchungen!$B$7:$B$206,AH10,Buchungen!$G$7:$G$206,"<>Storniert")>0),"W",IF(COUNTIFS(Buchungen!$A$7:$A$206,AH10,Buchungen!$G$7:$G$206,"<>Storniert")>0,"An",IF(COUNTIFS(Buchungen!$B$7:$B$206,AH10,Buchungen!$G$7:$G$206,"<>Storniert")>0,"Ab","")))) | C10: =IF(AI10=0,"",IF(AND(COUNTIFS(Buchungen!$A$7:$A$206,AI10,Buchungen!$G$7:$G$206,"<>Storniert")>0,COUNTIFS(Buchungen!$B$7:$B$206,AI10,Buchungen!$G$7:$G$206,"<>Storniert")>0),"W",IF(COUNTIFS(Buchungen!$A$7:$A$206,AI10,Buchungen!$G$7:$G$206,"<>Storniert")>0,"An",IF(COUNTIFS(Buchungen!$B$7:$B$206,AI10,Buchungen!$G$7:$G$206,"<>Storniert")>0,"Ab","")))) | D10: =IF(AJ10=0,"",IF(AND(COUNTIFS(Buchungen!$A$7:$A$206,AJ10,Buchungen!$G$7:$G$206,"<>Storniert")>0,COUNTIFS(Buchungen!$B$7:$B$206,AJ10,Buchungen!$G$7:$G$206,"<>Storniert")>0),"W",IF(COUNTIFS(Buchungen!$A$7:$A$206,AJ10,Buchungen!$G$7:$G$206,"<>Storniert")>0,"An",IF(COUNTIFS(Buchungen!$B$7:$B$206,AJ10,Buchungen!$G$7:$G$206,"<>Storniert")>0,"Ab","")))) | E10: =IF(AK10=0,"",IF(AND(COUNTIFS(Buchungen!$A$7:$A$206,AK10,Buchungen!$G$7:$G$206,"<>Storniert")>0,COUNTIFS(Buchungen!$B$7:$B$206,AK10,Buchungen!$G$7:$G$206,"<>Storniert")>0),"W",IF(COUNTIFS(Buchungen!$A$7:$A$206,AK10,Buchungen!$G$7:$G$206,"<>Storniert")>0,"An",IF(COUNTIFS(Buchungen!$B$7:$B$206,AK10,Buchungen!$G$7:$G$206,"<>Storniert")>0,"Ab","")))) | F10: =IF(AL10=0,"",IF(AND(COUNTIFS(Buchungen!$A$7:$A$206,AL10,Buchungen!$G$7:$G$206,"<>Storniert")>0,COUNTIFS(Buchungen!$B$7:$B$206,AL10,Buchungen!$G$7:$G$206,"<>Storniert")>0),"W",IF(COUNTIFS(Buchungen!$A$7:$A$206,AL10,Buchungen!$G$7:$G$206,"<>Storniert")>0,"An",IF(COUNTIFS(Buchungen!$B$7:$B$206,AL10,Buchungen!$G$7:$G$206,"<>Storniert")>0,"Ab","")))) | G10: =IF(AM10=0,"",IF(AND(COUNTIFS(Buchungen!$A$7:$A$206,AM10,Buchungen!$G$7:$G$206,"<>Storniert")>0,COUNTIFS(Buchungen!$B$7:$B$206,AM10,Buchungen!$G$7:$G$206,"<>Storniert")>0),"W",IF(COUNTIFS(Buchungen!$A$7:$A$206,AM10,Buchungen!$G$7:$G$206,"<>Storniert")>0,"An",IF(COUNTIFS(Buchungen!$B$7:$B$206,AM10,Buchungen!$G$7:$G$206,"<>Storniert")>0,"Ab","")))) | H10: =IF(AN10=0,"",IF(AND(COUNTIFS(Buchungen!$A$7:$A$206,AN10,Buchungen!$G$7:$G$206,"<>Storniert")>0,COUNTIFS(Buchungen!$B$7:$B$206,AN10,Buchungen!$G$7:$G$206,"<>Storniert")>0),"W",IF(COUNTIFS(Buchungen!$A$7:$A$206,AN10,Buchungen!$G$7:$G$206,"<>Storniert")>0,"An",IF(COUNTIFS(Buchungen!$B$7:$B$206,AN10,Buchungen!$G$7:$G$206,"<>Storniert")>0,"Ab","")))) | I10: =IF(AO10=0,"",IF(AND(COUNTIFS(Buchungen!$A$7:$A$206,AO10,Buchungen!$G$7:$G$206,"<>Storniert")>0,COUNTIFS(Buchungen!$B$7:$B$206,AO10,Buchungen!$G$7:$G$206,"<>Storniert")>0),"W",IF(COUNTIFS(Buchungen!$A$7:$A$206,AO10,Buchungen!$G$7:$G$206,"<>Storniert")>0,"An",IF(COUNTIFS(Buchungen!$B$7:$B$206,AO10,Buchungen!$G$7:$G$206,"<>Storniert")>0,"Ab","")))) | ... AF10: =IF(BL10=0,"",IF(AND(COUNTIFS(Buchungen!$A$7:$A$206,BL10,Buchungen!$G$7:$G$206,"<>Storniert")>0,COUNTIFS(Buchungen!$B$7:$B$206,BL10,Buchungen!$G$7:$G$206,"<>Storniert")>0),"W",IF(COUNTIFS(Buchungen!$A$7:$A$206,BL10,Buchungen!$G$7:$G$206,"<>Storniert")>0,"An",IF(COUNTIFS(Buchungen!$B$7:$B$206,BL10,Buchungen!$G$7:$G$206,"<>Storniert")>0,"Ab","")))) | AH10: =IF(MONTH(DATE(Einstellungen!$B$5,5,B$5))=5,DATE(Einstellungen!$B$5,5,B$5),0) -> 46508 | AI10: =IF(MONTH(DATE(Einstellungen!$B$5,5,C$5))=5,DATE(Einstellungen!$B$5,5,C$5),0) -> 46509 | AJ10: =IF(MONTH(DATE(Einstellungen!$B$5,5,D$5))=5,DATE(Einstellungen!$B$5,5,D$5),0) -> 46510 | AK10: =IF(MONTH(DATE(Einstellungen!$B$5,5,E$5))=5,DATE(Einstellungen!$B$5,5,E$5),0) -> 46511 | AL10: =IF(MONTH(DATE(Einstellungen!$B$5,5,F$5))=5,DATE(Einstellungen!$B$5,5,F$5),0) -> 46512 | AM10: =IF(MONTH(DATE(Einstellungen!$B$5,5,G$5))=5,DATE(Einstellungen!$B$5,5,G$5),0) -> 46513 | AN10: =IF(MONTH(DATE(Einstellungen!$B$5,5,H$5))=5,DATE(Einstellungen!$B$5,5,H$5),0) -> 46514 | AO10: =IF(MONTH(DATE(Einstellungen!$B$5,5,I$5))=5,DATE(Einstellungen!$B$5,5,I$5),0) -> 46515 | ... BL10: =IF(MONTH(DATE(Einstellungen!$B$5,5,AF$5))=5,DATE(Einstellungen!$B$5,5,AF$5),0) -> 46538 | BN10: =IF(AH10=0,-1,IF(COUNTIFS(Buchungen!$A$7:$A$206,"<="&AH10,Buchungen!$B$7:$B$206,">"&AH10,Buchungen!$G$7:$G$206,"<>Storniert")=0,0,IF(COUNTIFS(Buchungen!$A$7:$A$206,"<="&AH10,Buchungen!$B$7:$B$206,">"&AH10,Buchungen!$G$7:$G$206,"<>Storniert")>1,9,IF(COUNTIFS(Buchungen!$A$7:$A$206,"<="&AH10,Buchungen!$B$7:$B$206,">"&AH10,Buchungen!$G$7:$G$206,"Gebucht")=1,1,IF(COUNTIFS(Buchungen!$A$7:$A$206,"<="&AH10,Buchungen!$B$7:$B$206,">"&AH10,Buchungen!$G$7:$G$206,"Anfrage")=1,2,IF(COUNTIFS(Buchungen!$A$7:$A$206,"<="&AH10,Buchungen!$B$7:$B$206,">"&AH10,Buchungen!$G$7:$G$206,"Eigennutzung")=1,3,IF(COUNTIFS(Buchungen!$A$7:$A$206,"<="&AH10,Buchungen!$B$7:$B$206,">"&AH10,Buchungen!$G$7:$G$206,"Gesperrt")=1,4,9))))))) -> 0 | BO10: =IF(AI10=0,-1,IF(COUNTIFS(Buchungen!$A$7:$A$206,"<="&AI10,Buchungen!$B$7:$B$206,">"&AI10,Buchungen!$G$7:$G$206,"<>Storniert")=0,0,IF(COUNTIFS(Buchungen!$A$7:$A$206,"<="&AI10,Buchungen!$B$7:$B$206,">"&AI10,Buchungen!$G$7:$G$206,"<>Storniert")>1,9,IF(COUNTIFS(Buchungen!$A$7:$A$206,"<="&AI10,Buchungen!$B$7:$B$206,">"&AI10,Buchungen!$G$7:$G$206,"Gebucht")=1,1,IF(COUNTIFS(Buchungen!$A$7:$A$206,"<="&AI10,Buchungen!$B$7:$B$206,">"&AI10,Buchungen!$G$7:$G$206,"Anfrage")=1,2,IF(COUNTIFS(Buchungen!$A$7:$A$206,"<="&AI10,Buchungen!$B$7:$B$206,">"&AI10,Buchungen!$G$7:$G$206,"Eigennutzung")=1,3,IF(COUNTIFS(Buchungen!$A$7:$A$206,"<="&AI10,Buchungen!$B$7:$B$206,">"&AI10,Buchungen!$G$7:$G$206,"Gesperrt")=1,4,9))))))) -> 0 | BP10: =IF(AJ10=0,-1,IF(COUNTIFS(Buchungen!$A$7:$A$206,"<="&AJ10,Buchungen!$B$7:$B$206,">"&AJ10,Buchungen!$G$7:$G$206,"<>Storniert")=0,0,IF(COUNTIFS(Buchungen!$A$7:$A$206,"<="&AJ10,Buchungen!$B$7:$B$206,">"&AJ10,Buchungen!$G$7:$G$206,"<>Storniert")>1,9,IF(COUNTIFS(Buchungen!$A$7:$A$206,"<="&AJ10,Buchungen!$B$7:$B$206,">"&AJ10,Buchungen!$G$7:$G$206,"Gebucht")=1,1,IF(COUNTIFS(Buchungen!$A$7:$A$206,"<="&AJ10,Buchungen!$B$7:$B$206,">"&AJ10,Buchungen!$G$7:$G$206,"Anfrage")=1,2,IF(COUNTIFS(Buchungen!$A$7:$A$206,"<="&AJ10,Buchungen!$B$7:$B$206,">"&AJ10,Buchungen!$G$7:$G$206,"Eigennutzung")=1,3,IF(COUNTIFS(Buchungen!$A$7:$A$206,"<="&AJ10,Buchungen!$B$7:$B$206,">"&AJ10,Buchungen!$G$7:$G$206,"Gesperrt")=1,4,9))))))) -> 0 | BQ10: =IF(AK10=0,-1,IF(COUNTIFS(Buchungen!$A$7:$A$206,"<="&AK10,Buchungen!$B$7:$B$206,">"&AK10,Buchungen!$G$7:$G$206,"<>Storniert")=0,0,IF(COUNTIFS(Buchungen!$A$7:$A$206,"<="&AK10,Buchungen!$B$7:$B$206,">"&AK10,Buchungen!$G$7:$G$206,"<>Storniert")>1,9,IF(COUNTIFS(Buchungen!$A$7:$A$206,"<="&AK10,Buchungen!$B$7:$B$206,">"&AK10,Buchungen!$G$7:$G$206,"Gebucht")=1,1,IF(COUNTIFS(Buchungen!$A$7:$A$206,"<="&AK10,Buchungen!$B$7:$B$206,">"&AK10,Buchungen!$G$7:$G$206,"Anfrage")=1,2,IF(COUNTIFS(Buchungen!$A$7:$A$206,"<="&AK10,Buchungen!$B$7:$B$206,">"&AK10,Buchungen!$G$7:$G$206,"Eigennutzung")=1,3,IF(COUNTIFS(Buchungen!$A$7:$A$206,"<="&AK10,Buchungen!$B$7:$B$206,">"&AK10,Buchungen!$G$7:$G$206,"Gesperrt")=1,4,9))))))) -> 0 | BR10: =IF(AL10=0,-1,IF(COUNTIFS(Buchungen!$A$7:$A$206,"<="&AL10,Buchungen!$B$7:$B$206,">"&AL10,Buchungen!$G$7:$G$206,"<>Storniert")=0,0,IF(COUNTIFS(Buchungen!$A$7:$A$206,"<="&AL10,Buchungen!$B$7:$B$206,">"&AL10,Buchungen!$G$7:$G$206,"<>Storniert")>1,9,IF(COUNTIFS(Buchungen!$A$7:$A$206,"<="&AL10,Buchungen!$B$7:$B$206,">"&AL10,Buchungen!$G$7:$G$206,"Gebucht")=1,1,IF(COUNTIFS(Buchungen!$A$7:$A$206,"<="&AL10,Buchungen!$B$7:$B$206,">"&AL10,Buchungen!$G$7:$G$206,"Anfrage")=1,2,IF(COUNTIFS(Buchungen!$A$7:$A$206,"<="&AL10,Buchungen!$B$7:$B$206,">"&AL10,Buchungen!$G$7:$G$206,"Eigennutzung")=1,3,IF(COUNTIFS(Buchungen!$A$7:$A$206,"<="&AL10,Buchungen!$B$7:$B$206,">"&AL10,Buchungen!$G$7:$G$206,"Gesperrt")=1,4,9))))))) -> 0 | BS10: =IF(AM10=0,-1,IF(COUNTIFS(Buchungen!$A$7:$A$206,"<="&AM10,Buchungen!$B$7:$B$206,">"&AM10,Buchungen!$G$7:$G$206,"<>Storniert")=0,0,IF(COUNTIFS(Buchungen!$A$7:$A$206,"<="&AM10,Buchungen!$B$7:$B$206,">"&AM10,Buchungen!$G$7:$G$206,"<>Storniert")>1,9,IF(COUNTIFS(Buchungen!$A$7:$A$206,"<="&AM10,Buchungen!$B$7:$B$206,">"&AM10,Buchungen!$G$7:$G$206,"Gebucht")=1,1,IF(COUNTIFS(Buchungen!$A$7:$A$206,"<="&AM10,Buchungen!$B$7:$B$206,">"&AM10,Buchungen!$G$7:$G$206,"Anfrage")=1,2,IF(COUNTIFS(Buchungen!$A$7:$A$206,"<="&AM10,Buchungen!$B$7:$B$206,">"&AM10,Buchungen!$G$7:$G$206,"Eigennutzung")=1,3,IF(COUNTIFS(Buchungen!$A$7:$A$206,"<="&AM10,Buchungen!$B$7:$B$206,">"&AM10,Buchungen!$G$7:$G$206,"Gesperrt")=1,4,9))))))) -> 0 | BT10: =IF(AN10=0,-1,IF(COUNTIFS(Buchungen!$A$7:$A$206,"<="&AN10,Buchungen!$B$7:$B$206,">"&AN10,Buchungen!$G$7:$G$206,"<>Storniert")=0,0,IF(COUNTIFS(Buchungen!$A$7:$A$206,"<="&AN10,Buchungen!$B$7:$B$206,">"&AN10,Buchungen!$G$7:$G$206,"<>Storniert")>1,9,IF(COUNTIFS(Buchungen!$A$7:$A$206,"<="&AN10,Buchungen!$B$7:$B$206,">"&AN10,Buchungen!$G$7:$G$206,"Gebucht")=1,1,IF(COUNTIFS(Buchungen!$A$7:$A$206,"<="&AN10,Buchungen!$B$7:$B$206,">"&AN10,Buchungen!$G$7:$G$206,"Anfrage")=1,2,IF(COUNTIFS(Buchungen!$A$7:$A$206,"<="&AN10,Buchungen!$B$7:$B$206,">"&AN10,Buchungen!$G$7:$G$206,"Eigennutzung")=1,3,IF(COUNTIFS(Buchungen!$A$7:$A$206,"<="&AN10,Buchungen!$B$7:$B$206,">"&AN10,Buchungen!$G$7:$G$206,"Gesperrt")=1,4,9))))))) -> 0 | BU10: =IF(AO10=0,-1,IF(COUNTIFS(Buchungen!$A$7:$A$206,"<="&AO10,Buchungen!$B$7:$B$206,">"&AO10,Buchungen!$G$7:$G$206,"<>Storniert")=0,0,IF(COUNTIFS(Buchungen!$A$7:$A$206,"<="&AO10,Buchungen!$B$7:$B$206,">"&AO10,Buchungen!$G$7:$G$206,"<>Storniert")>1,9,IF(COUNTIFS(Buchungen!$A$7:$A$206,"<="&AO10,Buchungen!$B$7:$B$206,">"&AO10,Buchungen!$G$7:$G$206,"Gebucht")=1,1,IF(COUNTIFS(Buchungen!$A$7:$A$206,"<="&AO10,Buchungen!$B$7:$B$206,">"&AO10,Buchungen!$G$7:$G$206,"Anfrage")=1,2,IF(COUNTIFS(Buchungen!$A$7:$A$206,"<="&AO10,Buchungen!$B$7:$B$206,">"&AO10,Buchungen!$G$7:$G$206,"Eigennutzung")=1,3,IF(COUNTIFS(Buchungen!$A$7:$A$206,"<="&AO10,Buchungen!$B$7:$B$206,">"&AO10,Buchungen!$G$7:$G$206,"Gesperrt")=1,4,9))))))) -> 0 | ... CR10: =IF(BL10=0,-1,IF(COUNTIFS(Buchungen!$A$7:$A$206,"<="&BL10,Buchungen!$B$7:$B$206,">"&BL10,Buchungen!$G$7:$G$206,"<>Storniert")=0,0,IF(COUNTIFS(Buchungen!$A$7:$A$206,"<="&BL10,Buchungen!$B$7:$B$206,">"&BL10,Buchungen!$G$7:$G$206,"<>Storniert")>1,9,IF(COUNTIFS(Buchungen!$A$7:$A$206,"<="&BL10,Buchungen!$B$7:$B$206,">"&BL10,Buchungen!$G$7:$G$206,"Gebucht")=1,1,IF(COUNTIFS(Buchungen!$A$7:$A$206,"<="&BL10,Buchungen!$B$7:$B$206,">"&BL10,Buchungen!$G$7:$G$206,"Anfrage")=1,2,IF(COUNTIFS(Buchungen!$A$7:$A$206,"<="&BL10,Buchungen!$B$7:$B$206,">"&BL10,Buchungen!$G$7:$G$206,"Eigennutzung")=1,3,IF(COUNTIFS(Buchungen!$A$7:$A$206,"<="&BL10,Buchungen!$B$7:$B$206,">"&BL10,Buchungen!$G$7:$G$206,"Gesperrt")=1,4,9))))))) -> 0
A11: Juni | B11: =IF(AH11=0,"",IF(AND(COUNTIFS(Buchungen!$A$7:$A$206,AH11,Buchungen!$G$7:$G$206,"<>Storniert")>0,COUNTIFS(Buchungen!$B$7:$B$206,AH11,Buchungen!$G$7:$G$206,"<>Storniert")>0),"W",IF(COUNTIFS(Buchungen!$A$7:$A$206,AH11,Buchungen!$G$7:$G$206,"<>Storniert")>0,"An",IF(COUNTIFS(Buchungen!$B$7:$B$206,AH11,Buchungen!$G$7:$G$206,"<>Storniert")>0,"Ab","")))) | C11: =IF(AI11=0,"",IF(AND(COUNTIFS(Buchungen!$A$7:$A$206,AI11,Buchungen!$G$7:$G$206,"<>Storniert")>0,COUNTIFS(Buchungen!$B$7:$B$206,AI11,Buchungen!$G$7:$G$206,"<>Storniert")>0),"W",IF(COUNTIFS(Buchungen!$A$7:$A$206,AI11,Buchungen!$G$7:$G$206,"<>Storniert")>0,"An",IF(COUNTIFS(Buchungen!$B$7:$B$206,AI11,Buchungen!$G$7:$G$206,"<>Storniert")>0,"Ab","")))) | D11: =IF(AJ11=0,"",IF(AND(COUNTIFS(Buchungen!$A$7:$A$206,AJ11,Buchungen!$G$7:$G$206,"<>Storniert")>0,COUNTIFS(Buchungen!$B$7:$B$206,AJ11,Buchungen!$G$7:$G$206,"<>Storniert")>0),"W",IF(COUNTIFS(Buchungen!$A$7:$A$206,AJ11,Buchungen!$G$7:$G$206,"<>Storniert")>0,"An",IF(COUNTIFS(Buchungen!$B$7:$B$206,AJ11,Buchungen!$G$7:$G$206,"<>Storniert")>0,"Ab","")))) | E11: =IF(AK11=0,"",IF(AND(COUNTIFS(Buchungen!$A$7:$A$206,AK11,Buchungen!$G$7:$G$206,"<>Storniert")>0,COUNTIFS(Buchungen!$B$7:$B$206,AK11,Buchungen!$G$7:$G$206,"<>Storniert")>0),"W",IF(COUNTIFS(Buchungen!$A$7:$A$206,AK11,Buchungen!$G$7:$G$206,"<>Storniert")>0,"An",IF(COUNTIFS(Buchungen!$B$7:$B$206,AK11,Buchungen!$G$7:$G$206,"<>Storniert")>0,"Ab","")))) | F11: =IF(AL11=0,"",IF(AND(COUNTIFS(Buchungen!$A$7:$A$206,AL11,Buchungen!$G$7:$G$206,"<>Storniert")>0,COUNTIFS(Buchungen!$B$7:$B$206,AL11,Buchungen!$G$7:$G$206,"<>Storniert")>0),"W",IF(COUNTIFS(Buchungen!$A$7:$A$206,AL11,Buchungen!$G$7:$G$206,"<>Storniert")>0,"An",IF(COUNTIFS(Buchungen!$B$7:$B$206,AL11,Buchungen!$G$7:$G$206,"<>Storniert")>0,"Ab","")))) | G11: =IF(AM11=0,"",IF(AND(COUNTIFS(Buchungen!$A$7:$A$206,AM11,Buchungen!$G$7:$G$206,"<>Storniert")>0,COUNTIFS(Buchungen!$B$7:$B$206,AM11,Buchungen!$G$7:$G$206,"<>Storniert")>0),"W",IF(COUNTIFS(Buchungen!$A$7:$A$206,AM11,Buchungen!$G$7:$G$206,"<>Storniert")>0,"An",IF(COUNTIFS(Buchungen!$B$7:$B$206,AM11,Buchungen!$G$7:$G$206,"<>Storniert")>0,"Ab","")))) | H11: =IF(AN11=0,"",IF(AND(COUNTIFS(Buchungen!$A$7:$A$206,AN11,Buchungen!$G$7:$G$206,"<>Storniert")>0,COUNTIFS(Buchungen!$B$7:$B$206,AN11,Buchungen!$G$7:$G$206,"<>Storniert")>0),"W",IF(COUNTIFS(Buchungen!$A$7:$A$206,AN11,Buchungen!$G$7:$G$206,"<>Storniert")>0,"An",IF(COUNTIFS(Buchungen!$B$7:$B$206,AN11,Buchungen!$G$7:$G$206,"<>Storniert")>0,"Ab","")))) | I11: =IF(AO11=0,"",IF(AND(COUNTIFS(Buchungen!$A$7:$A$206,AO11,Buchungen!$G$7:$G$206,"<>Storniert")>0,COUNTIFS(Buchungen!$B$7:$B$206,AO11,Buchungen!$G$7:$G$206,"<>Storniert")>0),"W",IF(COUNTIFS(Buchungen!$A$7:$A$206,AO11,Buchungen!$G$7:$G$206,"<>Storniert")>0,"An",IF(COUNTIFS(Buchungen!$B$7:$B$206,AO11,Buchungen!$G$7:$G$206,"<>Storniert")>0,"Ab","")))) | ... AF11: =IF(BL11=0,"",IF(AND(COUNTIFS(Buchungen!$A$7:$A$206,BL11,Buchungen!$G$7:$G$206,"<>Storniert")>0,COUNTIFS(Buchungen!$B$7:$B$206,BL11,Buchungen!$G$7:$G$206,"<>Storniert")>0),"W",IF(COUNTIFS(Buchungen!$A$7:$A$206,BL11,Buchungen!$G$7:$G$206,"<>Storniert")>0,"An",IF(COUNTIFS(Buchungen!$B$7:$B$206,BL11,Buchungen!$G$7:$G$206,"<>Storniert")>0,"Ab","")))) | AH11: =IF(MONTH(DATE(Einstellungen!$B$5,6,B$5))=6,DATE(Einstellungen!$B$5,6,B$5),0) -> 46539 | AI11: =IF(MONTH(DATE(Einstellungen!$B$5,6,C$5))=6,DATE(Einstellungen!$B$5,6,C$5),0) -> 46540 | AJ11: =IF(MONTH(DATE(Einstellungen!$B$5,6,D$5))=6,DATE(Einstellungen!$B$5,6,D$5),0) -> 46541 | AK11: =IF(MONTH(DATE(Einstellungen!$B$5,6,E$5))=6,DATE(Einstellungen!$B$5,6,E$5),0) -> 46542 | AL11: =IF(MONTH(DATE(Einstellungen!$B$5,6,F$5))=6,DATE(Einstellungen!$B$5,6,F$5),0) -> 46543 | AM11: =IF(MONTH(DATE(Einstellungen!$B$5,6,G$5))=6,DATE(Einstellungen!$B$5,6,G$5),0) -> 46544 | AN11: =IF(MONTH(DATE(Einstellungen!$B$5,6,H$5))=6,DATE(Einstellungen!$B$5,6,H$5),0) -> 46545 | AO11: =IF(MONTH(DATE(Einstellungen!$B$5,6,I$5))=6,DATE(Einstellungen!$B$5,6,I$5),0) -> 46546 | ... BL11: =IF(MONTH(DATE(Einstellungen!$B$5,6,AF$5))=6,DATE(Einstellungen!$B$5,6,AF$5),0) -> 0 | BN11: =IF(AH11=0,-1,IF(COUNTIFS(Buchungen!$A$7:$A$206,"<="&AH11,Buchungen!$B$7:$B$206,">"&AH11,Buchungen!$G$7:$G$206,"<>Storniert")=0,0,IF(COUNTIFS(Buchungen!$A$7:$A$206,"<="&AH11,Buchungen!$B$7:$B$206,">"&AH11,Buchungen!$G$7:$G$206,"<>Storniert")>1,9,IF(COUNTIFS(Buchungen!$A$7:$A$206,"<="&AH11,Buchungen!$B$7:$B$206,">"&AH11,Buchungen!$G$7:$G$206,"Gebucht")=1,1,IF(COUNTIFS(Buchungen!$A$7:$A$206,"<="&AH11,Buchungen!$B$7:$B$206,">"&AH11,Buchungen!$G$7:$G$206,"Anfrage")=1,2,IF(COUNTIFS(Buchungen!$A$7:$A$206,"<="&AH11,Buchungen!$B$7:$B$206,">"&AH11,Buchungen!$G$7:$G$206,"Eigennutzung")=1,3,IF(COUNTIFS(Buchungen!$A$7:$A$206,"<="&AH11,Buchungen!$B$7:$B$206,">"&AH11,Buchungen!$G$7:$G$206,"Gesperrt")=1,4,9))))))) -> 0 | BO11: =IF(AI11=0,-1,IF(COUNTIFS(Buchungen!$A$7:$A$206,"<="&AI11,Buchungen!$B$7:$B$206,">"&AI11,Buchungen!$G$7:$G$206,"<>Storniert")=0,0,IF(COUNTIFS(Buchungen!$A$7:$A$206,"<="&AI11,Buchungen!$B$7:$B$206,">"&AI11,Buchungen!$G$7:$G$206,"<>Storniert")>1,9,IF(COUNTIFS(Buchungen!$A$7:$A$206,"<="&AI11,Buchungen!$B$7:$B$206,">"&AI11,Buchungen!$G$7:$G$206,"Gebucht")=1,1,IF(COUNTIFS(Buchungen!$A$7:$A$206,"<="&AI11,Buchungen!$B$7:$B$206,">"&AI11,Buchungen!$G$7:$G$206,"Anfrage")=1,2,IF(COUNTIFS(Buchungen!$A$7:$A$206,"<="&AI11,Buchungen!$B$7:$B$206,">"&AI11,Buchungen!$G$7:$G$206,"Eigennutzung")=1,3,IF(COUNTIFS(Buchungen!$A$7:$A$206,"<="&AI11,Buchungen!$B$7:$B$206,">"&AI11,Buchungen!$G$7:$G$206,"Gesperrt")=1,4,9))))))) -> 0 | BP11: =IF(AJ11=0,-1,IF(COUNTIFS(Buchungen!$A$7:$A$206,"<="&AJ11,Buchungen!$B$7:$B$206,">"&AJ11,Buchungen!$G$7:$G$206,"<>Storniert")=0,0,IF(COUNTIFS(Buchungen!$A$7:$A$206,"<="&AJ11,Buchungen!$B$7:$B$206,">"&AJ11,Buchungen!$G$7:$G$206,"<>Storniert")>1,9,IF(COUNTIFS(Buchungen!$A$7:$A$206,"<="&AJ11,Buchungen!$B$7:$B$206,">"&AJ11,Buchungen!$G$7:$G$206,"Gebucht")=1,1,IF(COUNTIFS(Buchungen!$A$7:$A$206,"<="&AJ11,Buchungen!$B$7:$B$206,">"&AJ11,Buchungen!$G$7:$G$206,"Anfrage")=1,2,IF(COUNTIFS(Buchungen!$A$7:$A$206,"<="&AJ11,Buchungen!$B$7:$B$206,">"&AJ11,Buchungen!$G$7:$G$206,"Eigennutzung")=1,3,IF(COUNTIFS(Buchungen!$A$7:$A$206,"<="&AJ11,Buchungen!$B$7:$B$206,">"&AJ11,Buchungen!$G$7:$G$206,"Gesperrt")=1,4,9))))))) -> 0 | BQ11: =IF(AK11=0,-1,IF(COUNTIFS(Buchungen!$A$7:$A$206,"<="&AK11,Buchungen!$B$7:$B$206,">"&AK11,Buchungen!$G$7:$G$206,"<>Storniert")=0,0,IF(COUNTIFS(Buchungen!$A$7:$A$206,"<="&AK11,Buchungen!$B$7:$B$206,">"&AK11,Buchungen!$G$7:$G$206,"<>Storniert")>1,9,IF(COUNTIFS(Buchungen!$A$7:$A$206,"<="&AK11,Buchungen!$B$7:$B$206,">"&AK11,Buchungen!$G$7:$G$206,"Gebucht")=1,1,IF(COUNTIFS(Buchungen!$A$7:$A$206,"<="&AK11,Buchungen!$B$7:$B$206,">"&AK11,Buchungen!$G$7:$G$206,"Anfrage")=1,2,IF(COUNTIFS(Buchungen!$A$7:$A$206,"<="&AK11,Buchungen!$B$7:$B$206,">"&AK11,Buchungen!$G$7:$G$206,"Eigennutzung")=1,3,IF(COUNTIFS(Buchungen!$A$7:$A$206,"<="&AK11,Buchungen!$B$7:$B$206,">"&AK11,Buchungen!$G$7:$G$206,"Gesperrt")=1,4,9))))))) -> 0 | BR11: =IF(AL11=0,-1,IF(COUNTIFS(Buchungen!$A$7:$A$206,"<="&AL11,Buchungen!$B$7:$B$206,">"&AL11,Buchungen!$G$7:$G$206,"<>Storniert")=0,0,IF(COUNTIFS(Buchungen!$A$7:$A$206,"<="&AL11,Buchungen!$B$7:$B$206,">"&AL11,Buchungen!$G$7:$G$206,"<>Storniert")>1,9,IF(COUNTIFS(Buchungen!$A$7:$A$206,"<="&AL11,Buchungen!$B$7:$B$206,">"&AL11,Buchungen!$G$7:$G$206,"Gebucht")=1,1,IF(COUNTIFS(Buchungen!$A$7:$A$206,"<="&AL11,Buchungen!$B$7:$B$206,">"&AL11,Buchungen!$G$7:$G$206,"Anfrage")=1,2,IF(COUNTIFS(Buchungen!$A$7:$A$206,"<="&AL11,Buchungen!$B$7:$B$206,">"&AL11,Buchungen!$G$7:$G$206,"Eigennutzung")=1,3,IF(COUNTIFS(Buchungen!$A$7:$A$206,"<="&AL11,Buchungen!$B$7:$B$206,">"&AL11,Buchungen!$G$7:$G$206,"Gesperrt")=1,4,9))))))) -> 0 | BS11: =IF(AM11=0,-1,IF(COUNTIFS(Buchungen!$A$7:$A$206,"<="&AM11,Buchungen!$B$7:$B$206,">"&AM11,Buchungen!$G$7:$G$206,"<>Storniert")=0,0,IF(COUNTIFS(Buchungen!$A$7:$A$206,"<="&AM11,Buchungen!$B$7:$B$206,">"&AM11,Buchungen!$G$7:$G$206,"<>Storniert")>1,9,IF(COUNTIFS(Buchungen!$A$7:$A$206,"<="&AM11,Buchungen!$B$7:$B$206,">"&AM11,Buchungen!$G$7:$G$206,"Gebucht")=1,1,IF(COUNTIFS(Buchungen!$A$7:$A$206,"<="&AM11,Buchungen!$B$7:$B$206,">"&AM11,Buchungen!$G$7:$G$206,"Anfrage")=1,2,IF(COUNTIFS(Buchungen!$A$7:$A$206,"<="&AM11,Buchungen!$B$7:$B$206,">"&AM11,Buchungen!$G$7:$G$206,"Eigennutzung")=1,3,IF(COUNTIFS(Buchungen!$A$7:$A$206,"<="&AM11,Buchungen!$B$7:$B$206,">"&AM11,Buchungen!$G$7:$G$206,"Gesperrt")=1,4,9))))))) -> 0 | BT11: =IF(AN11=0,-1,IF(COUNTIFS(Buchungen!$A$7:$A$206,"<="&AN11,Buchungen!$B$7:$B$206,">"&AN11,Buchungen!$G$7:$G$206,"<>Storniert")=0,0,IF(COUNTIFS(Buchungen!$A$7:$A$206,"<="&AN11,Buchungen!$B$7:$B$206,">"&AN11,Buchungen!$G$7:$G$206,"<>Storniert")>1,9,IF(COUNTIFS(Buchungen!$A$7:$A$206,"<="&AN11,Buchungen!$B$7:$B$206,">"&AN11,Buchungen!$G$7:$G$206,"Gebucht")=1,1,IF(COUNTIFS(Buchungen!$A$7:$A$206,"<="&AN11,Buchungen!$B$7:$B$206,">"&AN11,Buchungen!$G$7:$G$206,"Anfrage")=1,2,IF(COUNTIFS(Buchungen!$A$7:$A$206,"<="&AN11,Buchungen!$B$7:$B$206,">"&AN11,Buchungen!$G$7:$G$206,"Eigennutzung")=1,3,IF(COUNTIFS(Buchungen!$A$7:$A$206,"<="&AN11,Buchungen!$B$7:$B$206,">"&AN11,Buchungen!$G$7:$G$206,"Gesperrt")=1,4,9))))))) -> 0 | BU11: =IF(AO11=0,-1,IF(COUNTIFS(Buchungen!$A$7:$A$206,"<="&AO11,Buchungen!$B$7:$B$206,">"&AO11,Buchungen!$G$7:$G$206,"<>Storniert")=0,0,IF(COUNTIFS(Buchungen!$A$7:$A$206,"<="&AO11,Buchungen!$B$7:$B$206,">"&AO11,Buchungen!$G$7:$G$206,"<>Storniert")>1,9,IF(COUNTIFS(Buchungen!$A$7:$A$206,"<="&AO11,Buchungen!$B$7:$B$206,">"&AO11,Buchungen!$G$7:$G$206,"Gebucht")=1,1,IF(COUNTIFS(Buchungen!$A$7:$A$206,"<="&AO11,Buchungen!$B$7:$B$206,">"&AO11,Buchungen!$G$7:$G$206,"Anfrage")=1,2,IF(COUNTIFS(Buchungen!$A$7:$A$206,"<="&AO11,Buchungen!$B$7:$B$206,">"&AO11,Buchungen!$G$7:$G$206,"Eigennutzung")=1,3,IF(COUNTIFS(Buchungen!$A$7:$A$206,"<="&AO11,Buchungen!$B$7:$B$206,">"&AO11,Buchungen!$G$7:$G$206,"Gesperrt")=1,4,9))))))) -> 0 | ... CR11: =IF(BL11=0,-1,IF(COUNTIFS(Buchungen!$A$7:$A$206,"<="&BL11,Buchungen!$B$7:$B$206,">"&BL11,Buchungen!$G$7:$G$206,"<>Storniert")=0,0,IF(COUNTIFS(Buchungen!$A$7:$A$206,"<="&BL11,Buchungen!$B$7:$B$206,">"&BL11,Buchungen!$G$7:$G$206,"<>Storniert")>1,9,IF(COUNTIFS(Buchungen!$A$7:$A$206,"<="&BL11,Buchungen!$B$7:$B$206,">"&BL11,Buchungen!$G$7:$G$206,"Gebucht")=1,1,IF(COUNTIFS(Buchungen!$A$7:$A$206,"<="&BL11,Buchungen!$B$7:$B$206,">"&BL11,Buchungen!$G$7:$G$206,"Anfrage")=1,2,IF(COUNTIFS(Buchungen!$A$7:$A$206,"<="&BL11,Buchungen!$B$7:$B$206,">"&BL11,Buchungen!$G$7:$G$206,"Eigennutzung")=1,3,IF(COUNTIFS(Buchungen!$A$7:$A$206,"<="&BL11,Buchungen!$B$7:$B$206,">"&BL11,Buchungen!$G$7:$G$206,"Gesperrt")=1,4,9))))))) -> -1
A12: Juli | B12: =IF(AH12=0,"",IF(AND(COUNTIFS(Buchungen!$A$7:$A$206,AH12,Buchungen!$G$7:$G$206,"<>Storniert")>0,COUNTIFS(Buchungen!$B$7:$B$206,AH12,Buchungen!$G$7:$G$206,"<>Storniert")>0),"W",IF(COUNTIFS(Buchungen!$A$7:$A$206,AH12,Buchungen!$G$7:$G$206,"<>Storniert")>0,"An",IF(COUNTIFS(Buchungen!$B$7:$B$206,AH12,Buchungen!$G$7:$G$206,"<>Storniert")>0,"Ab","")))) | C12: =IF(AI12=0,"",IF(AND(COUNTIFS(Buchungen!$A$7:$A$206,AI12,Buchungen!$G$7:$G$206,"<>Storniert")>0,COUNTIFS(Buchungen!$B$7:$B$206,AI12,Buchungen!$G$7:$G$206,"<>Storniert")>0),"W",IF(COUNTIFS(Buchungen!$A$7:$A$206,AI12,Buchungen!$G$7:$G$206,"<>Storniert")>0,"An",IF(COUNTIFS(Buchungen!$B$7:$B$206,AI12,Buchungen!$G$7:$G$206,"<>Storniert")>0,"Ab","")))) | D12: =IF(AJ12=0,"",IF(AND(COUNTIFS(Buchungen!$A$7:$A$206,AJ12,Buchungen!$G$7:$G$206,"<>Storniert")>0,COUNTIFS(Buchungen!$B$7:$B$206,AJ12,Buchungen!$G$7:$G$206,"<>Storniert")>0),"W",IF(COUNTIFS(Buchungen!$A$7:$A$206,AJ12,Buchungen!$G$7:$G$206,"<>Storniert")>0,"An",IF(COUNTIFS(Buchungen!$B$7:$B$206,AJ12,Buchungen!$G$7:$G$206,"<>Storniert")>0,"Ab","")))) | E12: =IF(AK12=0,"",IF(AND(COUNTIFS(Buchungen!$A$7:$A$206,AK12,Buchungen!$G$7:$G$206,"<>Storniert")>0,COUNTIFS(Buchungen!$B$7:$B$206,AK12,Buchungen!$G$7:$G$206,"<>Storniert")>0),"W",IF(COUNTIFS(Buchungen!$A$7:$A$206,AK12,Buchungen!$G$7:$G$206,"<>Storniert")>0,"An",IF(COUNTIFS(Buchungen!$B$7:$B$206,AK12,Buchungen!$G$7:$G$206,"<>Storniert")>0,"Ab","")))) | F12: =IF(AL12=0,"",IF(AND(COUNTIFS(Buchungen!$A$7:$A$206,AL12,Buchungen!$G$7:$G$206,"<>Storniert")>0,COUNTIFS(Buchungen!$B$7:$B$206,AL12,Buchungen!$G$7:$G$206,"<>Storniert")>0),"W",IF(COUNTIFS(Buchungen!$A$7:$A$206,AL12,Buchungen!$G$7:$G$206,"<>Storniert")>0,"An",IF(COUNTIFS(Buchungen!$B$7:$B$206,AL12,Buchungen!$G$7:$G$206,"<>Storniert")>0,"Ab","")))) | G12: =IF(AM12=0,"",IF(AND(COUNTIFS(Buchungen!$A$7:$A$206,AM12,Buchungen!$G$7:$G$206,"<>Storniert")>0,COUNTIFS(Buchungen!$B$7:$B$206,AM12,Buchungen!$G$7:$G$206,"<>Storniert")>0),"W",IF(COUNTIFS(Buchungen!$A$7:$A$206,AM12,Buchungen!$G$7:$G$206,"<>Storniert")>0,"An",IF(COUNTIFS(Buchungen!$B$7:$B$206,AM12,Buchungen!$G$7:$G$206,"<>Storniert")>0,"Ab","")))) | H12: =IF(AN12=0,"",IF(AND(COUNTIFS(Buchungen!$A$7:$A$206,AN12,Buchungen!$G$7:$G$206,"<>Storniert")>0,COUNTIFS(Buchungen!$B$7:$B$206,AN12,Buchungen!$G$7:$G$206,"<>Storniert")>0),"W",IF(COUNTIFS(Buchungen!$A$7:$A$206,AN12,Buchungen!$G$7:$G$206,"<>Storniert")>0,"An",IF(COUNTIFS(Buchungen!$B$7:$B$206,AN12,Buchungen!$G$7:$G$206,"<>Storniert")>0,"Ab","")))) | I12: =IF(AO12=0,"",IF(AND(COUNTIFS(Buchungen!$A$7:$A$206,AO12,Buchungen!$G$7:$G$206,"<>Storniert")>0,COUNTIFS(Buchungen!$B$7:$B$206,AO12,Buchungen!$G$7:$G$206,"<>Storniert")>0),"W",IF(COUNTIFS(Buchungen!$A$7:$A$206,AO12,Buchungen!$G$7:$G$206,"<>Storniert")>0,"An",IF(COUNTIFS(Buchungen!$B$7:$B$206,AO12,Buchungen!$G$7:$G$206,"<>Storniert")>0,"Ab","")))) | ... AF12: =IF(BL12=0,"",IF(AND(COUNTIFS(Buchungen!$A$7:$A$206,BL12,Buchungen!$G$7:$G$206,"<>Storniert")>0,COUNTIFS(Buchungen!$B$7:$B$206,BL12,Buchungen!$G$7:$G$206,"<>Storniert")>0),"W",IF(COUNTIFS(Buchungen!$A$7:$A$206,BL12,Buchungen!$G$7:$G$206,"<>Storniert")>0,"An",IF(COUNTIFS(Buchungen!$B$7:$B$206,BL12,Buchungen!$G$7:$G$206,"<>Storniert")>0,"Ab","")))) | AH12: =IF(MONTH(DATE(Einstellungen!$B$5,7,B$5))=7,DATE(Einstellungen!$B$5,7,B$5),0) -> 46569 | AI12: =IF(MONTH(DATE(Einstellungen!$B$5,7,C$5))=7,DATE(Einstellungen!$B$5,7,C$5),0) -> 46570 | AJ12: =IF(MONTH(DATE(Einstellungen!$B$5,7,D$5))=7,DATE(Einstellungen!$B$5,7,D$5),0) -> 46571 | AK12: =IF(MONTH(DATE(Einstellungen!$B$5,7,E$5))=7,DATE(Einstellungen!$B$5,7,E$5),0) -> 46572 | AL12: =IF(MONTH(DATE(Einstellungen!$B$5,7,F$5))=7,DATE(Einstellungen!$B$5,7,F$5),0) -> 46573 | AM12: =IF(MONTH(DATE(Einstellungen!$B$5,7,G$5))=7,DATE(Einstellungen!$B$5,7,G$5),0) -> 46574 | AN12: =IF(MONTH(DATE(Einstellungen!$B$5,7,H$5))=7,DATE(Einstellungen!$B$5,7,H$5),0) -> 46575 | AO12: =IF(MONTH(DATE(Einstellungen!$B$5,7,I$5))=7,DATE(Einstellungen!$B$5,7,I$5),0) -> 46576 | ... BL12: =IF(MONTH(DATE(Einstellungen!$B$5,7,AF$5))=7,DATE(Einstellungen!$B$5,7,AF$5),0) -> 46599 | BN12: =IF(AH12=0,-1,IF(COUNTIFS(Buchungen!$A$7:$A$206,"<="&AH12,Buchungen!$B$7:$B$206,">"&AH12,Buchungen!$G$7:$G$206,"<>Storniert")=0,0,IF(COUNTIFS(Buchungen!$A$7:$A$206,"<="&AH12,Buchungen!$B$7:$B$206,">"&AH12,Buchungen!$G$7:$G$206,"<>Storniert")>1,9,IF(COUNTIFS(Buchungen!$A$7:$A$206,"<="&AH12,Buchungen!$B$7:$B$206,">"&AH12,Buchungen!$G$7:$G$206,"Gebucht")=1,1,IF(COUNTIFS(Buchungen!$A$7:$A$206,"<="&AH12,Buchungen!$B$7:$B$206,">"&AH12,Buchungen!$G$7:$G$206,"Anfrage")=1,2,IF(COUNTIFS(Buchungen!$A$7:$A$206,"<="&AH12,Buchungen!$B$7:$B$206,">"&AH12,Buchungen!$G$7:$G$206,"Eigennutzung")=1,3,IF(COUNTIFS(Buchungen!$A$7:$A$206,"<="&AH12,Buchungen!$B$7:$B$206,">"&AH12,Buchungen!$G$7:$G$206,"Gesperrt")=1,4,9))))))) -> 0 | BO12: =IF(AI12=0,-1,IF(COUNTIFS(Buchungen!$A$7:$A$206,"<="&AI12,Buchungen!$B$7:$B$206,">"&AI12,Buchungen!$G$7:$G$206,"<>Storniert")=0,0,IF(COUNTIFS(Buchungen!$A$7:$A$206,"<="&AI12,Buchungen!$B$7:$B$206,">"&AI12,Buchungen!$G$7:$G$206,"<>Storniert")>1,9,IF(COUNTIFS(Buchungen!$A$7:$A$206,"<="&AI12,Buchungen!$B$7:$B$206,">"&AI12,Buchungen!$G$7:$G$206,"Gebucht")=1,1,IF(COUNTIFS(Buchungen!$A$7:$A$206,"<="&AI12,Buchungen!$B$7:$B$206,">"&AI12,Buchungen!$G$7:$G$206,"Anfrage")=1,2,IF(COUNTIFS(Buchungen!$A$7:$A$206,"<="&AI12,Buchungen!$B$7:$B$206,">"&AI12,Buchungen!$G$7:$G$206,"Eigennutzung")=1,3,IF(COUNTIFS(Buchungen!$A$7:$A$206,"<="&AI12,Buchungen!$B$7:$B$206,">"&AI12,Buchungen!$G$7:$G$206,"Gesperrt")=1,4,9))))))) -> 0 | BP12: =IF(AJ12=0,-1,IF(COUNTIFS(Buchungen!$A$7:$A$206,"<="&AJ12,Buchungen!$B$7:$B$206,">"&AJ12,Buchungen!$G$7:$G$206,"<>Storniert")=0,0,IF(COUNTIFS(Buchungen!$A$7:$A$206,"<="&AJ12,Buchungen!$B$7:$B$206,">"&AJ12,Buchungen!$G$7:$G$206,"<>Storniert")>1,9,IF(COUNTIFS(Buchungen!$A$7:$A$206,"<="&AJ12,Buchungen!$B$7:$B$206,">"&AJ12,Buchungen!$G$7:$G$206,"Gebucht")=1,1,IF(COUNTIFS(Buchungen!$A$7:$A$206,"<="&AJ12,Buchungen!$B$7:$B$206,">"&AJ12,Buchungen!$G$7:$G$206,"Anfrage")=1,2,IF(COUNTIFS(Buchungen!$A$7:$A$206,"<="&AJ12,Buchungen!$B$7:$B$206,">"&AJ12,Buchungen!$G$7:$G$206,"Eigennutzung")=1,3,IF(COUNTIFS(Buchungen!$A$7:$A$206,"<="&AJ12,Buchungen!$B$7:$B$206,">"&AJ12,Buchungen!$G$7:$G$206,"Gesperrt")=1,4,9))))))) -> 0 | BQ12: =IF(AK12=0,-1,IF(COUNTIFS(Buchungen!$A$7:$A$206,"<="&AK12,Buchungen!$B$7:$B$206,">"&AK12,Buchungen!$G$7:$G$206,"<>Storniert")=0,0,IF(COUNTIFS(Buchungen!$A$7:$A$206,"<="&AK12,Buchungen!$B$7:$B$206,">"&AK12,Buchungen!$G$7:$G$206,"<>Storniert")>1,9,IF(COUNTIFS(Buchungen!$A$7:$A$206,"<="&AK12,Buchungen!$B$7:$B$206,">"&AK12,Buchungen!$G$7:$G$206,"Gebucht")=1,1,IF(COUNTIFS(Buchungen!$A$7:$A$206,"<="&AK12,Buchungen!$B$7:$B$206,">"&AK12,Buchungen!$G$7:$G$206,"Anfrage")=1,2,IF(COUNTIFS(Buchungen!$A$7:$A$206,"<="&AK12,Buchungen!$B$7:$B$206,">"&AK12,Buchungen!$G$7:$G$206,"Eigennutzung")=1,3,IF(COUNTIFS(Buchungen!$A$7:$A$206,"<="&AK12,Buchungen!$B$7:$B$206,">"&AK12,Buchungen!$G$7:$G$206,"Gesperrt")=1,4,9))))))) -> 0 | BR12: =IF(AL12=0,-1,IF(COUNTIFS(Buchungen!$A$7:$A$206,"<="&AL12,Buchungen!$B$7:$B$206,">"&AL12,Buchungen!$G$7:$G$206,"<>Storniert")=0,0,IF(COUNTIFS(Buchungen!$A$7:$A$206,"<="&AL12,Buchungen!$B$7:$B$206,">"&AL12,Buchungen!$G$7:$G$206,"<>Storniert")>1,9,IF(COUNTIFS(Buchungen!$A$7:$A$206,"<="&AL12,Buchungen!$B$7:$B$206,">"&AL12,Buchungen!$G$7:$G$206,"Gebucht")=1,1,IF(COUNTIFS(Buchungen!$A$7:$A$206,"<="&AL12,Buchungen!$B$7:$B$206,">"&AL12,Buchungen!$G$7:$G$206,"Anfrage")=1,2,IF(COUNTIFS(Buchungen!$A$7:$A$206,"<="&AL12,Buchungen!$B$7:$B$206,">"&AL12,Buchungen!$G$7:$G$206,"Eigennutzung")=1,3,IF(COUNTIFS(Buchungen!$A$7:$A$206,"<="&AL12,Buchungen!$B$7:$B$206,">"&AL12,Buchungen!$G$7:$G$206,"Gesperrt")=1,4,9))))))) -> 0 | BS12: =IF(AM12=0,-1,IF(COUNTIFS(Buchungen!$A$7:$A$206,"<="&AM12,Buchungen!$B$7:$B$206,">"&AM12,Buchungen!$G$7:$G$206,"<>Storniert")=0,0,IF(COUNTIFS(Buchungen!$A$7:$A$206,"<="&AM12,Buchungen!$B$7:$B$206,">"&AM12,Buchungen!$G$7:$G$206,"<>Storniert")>1,9,IF(COUNTIFS(Buchungen!$A$7:$A$206,"<="&AM12,Buchungen!$B$7:$B$206,">"&AM12,Buchungen!$G$7:$G$206,"Gebucht")=1,1,IF(COUNTIFS(Buchungen!$A$7:$A$206,"<="&AM12,Buchungen!$B$7:$B$206,">"&AM12,Buchungen!$G$7:$G$206,"Anfrage")=1,2,IF(COUNTIFS(Buchungen!$A$7:$A$206,"<="&AM12,Buchungen!$B$7:$B$206,">"&AM12,Buchungen!$G$7:$G$206,"Eigennutzung")=1,3,IF(COUNTIFS(Buchungen!$A$7:$A$206,"<="&AM12,Buchungen!$B$7:$B$206,">"&AM12,Buchungen!$G$7:$G$206,"Gesperrt")=1,4,9))))))) -> 0 | BT12: =IF(AN12=0,-1,IF(COUNTIFS(Buchungen!$A$7:$A$206,"<="&AN12,Buchungen!$B$7:$B$206,">"&AN12,Buchungen!$G$7:$G$206,"<>Storniert")=0,0,IF(COUNTIFS(Buchungen!$A$7:$A$206,"<="&AN12,Buchungen!$B$7:$B$206,">"&AN12,Buchungen!$G$7:$G$206,"<>Storniert")>1,9,IF(COUNTIFS(Buchungen!$A$7:$A$206,"<="&AN12,Buchungen!$B$7:$B$206,">"&AN12,Buchungen!$G$7:$G$206,"Gebucht")=1,1,IF(COUNTIFS(Buchungen!$A$7:$A$206,"<="&AN12,Buchungen!$B$7:$B$206,">"&AN12,Buchungen!$G$7:$G$206,"Anfrage")=1,2,IF(COUNTIFS(Buchungen!$A$7:$A$206,"<="&AN12,Buchungen!$B$7:$B$206,">"&AN12,Buchungen!$G$7:$G$206,"Eigennutzung")=1,3,IF(COUNTIFS(Buchungen!$A$7:$A$206,"<="&AN12,Buchungen!$B$7:$B$206,">"&AN12,Buchungen!$G$7:$G$206,"Gesperrt")=1,4,9))))))) -> 0 | BU12: =IF(AO12=0,-1,IF(COUNTIFS(Buchungen!$A$7:$A$206,"<="&AO12,Buchungen!$B$7:$B$206,">"&AO12,Buchungen!$G$7:$G$206,"<>Storniert")=0,0,IF(COUNTIFS(Buchungen!$A$7:$A$206,"<="&AO12,Buchungen!$B$7:$B$206,">"&AO12,Buchungen!$G$7:$G$206,"<>Storniert")>1,9,IF(COUNTIFS(Buchungen!$A$7:$A$206,"<="&AO12,Buchungen!$B$7:$B$206,">"&AO12,Buchungen!$G$7:$G$206,"Gebucht")=1,1,IF(COUNTIFS(Buchungen!$A$7:$A$206,"<="&AO12,Buchungen!$B$7:$B$206,">"&AO12,Buchungen!$G$7:$G$206,"Anfrage")=1,2,IF(COUNTIFS(Buchungen!$A$7:$A$206,"<="&AO12,Buchungen!$B$7:$B$206,">"&AO12,Buchungen!$G$7:$G$206,"Eigennutzung")=1,3,IF(COUNTIFS(Buchungen!$A$7:$A$206,"<="&AO12,Buchungen!$B$7:$B$206,">"&AO12,Buchungen!$G$7:$G$206,"Gesperrt")=1,4,9))))))) -> 0 | ... CR12: =IF(BL12=0,-1,IF(COUNTIFS(Buchungen!$A$7:$A$206,"<="&BL12,Buchungen!$B$7:$B$206,">"&BL12,Buchungen!$G$7:$G$206,"<>Storniert")=0,0,IF(COUNTIFS(Buchungen!$A$7:$A$206,"<="&BL12,Buchungen!$B$7:$B$206,">"&BL12,Buchungen!$G$7:$G$206,"<>Storniert")>1,9,IF(COUNTIFS(Buchungen!$A$7:$A$206,"<="&BL12,Buchungen!$B$7:$B$206,">"&BL12,Buchungen!$G$7:$G$206,"Gebucht")=1,1,IF(COUNTIFS(Buchungen!$A$7:$A$206,"<="&BL12,Buchungen!$B$7:$B$206,">"&BL12,Buchungen!$G$7:$G$206,"Anfrage")=1,2,IF(COUNTIFS(Buchungen!$A$7:$A$206,"<="&BL12,Buchungen!$B$7:$B$206,">"&BL12,Buchungen!$G$7:$G$206,"Eigennutzung")=1,3,IF(COUNTIFS(Buchungen!$A$7:$A$206,"<="&BL12,Buchungen!$B$7:$B$206,">"&BL12,Buchungen!$G$7:$G$206,"Gesperrt")=1,4,9))))))) -> 0
A13: August | B13: =IF(AH13=0,"",IF(AND(COUNTIFS(Buchungen!$A$7:$A$206,AH13,Buchungen!$G$7:$G$206,"<>Storniert")>0,COUNTIFS(Buchungen!$B$7:$B$206,AH13,Buchungen!$G$7:$G$206,"<>Storniert")>0),"W",IF(COUNTIFS(Buchungen!$A$7:$A$206,AH13,Buchungen!$G$7:$G$206,"<>Storniert")>0,"An",IF(COUNTIFS(Buchungen!$B$7:$B$206,AH13,Buchungen!$G$7:$G$206,"<>Storniert")>0,"Ab","")))) | C13: =IF(AI13=0,"",IF(AND(COUNTIFS(Buchungen!$A$7:$A$206,AI13,Buchungen!$G$7:$G$206,"<>Storniert")>0,COUNTIFS(Buchungen!$B$7:$B$206,AI13,Buchungen!$G$7:$G$206,"<>Storniert")>0),"W",IF(COUNTIFS(Buchungen!$A$7:$A$206,AI13,Buchungen!$G$7:$G$206,"<>Storniert")>0,"An",IF(COUNTIFS(Buchungen!$B$7:$B$206,AI13,Buchungen!$G$7:$G$206,"<>Storniert")>0,"Ab","")))) -> An | D13: =IF(AJ13=0,"",IF(AND(COUNTIFS(Buchungen!$A$7:$A$206,AJ13,Buchungen!$G$7:$G$206,"<>Storniert")>0,COUNTIFS(Buchungen!$B$7:$B$206,AJ13,Buchungen!$G$7:$G$206,"<>Storniert")>0),"W",IF(COUNTIFS(Buchungen!$A$7:$A$206,AJ13,Buchungen!$G$7:$G$206,"<>Storniert")>0,"An",IF(COUNTIFS(Buchungen!$B$7:$B$206,AJ13,Buchungen!$G$7:$G$206,"<>Storniert")>0,"Ab","")))) | E13: =IF(AK13=0,"",IF(AND(COUNTIFS(Buchungen!$A$7:$A$206,AK13,Buchungen!$G$7:$G$206,"<>Storniert")>0,COUNTIFS(Buchungen!$B$7:$B$206,AK13,Buchungen!$G$7:$G$206,"<>Storniert")>0),"W",IF(COUNTIFS(Buchungen!$A$7:$A$206,AK13,Buchungen!$G$7:$G$206,"<>Storniert")>0,"An",IF(COUNTIFS(Buchungen!$B$7:$B$206,AK13,Buchungen!$G$7:$G$206,"<>Storniert")>0,"Ab","")))) | F13: =IF(AL13=0,"",IF(AND(COUNTIFS(Buchungen!$A$7:$A$206,AL13,Buchungen!$G$7:$G$206,"<>Storniert")>0,COUNTIFS(Buchungen!$B$7:$B$206,AL13,Buchungen!$G$7:$G$206,"<>Storniert")>0),"W",IF(COUNTIFS(Buchungen!$A$7:$A$206,AL13,Buchungen!$G$7:$G$206,"<>Storniert")>0,"An",IF(COUNTIFS(Buchungen!$B$7:$B$206,AL13,Buchungen!$G$7:$G$206,"<>Storniert")>0,"Ab","")))) -> Ab | G13: =IF(AM13=0,"",IF(AND(COUNTIFS(Buchungen!$A$7:$A$206,AM13,Buchungen!$G$7:$G$206,"<>Storniert")>0,COUNTIFS(Buchungen!$B$7:$B$206,AM13,Buchungen!$G$7:$G$206,"<>Storniert")>0),"W",IF(COUNTIFS(Buchungen!$A$7:$A$206,AM13,Buchungen!$G$7:$G$206,"<>Storniert")>0,"An",IF(COUNTIFS(Buchungen!$B$7:$B$206,AM13,Buchungen!$G$7:$G$206,"<>Storniert")>0,"Ab","")))) | H13: =IF(AN13=0,"",IF(AND(COUNTIFS(Buchungen!$A$7:$A$206,AN13,Buchungen!$G$7:$G$206,"<>Storniert")>0,COUNTIFS(Buchungen!$B$7:$B$206,AN13,Buchungen!$G$7:$G$206,"<>Storniert")>0),"W",IF(COUNTIFS(Buchungen!$A$7:$A$206,AN13,Buchungen!$G$7:$G$206,"<>Storniert")>0,"An",IF(COUNTIFS(Buchungen!$B$7:$B$206,AN13,Buchungen!$G$7:$G$206,"<>Storniert")>0,"Ab","")))) | I13: =IF(AO13=0,"",IF(AND(COUNTIFS(Buchungen!$A$7:$A$206,AO13,Buchungen!$G$7:$G$206,"<>Storniert")>0,COUNTIFS(Buchungen!$B$7:$B$206,AO13,Buchungen!$G$7:$G$206,"<>Storniert")>0),"W",IF(COUNTIFS(Buchungen!$A$7:$A$206,AO13,Buchungen!$G$7:$G$206,"<>Storniert")>0,"An",IF(COUNTIFS(Buchungen!$B$7:$B$206,AO13,Buchungen!$G$7:$G$206,"<>Storniert")>0,"Ab","")))) | ... AF13: =IF(BL13=0,"",IF(AND(COUNTIFS(Buchungen!$A$7:$A$206,BL13,Buchungen!$G$7:$G$206,"<>Storniert")>0,COUNTIFS(Buchungen!$B$7:$B$206,BL13,Buchungen!$G$7:$G$206,"<>Storniert")>0),"W",IF(COUNTIFS(Buchungen!$A$7:$A$206,BL13,Buchungen!$G$7:$G$206,"<>Storniert")>0,"An",IF(COUNTIFS(Buchungen!$B$7:$B$206,BL13,Buchungen!$G$7:$G$206,"<>Storniert")>0,"Ab","")))) | AH13: =IF(MONTH(DATE(Einstellungen!$B$5,8,B$5))=8,DATE(Einstellungen!$B$5,8,B$5),0) -> 46600 | AI13: =IF(MONTH(DATE(Einstellungen!$B$5,8,C$5))=8,DATE(Einstellungen!$B$5,8,C$5),0) -> 46601 | AJ13: =IF(MONTH(DATE(Einstellungen!$B$5,8,D$5))=8,DATE(Einstellungen!$B$5,8,D$5),0) -> 46602 | AK13: =IF(MONTH(DATE(Einstellungen!$B$5,8,E$5))=8,DATE(Einstellungen!$B$5,8,E$5),0) -> 46603 | AL13: =IF(MONTH(DATE(Einstellungen!$B$5,8,F$5))=8,DATE(Einstellungen!$B$5,8,F$5),0) -> 46604 | AM13: =IF(MONTH(DATE(Einstellungen!$B$5,8,G$5))=8,DATE(Einstellungen!$B$5,8,G$5),0) -> 46605 | AN13: =IF(MONTH(DATE(Einstellungen!$B$5,8,H$5))=8,DATE(Einstellungen!$B$5,8,H$5),0) -> 46606 | AO13: =IF(MONTH(DATE(Einstellungen!$B$5,8,I$5))=8,DATE(Einstellungen!$B$5,8,I$5),0) -> 46607 | ... BL13: =IF(MONTH(DATE(Einstellungen!$B$5,8,AF$5))=8,DATE(Einstellungen!$B$5,8,AF$5),0) -> 46630 | BN13: =IF(AH13=0,-1,IF(COUNTIFS(Buchungen!$A$7:$A$206,"<="&AH13,Buchungen!$B$7:$B$206,">"&AH13,Buchungen!$G$7:$G$206,"<>Storniert")=0,0,IF(COUNTIFS(Buchungen!$A$7:$A$206,"<="&AH13,Buchungen!$B$7:$B$206,">"&AH13,Buchungen!$G$7:$G$206,"<>Storniert")>1,9,IF(COUNTIFS(Buchungen!$A$7:$A$206,"<="&AH13,Buchungen!$B$7:$B$206,">"&AH13,Buchungen!$G$7:$G$206,"Gebucht")=1,1,IF(COUNTIFS(Buchungen!$A$7:$A$206,"<="&AH13,Buchungen!$B$7:$B$206,">"&AH13,Buchungen!$G$7:$G$206,"Anfrage")=1,2,IF(COUNTIFS(Buchungen!$A$7:$A$206,"<="&AH13,Buchungen!$B$7:$B$206,">"&AH13,Buchungen!$G$7:$G$206,"Eigennutzung")=1,3,IF(COUNTIFS(Buchungen!$A$7:$A$206,"<="&AH13,Buchungen!$B$7:$B$206,">"&AH13,Buchungen!$G$7:$G$206,"Gesperrt")=1,4,9))))))) -> 0 | BO13: =IF(AI13=0,-1,IF(COUNTIFS(Buchungen!$A$7:$A$206,"<="&AI13,Buchungen!$B$7:$B$206,">"&AI13,Buchungen!$G$7:$G$206,"<>Storniert")=0,0,IF(COUNTIFS(Buchungen!$A$7:$A$206,"<="&AI13,Buchungen!$B$7:$B$206,">"&AI13,Buchungen!$G$7:$G$206,"<>Storniert")>1,9,IF(COUNTIFS(Buchungen!$A$7:$A$206,"<="&AI13,Buchungen!$B$7:$B$206,">"&AI13,Buchungen!$G$7:$G$206,"Gebucht")=1,1,IF(COUNTIFS(Buchungen!$A$7:$A$206,"<="&AI13,Buchungen!$B$7:$B$206,">"&AI13,Buchungen!$G$7:$G$206,"Anfrage")=1,2,IF(COUNTIFS(Buchungen!$A$7:$A$206,"<="&AI13,Buchungen!$B$7:$B$206,">"&AI13,Buchungen!$G$7:$G$206,"Eigennutzung")=1,3,IF(COUNTIFS(Buchungen!$A$7:$A$206,"<="&AI13,Buchungen!$B$7:$B$206,">"&AI13,Buchungen!$G$7:$G$206,"Gesperrt")=1,4,9))))))) -> 3 | BP13: =IF(AJ13=0,-1,IF(COUNTIFS(Buchungen!$A$7:$A$206,"<="&AJ13,Buchungen!$B$7:$B$206,">"&AJ13,Buchungen!$G$7:$G$206,"<>Storniert")=0,0,IF(COUNTIFS(Buchungen!$A$7:$A$206,"<="&AJ13,Buchungen!$B$7:$B$206,">"&AJ13,Buchungen!$G$7:$G$206,"<>Storniert")>1,9,IF(COUNTIFS(Buchungen!$A$7:$A$206,"<="&AJ13,Buchungen!$B$7:$B$206,">"&AJ13,Buchungen!$G$7:$G$206,"Gebucht")=1,1,IF(COUNTIFS(Buchungen!$A$7:$A$206,"<="&AJ13,Buchungen!$B$7:$B$206,">"&AJ13,Buchungen!$G$7:$G$206,"Anfrage")=1,2,IF(COUNTIFS(Buchungen!$A$7:$A$206,"<="&AJ13,Buchungen!$B$7:$B$206,">"&AJ13,Buchungen!$G$7:$G$206,"Eigennutzung")=1,3,IF(COUNTIFS(Buchungen!$A$7:$A$206,"<="&AJ13,Buchungen!$B$7:$B$206,">"&AJ13,Buchungen!$G$7:$G$206,"Gesperrt")=1,4,9))))))) -> 3 | BQ13: =IF(AK13=0,-1,IF(COUNTIFS(Buchungen!$A$7:$A$206,"<="&AK13,Buchungen!$B$7:$B$206,">"&AK13,Buchungen!$G$7:$G$206,"<>Storniert")=0,0,IF(COUNTIFS(Buchungen!$A$7:$A$206,"<="&AK13,Buchungen!$B$7:$B$206,">"&AK13,Buchungen!$G$7:$G$206,"<>Storniert")>1,9,IF(COUNTIFS(Buchungen!$A$7:$A$206,"<="&AK13,Buchungen!$B$7:$B$206,">"&AK13,Buchungen!$G$7:$G$206,"Gebucht")=1,1,IF(COUNTIFS(Buchungen!$A$7:$A$206,"<="&AK13,Buchungen!$B$7:$B$206,">"&AK13,Buchungen!$G$7:$G$206,"Anfrage")=1,2,IF(COUNTIFS(Buchungen!$A$7:$A$206,"<="&AK13,Buchungen!$B$7:$B$206,">"&AK13,Buchungen!$G$7:$G$206,"Eigennutzung")=1,3,IF(COUNTIFS(Buchungen!$A$7:$A$206,"<="&AK13,Buchungen!$B$7:$B$206,">"&AK13,Buchungen!$G$7:$G$206,"Gesperrt")=1,4,9))))))) -> 3 | BR13: =IF(AL13=0,-1,IF(COUNTIFS(Buchungen!$A$7:$A$206,"<="&AL13,Buchungen!$B$7:$B$206,">"&AL13,Buchungen!$G$7:$G$206,"<>Storniert")=0,0,IF(COUNTIFS(Buchungen!$A$7:$A$206,"<="&AL13,Buchungen!$B$7:$B$206,">"&AL13,Buchungen!$G$7:$G$206,"<>Storniert")>1,9,IF(COUNTIFS(Buchungen!$A$7:$A$206,"<="&AL13,Buchungen!$B$7:$B$206,">"&AL13,Buchungen!$G$7:$G$206,"Gebucht")=1,1,IF(COUNTIFS(Buchungen!$A$7:$A$206,"<="&AL13,Buchungen!$B$7:$B$206,">"&AL13,Buchungen!$G$7:$G$206,"Anfrage")=1,2,IF(COUNTIFS(Buchungen!$A$7:$A$206,"<="&AL13,Buchungen!$B$7:$B$206,">"&AL13,Buchungen!$G$7:$G$206,"Eigennutzung")=1,3,IF(COUNTIFS(Buchungen!$A$7:$A$206,"<="&AL13,Buchungen!$B$7:$B$206,">"&AL13,Buchungen!$G$7:$G$206,"Gesperrt")=1,4,9))))))) -> 0 | BS13: =IF(AM13=0,-1,IF(COUNTIFS(Buchungen!$A$7:$A$206,"<="&AM13,Buchungen!$B$7:$B$206,">"&AM13,Buchungen!$G$7:$G$206,"<>Storniert")=0,0,IF(COUNTIFS(Buchungen!$A$7:$A$206,"<="&AM13,Buchungen!$B$7:$B$206,">"&AM13,Buchungen!$G$7:$G$206,"<>Storniert")>1,9,IF(COUNTIFS(Buchungen!$A$7:$A$206,"<="&AM13,Buchungen!$B$7:$B$206,">"&AM13,Buchungen!$G$7:$G$206,"Gebucht")=1,1,IF(COUNTIFS(Buchungen!$A$7:$A$206,"<="&AM13,Buchungen!$B$7:$B$206,">"&AM13,Buchungen!$G$7:$G$206,"Anfrage")=1,2,IF(COUNTIFS(Buchungen!$A$7:$A$206,"<="&AM13,Buchungen!$B$7:$B$206,">"&AM13,Buchungen!$G$7:$G$206,"Eigennutzung")=1,3,IF(COUNTIFS(Buchungen!$A$7:$A$206,"<="&AM13,Buchungen!$B$7:$B$206,">"&AM13,Buchungen!$G$7:$G$206,"Gesperrt")=1,4,9))))))) -> 0 | BT13: =IF(AN13=0,-1,IF(COUNTIFS(Buchungen!$A$7:$A$206,"<="&AN13,Buchungen!$B$7:$B$206,">"&AN13,Buchungen!$G$7:$G$206,"<>Storniert")=0,0,IF(COUNTIFS(Buchungen!$A$7:$A$206,"<="&AN13,Buchungen!$B$7:$B$206,">"&AN13,Buchungen!$G$7:$G$206,"<>Storniert")>1,9,IF(COUNTIFS(Buchungen!$A$7:$A$206,"<="&AN13,Buchungen!$B$7:$B$206,">"&AN13,Buchungen!$G$7:$G$206,"Gebucht")=1,1,IF(COUNTIFS(Buchungen!$A$7:$A$206,"<="&AN13,Buchungen!$B$7:$B$206,">"&AN13,Buchungen!$G$7:$G$206,"Anfrage")=1,2,IF(COUNTIFS(Buchungen!$A$7:$A$206,"<="&AN13,Buchungen!$B$7:$B$206,">"&AN13,Buchungen!$G$7:$G$206,"Eigennutzung")=1,3,IF(COUNTIFS(Buchungen!$A$7:$A$206,"<="&AN13,Buchungen!$B$7:$B$206,">"&AN13,Buchungen!$G$7:$G$206,"Gesperrt")=1,4,9))))))) -> 0 | BU13: =IF(AO13=0,-1,IF(COUNTIFS(Buchungen!$A$7:$A$206,"<="&AO13,Buchungen!$B$7:$B$206,">"&AO13,Buchungen!$G$7:$G$206,"<>Storniert")=0,0,IF(COUNTIFS(Buchungen!$A$7:$A$206,"<="&AO13,Buchungen!$B$7:$B$206,">"&AO13,Buchungen!$G$7:$G$206,"<>Storniert")>1,9,IF(COUNTIFS(Buchungen!$A$7:$A$206,"<="&AO13,Buchungen!$B$7:$B$206,">"&AO13,Buchungen!$G$7:$G$206,"Gebucht")=1,1,IF(COUNTIFS(Buchungen!$A$7:$A$206,"<="&AO13,Buchungen!$B$7:$B$206,">"&AO13,Buchungen!$G$7:$G$206,"Anfrage")=1,2,IF(COUNTIFS(Buchungen!$A$7:$A$206,"<="&AO13,Buchungen!$B$7:$B$206,">"&AO13,Buchungen!$G$7:$G$206,"Eigennutzung")=1,3,IF(COUNTIFS(Buchungen!$A$7:$A$206,"<="&AO13,Buchungen!$B$7:$B$206,">"&AO13,Buchungen!$G$7:$G$206,"Gesperrt")=1,4,9))))))) -> 0 | ... CR13: =IF(BL13=0,-1,IF(COUNTIFS(Buchungen!$A$7:$A$206,"<="&BL13,Buchungen!$B$7:$B$206,">"&BL13,Buchungen!$G$7:$G$206,"<>Storniert")=0,0,IF(COUNTIFS(Buchungen!$A$7:$A$206,"<="&BL13,Buchungen!$B$7:$B$206,">"&BL13,Buchungen!$G$7:$G$206,"<>Storniert")>1,9,IF(COUNTIFS(Buchungen!$A$7:$A$206,"<="&BL13,Buchungen!$B$7:$B$206,">"&BL13,Buchungen!$G$7:$G$206,"Gebucht")=1,1,IF(COUNTIFS(Buchungen!$A$7:$A$206,"<="&BL13,Buchungen!$B$7:$B$206,">"&BL13,Buchungen!$G$7:$G$206,"Anfrage")=1,2,IF(COUNTIFS(Buchungen!$A$7:$A$206,"<="&BL13,Buchungen!$B$7:$B$206,">"&BL13,Buchungen!$G$7:$G$206,"Eigennutzung")=1,3,IF(COUNTIFS(Buchungen!$A$7:$A$206,"<="&BL13,Buchungen!$B$7:$B$206,">"&BL13,Buchungen!$G$7:$G$206,"Gesperrt")=1,4,9))))))) -> 0
A14: September | B14: =IF(AH14=0,"",IF(AND(COUNTIFS(Buchungen!$A$7:$A$206,AH14,Buchungen!$G$7:$G$206,"<>Storniert")>0,COUNTIFS(Buchungen!$B$7:$B$206,AH14,Buchungen!$G$7:$G$206,"<>Storniert")>0),"W",IF(COUNTIFS(Buchungen!$A$7:$A$206,AH14,Buchungen!$G$7:$G$206,"<>Storniert")>0,"An",IF(COUNTIFS(Buchungen!$B$7:$B$206,AH14,Buchungen!$G$7:$G$206,"<>Storniert")>0,"Ab","")))) | C14: =IF(AI14=0,"",IF(AND(COUNTIFS(Buchungen!$A$7:$A$206,AI14,Buchungen!$G$7:$G$206,"<>Storniert")>0,COUNTIFS(Buchungen!$B$7:$B$206,AI14,Buchungen!$G$7:$G$206,"<>Storniert")>0),"W",IF(COUNTIFS(Buchungen!$A$7:$A$206,AI14,Buchungen!$G$7:$G$206,"<>Storniert")>0,"An",IF(COUNTIFS(Buchungen!$B$7:$B$206,AI14,Buchungen!$G$7:$G$206,"<>Storniert")>0,"Ab","")))) | D14: =IF(AJ14=0,"",IF(AND(COUNTIFS(Buchungen!$A$7:$A$206,AJ14,Buchungen!$G$7:$G$206,"<>Storniert")>0,COUNTIFS(Buchungen!$B$7:$B$206,AJ14,Buchungen!$G$7:$G$206,"<>Storniert")>0),"W",IF(COUNTIFS(Buchungen!$A$7:$A$206,AJ14,Buchungen!$G$7:$G$206,"<>Storniert")>0,"An",IF(COUNTIFS(Buchungen!$B$7:$B$206,AJ14,Buchungen!$G$7:$G$206,"<>Storniert")>0,"Ab","")))) | E14: =IF(AK14=0,"",IF(AND(COUNTIFS(Buchungen!$A$7:$A$206,AK14,Buchungen!$G$7:$G$206,"<>Storniert")>0,COUNTIFS(Buchungen!$B$7:$B$206,AK14,Buchungen!$G$7:$G$206,"<>Storniert")>0),"W",IF(COUNTIFS(Buchungen!$A$7:$A$206,AK14,Buchungen!$G$7:$G$206,"<>Storniert")>0,"An",IF(COUNTIFS(Buchungen!$B$7:$B$206,AK14,Buchungen!$G$7:$G$206,"<>Storniert")>0,"Ab","")))) | F14: =IF(AL14=0,"",IF(AND(COUNTIFS(Buchungen!$A$7:$A$206,AL14,Buchungen!$G$7:$G$206,"<>Storniert")>0,COUNTIFS(Buchungen!$B$7:$B$206,AL14,Buchungen!$G$7:$G$206,"<>Storniert")>0),"W",IF(COUNTIFS(Buchungen!$A$7:$A$206,AL14,Buchungen!$G$7:$G$206,"<>Storniert")>0,"An",IF(COUNTIFS(Buchungen!$B$7:$B$206,AL14,Buchungen!$G$7:$G$206,"<>Storniert")>0,"Ab","")))) | G14: =IF(AM14=0,"",IF(AND(COUNTIFS(Buchungen!$A$7:$A$206,AM14,Buchungen!$G$7:$G$206,"<>Storniert")>0,COUNTIFS(Buchungen!$B$7:$B$206,AM14,Buchungen!$G$7:$G$206,"<>Storniert")>0),"W",IF(COUNTIFS(Buchungen!$A$7:$A$206,AM14,Buchungen!$G$7:$G$206,"<>Storniert")>0,"An",IF(COUNTIFS(Buchungen!$B$7:$B$206,AM14,Buchungen!$G$7:$G$206,"<>Storniert")>0,"Ab","")))) | H14: =IF(AN14=0,"",IF(AND(COUNTIFS(Buchungen!$A$7:$A$206,AN14,Buchungen!$G$7:$G$206,"<>Storniert")>0,COUNTIFS(Buchungen!$B$7:$B$206,AN14,Buchungen!$G$7:$G$206,"<>Storniert")>0),"W",IF(COUNTIFS(Buchungen!$A$7:$A$206,AN14,Buchungen!$G$7:$G$206,"<>Storniert")>0,"An",IF(COUNTIFS(Buchungen!$B$7:$B$206,AN14,Buchungen!$G$7:$G$206,"<>Storniert")>0,"Ab","")))) | I14: =IF(AO14=0,"",IF(AND(COUNTIFS(Buchungen!$A$7:$A$206,AO14,Buchungen!$G$7:$G$206,"<>Storniert")>0,COUNTIFS(Buchungen!$B$7:$B$206,AO14,Buchungen!$G$7:$G$206,"<>Storniert")>0),"W",IF(COUNTIFS(Buchungen!$A$7:$A$206,AO14,Buchungen!$G$7:$G$206,"<>Storniert")>0,"An",IF(COUNTIFS(Buchungen!$B$7:$B$206,AO14,Buchungen!$G$7:$G$206,"<>Storniert")>0,"Ab","")))) | ... AF14: =IF(BL14=0,"",IF(AND(COUNTIFS(Buchungen!$A$7:$A$206,BL14,Buchungen!$G$7:$G$206,"<>Storniert")>0,COUNTIFS(Buchungen!$B$7:$B$206,BL14,Buchungen!$G$7:$G$206,"<>Storniert")>0),"W",IF(COUNTIFS(Buchungen!$A$7:$A$206,BL14,Buchungen!$G$7:$G$206,"<>Storniert")>0,"An",IF(COUNTIFS(Buchungen!$B$7:$B$206,BL14,Buchungen!$G$7:$G$206,"<>Storniert")>0,"Ab","")))) | AH14: =IF(MONTH(DATE(Einstellungen!$B$5,9,B$5))=9,DATE(Einstellungen!$B$5,9,B$5),0) -> 46631 | AI14: =IF(MONTH(DATE(Einstellungen!$B$5,9,C$5))=9,DATE(Einstellungen!$B$5,9,C$5),0) -> 46632 | AJ14: =IF(MONTH(DATE(Einstellungen!$B$5,9,D$5))=9,DATE(Einstellungen!$B$5,9,D$5),0) -> 46633 | AK14: =IF(MONTH(DATE(Einstellungen!$B$5,9,E$5))=9,DATE(Einstellungen!$B$5,9,E$5),0) -> 46634 | AL14: =IF(MONTH(DATE(Einstellungen!$B$5,9,F$5))=9,DATE(Einstellungen!$B$5,9,F$5),0) -> 46635 | AM14: =IF(MONTH(DATE(Einstellungen!$B$5,9,G$5))=9,DATE(Einstellungen!$B$5,9,G$5),0) -> 46636 | AN14: =IF(MONTH(DATE(Einstellungen!$B$5,9,H$5))=9,DATE(Einstellungen!$B$5,9,H$5),0) -> 46637 | AO14: =IF(MONTH(DATE(Einstellungen!$B$5,9,I$5))=9,DATE(Einstellungen!$B$5,9,I$5),0) -> 46638 | ... BL14: =IF(MONTH(DATE(Einstellungen!$B$5,9,AF$5))=9,DATE(Einstellungen!$B$5,9,AF$5),0) -> 0 | BN14: =IF(AH14=0,-1,IF(COUNTIFS(Buchungen!$A$7:$A$206,"<="&AH14,Buchungen!$B$7:$B$206,">"&AH14,Buchungen!$G$7:$G$206,"<>Storniert")=0,0,IF(COUNTIFS(Buchungen!$A$7:$A$206,"<="&AH14,Buchungen!$B$7:$B$206,">"&AH14,Buchungen!$G$7:$G$206,"<>Storniert")>1,9,IF(COUNTIFS(Buchungen!$A$7:$A$206,"<="&AH14,Buchungen!$B$7:$B$206,">"&AH14,Buchungen!$G$7:$G$206,"Gebucht")=1,1,IF(COUNTIFS(Buchungen!$A$7:$A$206,"<="&AH14,Buchungen!$B$7:$B$206,">"&AH14,Buchungen!$G$7:$G$206,"Anfrage")=1,2,IF(COUNTIFS(Buchungen!$A$7:$A$206,"<="&AH14,Buchungen!$B$7:$B$206,">"&AH14,Buchungen!$G$7:$G$206,"Eigennutzung")=1,3,IF(COUNTIFS(Buchungen!$A$7:$A$206,"<="&AH14,Buchungen!$B$7:$B$206,">"&AH14,Buchungen!$G$7:$G$206,"Gesperrt")=1,4,9))))))) -> 0 | BO14: =IF(AI14=0,-1,IF(COUNTIFS(Buchungen!$A$7:$A$206,"<="&AI14,Buchungen!$B$7:$B$206,">"&AI14,Buchungen!$G$7:$G$206,"<>Storniert")=0,0,IF(COUNTIFS(Buchungen!$A$7:$A$206,"<="&AI14,Buchungen!$B$7:$B$206,">"&AI14,Buchungen!$G$7:$G$206,"<>Storniert")>1,9,IF(COUNTIFS(Buchungen!$A$7:$A$206,"<="&AI14,Buchungen!$B$7:$B$206,">"&AI14,Buchungen!$G$7:$G$206,"Gebucht")=1,1,IF(COUNTIFS(Buchungen!$A$7:$A$206,"<="&AI14,Buchungen!$B$7:$B$206,">"&AI14,Buchungen!$G$7:$G$206,"Anfrage")=1,2,IF(COUNTIFS(Buchungen!$A$7:$A$206,"<="&AI14,Buchungen!$B$7:$B$206,">"&AI14,Buchungen!$G$7:$G$206,"Eigennutzung")=1,3,IF(COUNTIFS(Buchungen!$A$7:$A$206,"<="&AI14,Buchungen!$B$7:$B$206,">"&AI14,Buchungen!$G$7:$G$206,"Gesperrt")=1,4,9))))))) -> 0 | BP14: =IF(AJ14=0,-1,IF(COUNTIFS(Buchungen!$A$7:$A$206,"<="&AJ14,Buchungen!$B$7:$B$206,">"&AJ14,Buchungen!$G$7:$G$206,"<>Storniert")=0,0,IF(COUNTIFS(Buchungen!$A$7:$A$206,"<="&AJ14,Buchungen!$B$7:$B$206,">"&AJ14,Buchungen!$G$7:$G$206,"<>Storniert")>1,9,IF(COUNTIFS(Buchungen!$A$7:$A$206,"<="&AJ14,Buchungen!$B$7:$B$206,">"&AJ14,Buchungen!$G$7:$G$206,"Gebucht")=1,1,IF(COUNTIFS(Buchungen!$A$7:$A$206,"<="&AJ14,Buchungen!$B$7:$B$206,">"&AJ14,Buchungen!$G$7:$G$206,"Anfrage")=1,2,IF(COUNTIFS(Buchungen!$A$7:$A$206,"<="&AJ14,Buchungen!$B$7:$B$206,">"&AJ14,Buchungen!$G$7:$G$206,"Eigennutzung")=1,3,IF(COUNTIFS(Buchungen!$A$7:$A$206,"<="&AJ14,Buchungen!$B$7:$B$206,">"&AJ14,Buchungen!$G$7:$G$206,"Gesperrt")=1,4,9))))))) -> 0 | BQ14: =IF(AK14=0,-1,IF(COUNTIFS(Buchungen!$A$7:$A$206,"<="&AK14,Buchungen!$B$7:$B$206,">"&AK14,Buchungen!$G$7:$G$206,"<>Storniert")=0,0,IF(COUNTIFS(Buchungen!$A$7:$A$206,"<="&AK14,Buchungen!$B$7:$B$206,">"&AK14,Buchungen!$G$7:$G$206,"<>Storniert")>1,9,IF(COUNTIFS(Buchungen!$A$7:$A$206,"<="&AK14,Buchungen!$B$7:$B$206,">"&AK14,Buchungen!$G$7:$G$206,"Gebucht")=1,1,IF(COUNTIFS(Buchungen!$A$7:$A$206,"<="&AK14,Buchungen!$B$7:$B$206,">"&AK14,Buchungen!$G$7:$G$206,"Anfrage")=1,2,IF(COUNTIFS(Buchungen!$A$7:$A$206,"<="&AK14,Buchungen!$B$7:$B$206,">"&AK14,Buchungen!$G$7:$G$206,"Eigennutzung")=1,3,IF(COUNTIFS(Buchungen!$A$7:$A$206,"<="&AK14,Buchungen!$B$7:$B$206,">"&AK14,Buchungen!$G$7:$G$206,"Gesperrt")=1,4,9))))))) -> 0 | BR14: =IF(AL14=0,-1,IF(COUNTIFS(Buchungen!$A$7:$A$206,"<="&AL14,Buchungen!$B$7:$B$206,">"&AL14,Buchungen!$G$7:$G$206,"<>Storniert")=0,0,IF(COUNTIFS(Buchungen!$A$7:$A$206,"<="&AL14,Buchungen!$B$7:$B$206,">"&AL14,Buchungen!$G$7:$G$206,"<>Storniert")>1,9,IF(COUNTIFS(Buchungen!$A$7:$A$206,"<="&AL14,Buchungen!$B$7:$B$206,">"&AL14,Buchungen!$G$7:$G$206,"Gebucht")=1,1,IF(COUNTIFS(Buchungen!$A$7:$A$206,"<="&AL14,Buchungen!$B$7:$B$206,">"&AL14,Buchungen!$G$7:$G$206,"Anfrage")=1,2,IF(COUNTIFS(Buchungen!$A$7:$A$206,"<="&AL14,Buchungen!$B$7:$B$206,">"&AL14,Buchungen!$G$7:$G$206,"Eigennutzung")=1,3,IF(COUNTIFS(Buchungen!$A$7:$A$206,"<="&AL14,Buchungen!$B$7:$B$206,">"&AL14,Buchungen!$G$7:$G$206,"Gesperrt")=1,4,9))))))) -> 0 | BS14: =IF(AM14=0,-1,IF(COUNTIFS(Buchungen!$A$7:$A$206,"<="&AM14,Buchungen!$B$7:$B$206,">"&AM14,Buchungen!$G$7:$G$206,"<>Storniert")=0,0,IF(COUNTIFS(Buchungen!$A$7:$A$206,"<="&AM14,Buchungen!$B$7:$B$206,">"&AM14,Buchungen!$G$7:$G$206,"<>Storniert")>1,9,IF(COUNTIFS(Buchungen!$A$7:$A$206,"<="&AM14,Buchungen!$B$7:$B$206,">"&AM14,Buchungen!$G$7:$G$206,"Gebucht")=1,1,IF(COUNTIFS(Buchungen!$A$7:$A$206,"<="&AM14,Buchungen!$B$7:$B$206,">"&AM14,Buchungen!$G$7:$G$206,"Anfrage")=1,2,IF(COUNTIFS(Buchungen!$A$7:$A$206,"<="&AM14,Buchungen!$B$7:$B$206,">"&AM14,Buchungen!$G$7:$G$206,"Eigennutzung")=1,3,IF(COUNTIFS(Buchungen!$A$7:$A$206,"<="&AM14,Buchungen!$B$7:$B$206,">"&AM14,Buchungen!$G$7:$G$206,"Gesperrt")=1,4,9))))))) -> 0 | BT14: =IF(AN14=0,-1,IF(COUNTIFS(Buchungen!$A$7:$A$206,"<="&AN14,Buchungen!$B$7:$B$206,">"&AN14,Buchungen!$G$7:$G$206,"<>Storniert")=0,0,IF(COUNTIFS(Buchungen!$A$7:$A$206,"<="&AN14,Buchungen!$B$7:$B$206,">"&AN14,Buchungen!$G$7:$G$206,"<>Storniert")>1,9,IF(COUNTIFS(Buchungen!$A$7:$A$206,"<="&AN14,Buchungen!$B$7:$B$206,">"&AN14,Buchungen!$G$7:$G$206,"Gebucht")=1,1,IF(COUNTIFS(Buchungen!$A$7:$A$206,"<="&AN14,Buchungen!$B$7:$B$206,">"&AN14,Buchungen!$G$7:$G$206,"Anfrage")=1,2,IF(COUNTIFS(Buchungen!$A$7:$A$206,"<="&AN14,Buchungen!$B$7:$B$206,">"&AN14,Buchungen!$G$7:$G$206,"Eigennutzung")=1,3,IF(COUNTIFS(Buchungen!$A$7:$A$206,"<="&AN14,Buchungen!$B$7:$B$206,">"&AN14,Buchungen!$G$7:$G$206,"Gesperrt")=1,4,9))))))) -> 0 | BU14: =IF(AO14=0,-1,IF(COUNTIFS(Buchungen!$A$7:$A$206,"<="&AO14,Buchungen!$B$7:$B$206,">"&AO14,Buchungen!$G$7:$G$206,"<>Storniert")=0,0,IF(COUNTIFS(Buchungen!$A$7:$A$206,"<="&AO14,Buchungen!$B$7:$B$206,">"&AO14,Buchungen!$G$7:$G$206,"<>Storniert")>1,9,IF(COUNTIFS(Buchungen!$A$7:$A$206,"<="&AO14,Buchungen!$B$7:$B$206,">"&AO14,Buchungen!$G$7:$G$206,"Gebucht")=1,1,IF(COUNTIFS(Buchungen!$A$7:$A$206,"<="&AO14,Buchungen!$B$7:$B$206,">"&AO14,Buchungen!$G$7:$G$206,"Anfrage")=1,2,IF(COUNTIFS(Buchungen!$A$7:$A$206,"<="&AO14,Buchungen!$B$7:$B$206,">"&AO14,Buchungen!$G$7:$G$206,"Eigennutzung")=1,3,IF(COUNTIFS(Buchungen!$A$7:$A$206,"<="&AO14,Buchungen!$B$7:$B$206,">"&AO14,Buchungen!$G$7:$G$206,"Gesperrt")=1,4,9))))))) -> 0 | ... CR14: =IF(BL14=0,-1,IF(COUNTIFS(Buchungen!$A$7:$A$206,"<="&BL14,Buchungen!$B$7:$B$206,">"&BL14,Buchungen!$G$7:$G$206,"<>Storniert")=0,0,IF(COUNTIFS(Buchungen!$A$7:$A$206,"<="&BL14,Buchungen!$B$7:$B$206,">"&BL14,Buchungen!$G$7:$G$206,"<>Storniert")>1,9,IF(COUNTIFS(Buchungen!$A$7:$A$206,"<="&BL14,Buchungen!$B$7:$B$206,">"&BL14,Buchungen!$G$7:$G$206,"Gebucht")=1,1,IF(COUNTIFS(Buchungen!$A$7:$A$206,"<="&BL14,Buchungen!$B$7:$B$206,">"&BL14,Buchungen!$G$7:$G$206,"Anfrage")=1,2,IF(COUNTIFS(Buchungen!$A$7:$A$206,"<="&BL14,Buchungen!$B$7:$B$206,">"&BL14,Buchungen!$G$7:$G$206,"Eigennutzung")=1,3,IF(COUNTIFS(Buchungen!$A$7:$A$206,"<="&BL14,Buchungen!$B$7:$B$206,">"&BL14,Buchungen!$G$7:$G$206,"Gesperrt")=1,4,9))))))) -> -1
A15: Oktober | B15: =IF(AH15=0,"",IF(AND(COUNTIFS(Buchungen!$A$7:$A$206,AH15,Buchungen!$G$7:$G$206,"<>Storniert")>0,COUNTIFS(Buchungen!$B$7:$B$206,AH15,Buchungen!$G$7:$G$206,"<>Storniert")>0),"W",IF(COUNTIFS(Buchungen!$A$7:$A$206,AH15,Buchungen!$G$7:$G$206,"<>Storniert")>0,"An",IF(COUNTIFS(Buchungen!$B$7:$B$206,AH15,Buchungen!$G$7:$G$206,"<>Storniert")>0,"Ab","")))) | C15: =IF(AI15=0,"",IF(AND(COUNTIFS(Buchungen!$A$7:$A$206,AI15,Buchungen!$G$7:$G$206,"<>Storniert")>0,COUNTIFS(Buchungen!$B$7:$B$206,AI15,Buchungen!$G$7:$G$206,"<>Storniert")>0),"W",IF(COUNTIFS(Buchungen!$A$7:$A$206,AI15,Buchungen!$G$7:$G$206,"<>Storniert")>0,"An",IF(COUNTIFS(Buchungen!$B$7:$B$206,AI15,Buchungen!$G$7:$G$206,"<>Storniert")>0,"Ab","")))) | D15: =IF(AJ15=0,"",IF(AND(COUNTIFS(Buchungen!$A$7:$A$206,AJ15,Buchungen!$G$7:$G$206,"<>Storniert")>0,COUNTIFS(Buchungen!$B$7:$B$206,AJ15,Buchungen!$G$7:$G$206,"<>Storniert")>0),"W",IF(COUNTIFS(Buchungen!$A$7:$A$206,AJ15,Buchungen!$G$7:$G$206,"<>Storniert")>0,"An",IF(COUNTIFS(Buchungen!$B$7:$B$206,AJ15,Buchungen!$G$7:$G$206,"<>Storniert")>0,"Ab","")))) | E15: =IF(AK15=0,"",IF(AND(COUNTIFS(Buchungen!$A$7:$A$206,AK15,Buchungen!$G$7:$G$206,"<>Storniert")>0,COUNTIFS(Buchungen!$B$7:$B$206,AK15,Buchungen!$G$7:$G$206,"<>Storniert")>0),"W",IF(COUNTIFS(Buchungen!$A$7:$A$206,AK15,Buchungen!$G$7:$G$206,"<>Storniert")>0,"An",IF(COUNTIFS(Buchungen!$B$7:$B$206,AK15,Buchungen!$G$7:$G$206,"<>Storniert")>0,"Ab","")))) | F15: =IF(AL15=0,"",IF(AND(COUNTIFS(Buchungen!$A$7:$A$206,AL15,Buchungen!$G$7:$G$206,"<>Storniert")>0,COUNTIFS(Buchungen!$B$7:$B$206,AL15,Buchungen!$G$7:$G$206,"<>Storniert")>0),"W",IF(COUNTIFS(Buchungen!$A$7:$A$206,AL15,Buchungen!$G$7:$G$206,"<>Storniert")>0,"An",IF(COUNTIFS(Buchungen!$B$7:$B$206,AL15,Buchungen!$G$7:$G$206,"<>Storniert")>0,"Ab","")))) | G15: =IF(AM15=0,"",IF(AND(COUNTIFS(Buchungen!$A$7:$A$206,AM15,Buchungen!$G$7:$G$206,"<>Storniert")>0,COUNTIFS(Buchungen!$B$7:$B$206,AM15,Buchungen!$G$7:$G$206,"<>Storniert")>0),"W",IF(COUNTIFS(Buchungen!$A$7:$A$206,AM15,Buchungen!$G$7:$G$206,"<>Storniert")>0,"An",IF(COUNTIFS(Buchungen!$B$7:$B$206,AM15,Buchungen!$G$7:$G$206,"<>Storniert")>0,"Ab","")))) | H15: =IF(AN15=0,"",IF(AND(COUNTIFS(Buchungen!$A$7:$A$206,AN15,Buchungen!$G$7:$G$206,"<>Storniert")>0,COUNTIFS(Buchungen!$B$7:$B$206,AN15,Buchungen!$G$7:$G$206,"<>Storniert")>0),"W",IF(COUNTIFS(Buchungen!$A$7:$A$206,AN15,Buchungen!$G$7:$G$206,"<>Storniert")>0,"An",IF(COUNTIFS(Buchungen!$B$7:$B$206,AN15,Buchungen!$G$7:$G$206,"<>Storniert")>0,"Ab","")))) | I15: =IF(AO15=0,"",IF(AND(COUNTIFS(Buchungen!$A$7:$A$206,AO15,Buchungen!$G$7:$G$206,"<>Storniert")>0,COUNTIFS(Buchungen!$B$7:$B$206,AO15,Buchungen!$G$7:$G$206,"<>Storniert")>0),"W",IF(COUNTIFS(Buchungen!$A$7:$A$206,AO15,Buchungen!$G$7:$G$206,"<>Storniert")>0,"An",IF(COUNTIFS(Buchungen!$B$7:$B$206,AO15,Buchungen!$G$7:$G$206,"<>Storniert")>0,"Ab","")))) | ... AF15: =IF(BL15=0,"",IF(AND(COUNTIFS(Buchungen!$A$7:$A$206,BL15,Buchungen!$G$7:$G$206,"<>Storniert")>0,COUNTIFS(Buchungen!$B$7:$B$206,BL15,Buchungen!$G$7:$G$206,"<>Storniert")>0),"W",IF(COUNTIFS(Buchungen!$A$7:$A$206,BL15,Buchungen!$G$7:$G$206,"<>Storniert")>0,"An",IF(COUNTIFS(Buchungen!$B$7:$B$206,BL15,Buchungen!$G$7:$G$206,"<>Storniert")>0,"Ab","")))) | AH15: =IF(MONTH(DATE(Einstellungen!$B$5,10,B$5))=10,DATE(Einstellungen!$B$5,10,B$5),0) -> 46661 | AI15: =IF(MONTH(DATE(Einstellungen!$B$5,10,C$5))=10,DATE(Einstellungen!$B$5,10,C$5),0) -> 46662 | AJ15: =IF(MONTH(DATE(Einstellungen!$B$5,10,D$5))=10,DATE(Einstellungen!$B$5,10,D$5),0) -> 46663 | AK15: =IF(MONTH(DATE(Einstellungen!$B$5,10,E$5))=10,DATE(Einstellungen!$B$5,10,E$5),0) -> 46664 | AL15: =IF(MONTH(DATE(Einstellungen!$B$5,10,F$5))=10,DATE(Einstellungen!$B$5,10,F$5),0) -> 46665 | AM15: =IF(MONTH(DATE(Einstellungen!$B$5,10,G$5))=10,DATE(Einstellungen!$B$5,10,G$5),0) -> 46666 | AN15: =IF(MONTH(DATE(Einstellungen!$B$5,10,H$5))=10,DATE(Einstellungen!$B$5,10,H$5),0) -> 46667 | AO15: =IF(MONTH(DATE(Einstellungen!$B$5,10,I$5))=10,DATE(Einstellungen!$B$5,10,I$5),0) -> 46668 | ... BL15: =IF(MONTH(DATE(Einstellungen!$B$5,10,AF$5))=10,DATE(Einstellungen!$B$5,10,AF$5),0) -> 46691 | BN15: =IF(AH15=0,-1,IF(COUNTIFS(Buchungen!$A$7:$A$206,"<="&AH15,Buchungen!$B$7:$B$206,">"&AH15,Buchungen!$G$7:$G$206,"<>Storniert")=0,0,IF(COUNTIFS(Buchungen!$A$7:$A$206,"<="&AH15,Buchungen!$B$7:$B$206,">"&AH15,Buchungen!$G$7:$G$206,"<>Storniert")>1,9,IF(COUNTIFS(Buchungen!$A$7:$A$206,"<="&AH15,Buchungen!$B$7:$B$206,">"&AH15,Buchungen!$G$7:$G$206,"Gebucht")=1,1,IF(COUNTIFS(Buchungen!$A$7:$A$206,"<="&AH15,Buchungen!$B$7:$B$206,">"&AH15,Buchungen!$G$7:$G$206,"Anfrage")=1,2,IF(COUNTIFS(Buchungen!$A$7:$A$206,"<="&AH15,Buchungen!$B$7:$B$206,">"&AH15,Buchungen!$G$7:$G$206,"Eigennutzung")=1,3,IF(COUNTIFS(Buchungen!$A$7:$A$206,"<="&AH15,Buchungen!$B$7:$B$206,">"&AH15,Buchungen!$G$7:$G$206,"Gesperrt")=1,4,9))))))) -> 0 | BO15: =IF(AI15=0,-1,IF(COUNTIFS(Buchungen!$A$7:$A$206,"<="&AI15,Buchungen!$B$7:$B$206,">"&AI15,Buchungen!$G$7:$G$206,"<>Storniert")=0,0,IF(COUNTIFS(Buchungen!$A$7:$A$206,"<="&AI15,Buchungen!$B$7:$B$206,">"&AI15,Buchungen!$G$7:$G$206,"<>Storniert")>1,9,IF(COUNTIFS(Buchungen!$A$7:$A$206,"<="&AI15,Buchungen!$B$7:$B$206,">"&AI15,Buchungen!$G$7:$G$206,"Gebucht")=1,1,IF(COUNTIFS(Buchungen!$A$7:$A$206,"<="&AI15,Buchungen!$B$7:$B$206,">"&AI15,Buchungen!$G$7:$G$206,"Anfrage")=1,2,IF(COUNTIFS(Buchungen!$A$7:$A$206,"<="&AI15,Buchungen!$B$7:$B$206,">"&AI15,Buchungen!$G$7:$G$206,"Eigennutzung")=1,3,IF(COUNTIFS(Buchungen!$A$7:$A$206,"<="&AI15,Buchungen!$B$7:$B$206,">"&AI15,Buchungen!$G$7:$G$206,"Gesperrt")=1,4,9))))))) -> 0 | BP15: =IF(AJ15=0,-1,IF(COUNTIFS(Buchungen!$A$7:$A$206,"<="&AJ15,Buchungen!$B$7:$B$206,">"&AJ15,Buchungen!$G$7:$G$206,"<>Storniert")=0,0,IF(COUNTIFS(Buchungen!$A$7:$A$206,"<="&AJ15,Buchungen!$B$7:$B$206,">"&AJ15,Buchungen!$G$7:$G$206,"<>Storniert")>1,9,IF(COUNTIFS(Buchungen!$A$7:$A$206,"<="&AJ15,Buchungen!$B$7:$B$206,">"&AJ15,Buchungen!$G$7:$G$206,"Gebucht")=1,1,IF(COUNTIFS(Buchungen!$A$7:$A$206,"<="&AJ15,Buchungen!$B$7:$B$206,">"&AJ15,Buchungen!$G$7:$G$206,"Anfrage")=1,2,IF(COUNTIFS(Buchungen!$A$7:$A$206,"<="&AJ15,Buchungen!$B$7:$B$206,">"&AJ15,Buchungen!$G$7:$G$206,"Eigennutzung")=1,3,IF(COUNTIFS(Buchungen!$A$7:$A$206,"<="&AJ15,Buchungen!$B$7:$B$206,">"&AJ15,Buchungen!$G$7:$G$206,"Gesperrt")=1,4,9))))))) -> 0 | BQ15: =IF(AK15=0,-1,IF(COUNTIFS(Buchungen!$A$7:$A$206,"<="&AK15,Buchungen!$B$7:$B$206,">"&AK15,Buchungen!$G$7:$G$206,"<>Storniert")=0,0,IF(COUNTIFS(Buchungen!$A$7:$A$206,"<="&AK15,Buchungen!$B$7:$B$206,">"&AK15,Buchungen!$G$7:$G$206,"<>Storniert")>1,9,IF(COUNTIFS(Buchungen!$A$7:$A$206,"<="&AK15,Buchungen!$B$7:$B$206,">"&AK15,Buchungen!$G$7:$G$206,"Gebucht")=1,1,IF(COUNTIFS(Buchungen!$A$7:$A$206,"<="&AK15,Buchungen!$B$7:$B$206,">"&AK15,Buchungen!$G$7:$G$206,"Anfrage")=1,2,IF(COUNTIFS(Buchungen!$A$7:$A$206,"<="&AK15,Buchungen!$B$7:$B$206,">"&AK15,Buchungen!$G$7:$G$206,"Eigennutzung")=1,3,IF(COUNTIFS(Buchungen!$A$7:$A$206,"<="&AK15,Buchungen!$B$7:$B$206,">"&AK15,Buchungen!$G$7:$G$206,"Gesperrt")=1,4,9))))))) -> 0 | BR15: =IF(AL15=0,-1,IF(COUNTIFS(Buchungen!$A$7:$A$206,"<="&AL15,Buchungen!$B$7:$B$206,">"&AL15,Buchungen!$G$7:$G$206,"<>Storniert")=0,0,IF(COUNTIFS(Buchungen!$A$7:$A$206,"<="&AL15,Buchungen!$B$7:$B$206,">"&AL15,Buchungen!$G$7:$G$206,"<>Storniert")>1,9,IF(COUNTIFS(Buchungen!$A$7:$A$206,"<="&AL15,Buchungen!$B$7:$B$206,">"&AL15,Buchungen!$G$7:$G$206,"Gebucht")=1,1,IF(COUNTIFS(Buchungen!$A$7:$A$206,"<="&AL15,Buchungen!$B$7:$B$206,">"&AL15,Buchungen!$G$7:$G$206,"Anfrage")=1,2,IF(COUNTIFS(Buchungen!$A$7:$A$206,"<="&AL15,Buchungen!$B$7:$B$206,">"&AL15,Buchungen!$G$7:$G$206,"Eigennutzung")=1,3,IF(COUNTIFS(Buchungen!$A$7:$A$206,"<="&AL15,Buchungen!$B$7:$B$206,">"&AL15,Buchungen!$G$7:$G$206,"Gesperrt")=1,4,9))))))) -> 0 | BS15: =IF(AM15=0,-1,IF(COUNTIFS(Buchungen!$A$7:$A$206,"<="&AM15,Buchungen!$B$7:$B$206,">"&AM15,Buchungen!$G$7:$G$206,"<>Storniert")=0,0,IF(COUNTIFS(Buchungen!$A$7:$A$206,"<="&AM15,Buchungen!$B$7:$B$206,">"&AM15,Buchungen!$G$7:$G$206,"<>Storniert")>1,9,IF(COUNTIFS(Buchungen!$A$7:$A$206,"<="&AM15,Buchungen!$B$7:$B$206,">"&AM15,Buchungen!$G$7:$G$206,"Gebucht")=1,1,IF(COUNTIFS(Buchungen!$A$7:$A$206,"<="&AM15,Buchungen!$B$7:$B$206,">"&AM15,Buchungen!$G$7:$G$206,"Anfrage")=1,2,IF(COUNTIFS(Buchungen!$A$7:$A$206,"<="&AM15,Buchungen!$B$7:$B$206,">"&AM15,Buchungen!$G$7:$G$206,"Eigennutzung")=1,3,IF(COUNTIFS(Buchungen!$A$7:$A$206,"<="&AM15,Buchungen!$B$7:$B$206,">"&AM15,Buchungen!$G$7:$G$206,"Gesperrt")=1,4,9))))))) -> 0 | BT15: =IF(AN15=0,-1,IF(COUNTIFS(Buchungen!$A$7:$A$206,"<="&AN15,Buchungen!$B$7:$B$206,">"&AN15,Buchungen!$G$7:$G$206,"<>Storniert")=0,0,IF(COUNTIFS(Buchungen!$A$7:$A$206,"<="&AN15,Buchungen!$B$7:$B$206,">"&AN15,Buchungen!$G$7:$G$206,"<>Storniert")>1,9,IF(COUNTIFS(Buchungen!$A$7:$A$206,"<="&AN15,Buchungen!$B$7:$B$206,">"&AN15,Buchungen!$G$7:$G$206,"Gebucht")=1,1,IF(COUNTIFS(Buchungen!$A$7:$A$206,"<="&AN15,Buchungen!$B$7:$B$206,">"&AN15,Buchungen!$G$7:$G$206,"Anfrage")=1,2,IF(COUNTIFS(Buchungen!$A$7:$A$206,"<="&AN15,Buchungen!$B$7:$B$206,">"&AN15,Buchungen!$G$7:$G$206,"Eigennutzung")=1,3,IF(COUNTIFS(Buchungen!$A$7:$A$206,"<="&AN15,Buchungen!$B$7:$B$206,">"&AN15,Buchungen!$G$7:$G$206,"Gesperrt")=1,4,9))))))) -> 0 | BU15: =IF(AO15=0,-1,IF(COUNTIFS(Buchungen!$A$7:$A$206,"<="&AO15,Buchungen!$B$7:$B$206,">"&AO15,Buchungen!$G$7:$G$206,"<>Storniert")=0,0,IF(COUNTIFS(Buchungen!$A$7:$A$206,"<="&AO15,Buchungen!$B$7:$B$206,">"&AO15,Buchungen!$G$7:$G$206,"<>Storniert")>1,9,IF(COUNTIFS(Buchungen!$A$7:$A$206,"<="&AO15,Buchungen!$B$7:$B$206,">"&AO15,Buchungen!$G$7:$G$206,"Gebucht")=1,1,IF(COUNTIFS(Buchungen!$A$7:$A$206,"<="&AO15,Buchungen!$B$7:$B$206,">"&AO15,Buchungen!$G$7:$G$206,"Anfrage")=1,2,IF(COUNTIFS(Buchungen!$A$7:$A$206,"<="&AO15,Buchungen!$B$7:$B$206,">"&AO15,Buchungen!$G$7:$G$206,"Eigennutzung")=1,3,IF(COUNTIFS(Buchungen!$A$7:$A$206,"<="&AO15,Buchungen!$B$7:$B$206,">"&AO15,Buchungen!$G$7:$G$206,"Gesperrt")=1,4,9))))))) -> 0 | ... CR15: =IF(BL15=0,-1,IF(COUNTIFS(Buchungen!$A$7:$A$206,"<="&BL15,Buchungen!$B$7:$B$206,">"&BL15,Buchungen!$G$7:$G$206,"<>Storniert")=0,0,IF(COUNTIFS(Buchungen!$A$7:$A$206,"<="&BL15,Buchungen!$B$7:$B$206,">"&BL15,Buchungen!$G$7:$G$206,"<>Storniert")>1,9,IF(COUNTIFS(Buchungen!$A$7:$A$206,"<="&BL15,Buchungen!$B$7:$B$206,">"&BL15,Buchungen!$G$7:$G$206,"Gebucht")=1,1,IF(COUNTIFS(Buchungen!$A$7:$A$206,"<="&BL15,Buchungen!$B$7:$B$206,">"&BL15,Buchungen!$G$7:$G$206,"Anfrage")=1,2,IF(COUNTIFS(Buchungen!$A$7:$A$206,"<="&BL15,Buchungen!$B$7:$B$206,">"&BL15,Buchungen!$G$7:$G$206,"Eigennutzung")=1,3,IF(COUNTIFS(Buchungen!$A$7:$A$206,"<="&BL15,Buchungen!$B$7:$B$206,">"&BL15,Buchungen!$G$7:$G$206,"Gesperrt")=1,4,9))))))) -> 0
A16: November | B16: =IF(AH16=0,"",IF(AND(COUNTIFS(Buchungen!$A$7:$A$206,AH16,Buchungen!$G$7:$G$206,"<>Storniert")>0,COUNTIFS(Buchungen!$B$7:$B$206,AH16,Buchungen!$G$7:$G$206,"<>Storniert")>0),"W",IF(COUNTIFS(Buchungen!$A$7:$A$206,AH16,Buchungen!$G$7:$G$206,"<>Storniert")>0,"An",IF(COUNTIFS(Buchungen!$B$7:$B$206,AH16,Buchungen!$G$7:$G$206,"<>Storniert")>0,"Ab","")))) | C16: =IF(AI16=0,"",IF(AND(COUNTIFS(Buchungen!$A$7:$A$206,AI16,Buchungen!$G$7:$G$206,"<>Storniert")>0,COUNTIFS(Buchungen!$B$7:$B$206,AI16,Buchungen!$G$7:$G$206,"<>Storniert")>0),"W",IF(COUNTIFS(Buchungen!$A$7:$A$206,AI16,Buchungen!$G$7:$G$206,"<>Storniert")>0,"An",IF(COUNTIFS(Buchungen!$B$7:$B$206,AI16,Buchungen!$G$7:$G$206,"<>Storniert")>0,"Ab","")))) | D16: =IF(AJ16=0,"",IF(AND(COUNTIFS(Buchungen!$A$7:$A$206,AJ16,Buchungen!$G$7:$G$206,"<>Storniert")>0,COUNTIFS(Buchungen!$B$7:$B$206,AJ16,Buchungen!$G$7:$G$206,"<>Storniert")>0),"W",IF(COUNTIFS(Buchungen!$A$7:$A$206,AJ16,Buchungen!$G$7:$G$206,"<>Storniert")>0,"An",IF(COUNTIFS(Buchungen!$B$7:$B$206,AJ16,Buchungen!$G$7:$G$206,"<>Storniert")>0,"Ab","")))) | E16: =IF(AK16=0,"",IF(AND(COUNTIFS(Buchungen!$A$7:$A$206,AK16,Buchungen!$G$7:$G$206,"<>Storniert")>0,COUNTIFS(Buchungen!$B$7:$B$206,AK16,Buchungen!$G$7:$G$206,"<>Storniert")>0),"W",IF(COUNTIFS(Buchungen!$A$7:$A$206,AK16,Buchungen!$G$7:$G$206,"<>Storniert")>0,"An",IF(COUNTIFS(Buchungen!$B$7:$B$206,AK16,Buchungen!$G$7:$G$206,"<>Storniert")>0,"Ab","")))) | F16: =IF(AL16=0,"",IF(AND(COUNTIFS(Buchungen!$A$7:$A$206,AL16,Buchungen!$G$7:$G$206,"<>Storniert")>0,COUNTIFS(Buchungen!$B$7:$B$206,AL16,Buchungen!$G$7:$G$206,"<>Storniert")>0),"W",IF(COUNTIFS(Buchungen!$A$7:$A$206,AL16,Buchungen!$G$7:$G$206,"<>Storniert")>0,"An",IF(COUNTIFS(Buchungen!$B$7:$B$206,AL16,Buchungen!$G$7:$G$206,"<>Storniert")>0,"Ab","")))) | G16: =IF(AM16=0,"",IF(AND(COUNTIFS(Buchungen!$A$7:$A$206,AM16,Buchungen!$G$7:$G$206,"<>Storniert")>0,COUNTIFS(Buchungen!$B$7:$B$206,AM16,Buchungen!$G$7:$G$206,"<>Storniert")>0),"W",IF(COUNTIFS(Buchungen!$A$7:$A$206,AM16,Buchungen!$G$7:$G$206,"<>Storniert")>0,"An",IF(COUNTIFS(Buchungen!$B$7:$B$206,AM16,Buchungen!$G$7:$G$206,"<>Storniert")>0,"Ab","")))) | H16: =IF(AN16=0,"",IF(AND(COUNTIFS(Buchungen!$A$7:$A$206,AN16,Buchungen!$G$7:$G$206,"<>Storniert")>0,COUNTIFS(Buchungen!$B$7:$B$206,AN16,Buchungen!$G$7:$G$206,"<>Storniert")>0),"W",IF(COUNTIFS(Buchungen!$A$7:$A$206,AN16,Buchungen!$G$7:$G$206,"<>Storniert")>0,"An",IF(COUNTIFS(Buchungen!$B$7:$B$206,AN16,Buchungen!$G$7:$G$206,"<>Storniert")>0,"Ab","")))) | I16: =IF(AO16=0,"",IF(AND(COUNTIFS(Buchungen!$A$7:$A$206,AO16,Buchungen!$G$7:$G$206,"<>Storniert")>0,COUNTIFS(Buchungen!$B$7:$B$206,AO16,Buchungen!$G$7:$G$206,"<>Storniert")>0),"W",IF(COUNTIFS(Buchungen!$A$7:$A$206,AO16,Buchungen!$G$7:$G$206,"<>Storniert")>0,"An",IF(COUNTIFS(Buchungen!$B$7:$B$206,AO16,Buchungen!$G$7:$G$206,"<>Storniert")>0,"Ab","")))) | ... AF16: =IF(BL16=0,"",IF(AND(COUNTIFS(Buchungen!$A$7:$A$206,BL16,Buchungen!$G$7:$G$206,"<>Storniert")>0,COUNTIFS(Buchungen!$B$7:$B$206,BL16,Buchungen!$G$7:$G$206,"<>Storniert")>0),"W",IF(COUNTIFS(Buchungen!$A$7:$A$206,BL16,Buchungen!$G$7:$G$206,"<>Storniert")>0,"An",IF(COUNTIFS(Buchungen!$B$7:$B$206,BL16,Buchungen!$G$7:$G$206,"<>Storniert")>0,"Ab","")))) | AH16: =IF(MONTH(DATE(Einstellungen!$B$5,11,B$5))=11,DATE(Einstellungen!$B$5,11,B$5),0) -> 46692 | AI16: =IF(MONTH(DATE(Einstellungen!$B$5,11,C$5))=11,DATE(Einstellungen!$B$5,11,C$5),0) -> 46693 | AJ16: =IF(MONTH(DATE(Einstellungen!$B$5,11,D$5))=11,DATE(Einstellungen!$B$5,11,D$5),0) -> 46694 | AK16: =IF(MONTH(DATE(Einstellungen!$B$5,11,E$5))=11,DATE(Einstellungen!$B$5,11,E$5),0) -> 46695 | AL16: =IF(MONTH(DATE(Einstellungen!$B$5,11,F$5))=11,DATE(Einstellungen!$B$5,11,F$5),0) -> 46696 | AM16: =IF(MONTH(DATE(Einstellungen!$B$5,11,G$5))=11,DATE(Einstellungen!$B$5,11,G$5),0) -> 46697 | AN16: =IF(MONTH(DATE(Einstellungen!$B$5,11,H$5))=11,DATE(Einstellungen!$B$5,11,H$5),0) -> 46698 | AO16: =IF(MONTH(DATE(Einstellungen!$B$5,11,I$5))=11,DATE(Einstellungen!$B$5,11,I$5),0) -> 46699 | ... BL16: =IF(MONTH(DATE(Einstellungen!$B$5,11,AF$5))=11,DATE(Einstellungen!$B$5,11,AF$5),0) -> 0 | BN16: =IF(AH16=0,-1,IF(COUNTIFS(Buchungen!$A$7:$A$206,"<="&AH16,Buchungen!$B$7:$B$206,">"&AH16,Buchungen!$G$7:$G$206,"<>Storniert")=0,0,IF(COUNTIFS(Buchungen!$A$7:$A$206,"<="&AH16,Buchungen!$B$7:$B$206,">"&AH16,Buchungen!$G$7:$G$206,"<>Storniert")>1,9,IF(COUNTIFS(Buchungen!$A$7:$A$206,"<="&AH16,Buchungen!$B$7:$B$206,">"&AH16,Buchungen!$G$7:$G$206,"Gebucht")=1,1,IF(COUNTIFS(Buchungen!$A$7:$A$206,"<="&AH16,Buchungen!$B$7:$B$206,">"&AH16,Buchungen!$G$7:$G$206,"Anfrage")=1,2,IF(COUNTIFS(Buchungen!$A$7:$A$206,"<="&AH16,Buchungen!$B$7:$B$206,">"&AH16,Buchungen!$G$7:$G$206,"Eigennutzung")=1,3,IF(COUNTIFS(Buchungen!$A$7:$A$206,"<="&AH16,Buchungen!$B$7:$B$206,">"&AH16,Buchungen!$G$7:$G$206,"Gesperrt")=1,4,9))))))) -> 0 | BO16: =IF(AI16=0,-1,IF(COUNTIFS(Buchungen!$A$7:$A$206,"<="&AI16,Buchungen!$B$7:$B$206,">"&AI16,Buchungen!$G$7:$G$206,"<>Storniert")=0,0,IF(COUNTIFS(Buchungen!$A$7:$A$206,"<="&AI16,Buchungen!$B$7:$B$206,">"&AI16,Buchungen!$G$7:$G$206,"<>Storniert")>1,9,IF(COUNTIFS(Buchungen!$A$7:$A$206,"<="&AI16,Buchungen!$B$7:$B$206,">"&AI16,Buchungen!$G$7:$G$206,"Gebucht")=1,1,IF(COUNTIFS(Buchungen!$A$7:$A$206,"<="&AI16,Buchungen!$B$7:$B$206,">"&AI16,Buchungen!$G$7:$G$206,"Anfrage")=1,2,IF(COUNTIFS(Buchungen!$A$7:$A$206,"<="&AI16,Buchungen!$B$7:$B$206,">"&AI16,Buchungen!$G$7:$G$206,"Eigennutzung")=1,3,IF(COUNTIFS(Buchungen!$A$7:$A$206,"<="&AI16,Buchungen!$B$7:$B$206,">"&AI16,Buchungen!$G$7:$G$206,"Gesperrt")=1,4,9))))))) -> 0 | BP16: =IF(AJ16=0,-1,IF(COUNTIFS(Buchungen!$A$7:$A$206,"<="&AJ16,Buchungen!$B$7:$B$206,">"&AJ16,Buchungen!$G$7:$G$206,"<>Storniert")=0,0,IF(COUNTIFS(Buchungen!$A$7:$A$206,"<="&AJ16,Buchungen!$B$7:$B$206,">"&AJ16,Buchungen!$G$7:$G$206,"<>Storniert")>1,9,IF(COUNTIFS(Buchungen!$A$7:$A$206,"<="&AJ16,Buchungen!$B$7:$B$206,">"&AJ16,Buchungen!$G$7:$G$206,"Gebucht")=1,1,IF(COUNTIFS(Buchungen!$A$7:$A$206,"<="&AJ16,Buchungen!$B$7:$B$206,">"&AJ16,Buchungen!$G$7:$G$206,"Anfrage")=1,2,IF(COUNTIFS(Buchungen!$A$7:$A$206,"<="&AJ16,Buchungen!$B$7:$B$206,">"&AJ16,Buchungen!$G$7:$G$206,"Eigennutzung")=1,3,IF(COUNTIFS(Buchungen!$A$7:$A$206,"<="&AJ16,Buchungen!$B$7:$B$206,">"&AJ16,Buchungen!$G$7:$G$206,"Gesperrt")=1,4,9))))))) -> 0 | BQ16: =IF(AK16=0,-1,IF(COUNTIFS(Buchungen!$A$7:$A$206,"<="&AK16,Buchungen!$B$7:$B$206,">"&AK16,Buchungen!$G$7:$G$206,"<>Storniert")=0,0,IF(COUNTIFS(Buchungen!$A$7:$A$206,"<="&AK16,Buchungen!$B$7:$B$206,">"&AK16,Buchungen!$G$7:$G$206,"<>Storniert")>1,9,IF(COUNTIFS(Buchungen!$A$7:$A$206,"<="&AK16,Buchungen!$B$7:$B$206,">"&AK16,Buchungen!$G$7:$G$206,"Gebucht")=1,1,IF(COUNTIFS(Buchungen!$A$7:$A$206,"<="&AK16,Buchungen!$B$7:$B$206,">"&AK16,Buchungen!$G$7:$G$206,"Anfrage")=1,2,IF(COUNTIFS(Buchungen!$A$7:$A$206,"<="&AK16,Buchungen!$B$7:$B$206,">"&AK16,Buchungen!$G$7:$G$206,"Eigennutzung")=1,3,IF(COUNTIFS(Buchungen!$A$7:$A$206,"<="&AK16,Buchungen!$B$7:$B$206,">"&AK16,Buchungen!$G$7:$G$206,"Gesperrt")=1,4,9))))))) -> 0 | BR16: =IF(AL16=0,-1,IF(COUNTIFS(Buchungen!$A$7:$A$206,"<="&AL16,Buchungen!$B$7:$B$206,">"&AL16,Buchungen!$G$7:$G$206,"<>Storniert")=0,0,IF(COUNTIFS(Buchungen!$A$7:$A$206,"<="&AL16,Buchungen!$B$7:$B$206,">"&AL16,Buchungen!$G$7:$G$206,"<>Storniert")>1,9,IF(COUNTIFS(Buchungen!$A$7:$A$206,"<="&AL16,Buchungen!$B$7:$B$206,">"&AL16,Buchungen!$G$7:$G$206,"Gebucht")=1,1,IF(COUNTIFS(Buchungen!$A$7:$A$206,"<="&AL16,Buchungen!$B$7:$B$206,">"&AL16,Buchungen!$G$7:$G$206,"Anfrage")=1,2,IF(COUNTIFS(Buchungen!$A$7:$A$206,"<="&AL16,Buchungen!$B$7:$B$206,">"&AL16,Buchungen!$G$7:$G$206,"Eigennutzung")=1,3,IF(COUNTIFS(Buchungen!$A$7:$A$206,"<="&AL16,Buchungen!$B$7:$B$206,">"&AL16,Buchungen!$G$7:$G$206,"Gesperrt")=1,4,9))))))) -> 0 | BS16: =IF(AM16=0,-1,IF(COUNTIFS(Buchungen!$A$7:$A$206,"<="&AM16,Buchungen!$B$7:$B$206,">"&AM16,Buchungen!$G$7:$G$206,"<>Storniert")=0,0,IF(COUNTIFS(Buchungen!$A$7:$A$206,"<="&AM16,Buchungen!$B$7:$B$206,">"&AM16,Buchungen!$G$7:$G$206,"<>Storniert")>1,9,IF(COUNTIFS(Buchungen!$A$7:$A$206,"<="&AM16,Buchungen!$B$7:$B$206,">"&AM16,Buchungen!$G$7:$G$206,"Gebucht")=1,1,IF(COUNTIFS(Buchungen!$A$7:$A$206,"<="&AM16,Buchungen!$B$7:$B$206,">"&AM16,Buchungen!$G$7:$G$206,"Anfrage")=1,2,IF(COUNTIFS(Buchungen!$A$7:$A$206,"<="&AM16,Buchungen!$B$7:$B$206,">"&AM16,Buchungen!$G$7:$G$206,"Eigennutzung")=1,3,IF(COUNTIFS(Buchungen!$A$7:$A$206,"<="&AM16,Buchungen!$B$7:$B$206,">"&AM16,Buchungen!$G$7:$G$206,"Gesperrt")=1,4,9))))))) -> 0 | BT16: =IF(AN16=0,-1,IF(COUNTIFS(Buchungen!$A$7:$A$206,"<="&AN16,Buchungen!$B$7:$B$206,">"&AN16,Buchungen!$G$7:$G$206,"<>Storniert")=0,0,IF(COUNTIFS(Buchungen!$A$7:$A$206,"<="&AN16,Buchungen!$B$7:$B$206,">"&AN16,Buchungen!$G$7:$G$206,"<>Storniert")>1,9,IF(COUNTIFS(Buchungen!$A$7:$A$206,"<="&AN16,Buchungen!$B$7:$B$206,">"&AN16,Buchungen!$G$7:$G$206,"Gebucht")=1,1,IF(COUNTIFS(Buchungen!$A$7:$A$206,"<="&AN16,Buchungen!$B$7:$B$206,">"&AN16,Buchungen!$G$7:$G$206,"Anfrage")=1,2,IF(COUNTIFS(Buchungen!$A$7:$A$206,"<="&AN16,Buchungen!$B$7:$B$206,">"&AN16,Buchungen!$G$7:$G$206,"Eigennutzung")=1,3,IF(COUNTIFS(Buchungen!$A$7:$A$206,"<="&AN16,Buchungen!$B$7:$B$206,">"&AN16,Buchungen!$G$7:$G$206,"Gesperrt")=1,4,9))))))) -> 0 | BU16: =IF(AO16=0,-1,IF(COUNTIFS(Buchungen!$A$7:$A$206,"<="&AO16,Buchungen!$B$7:$B$206,">"&AO16,Buchungen!$G$7:$G$206,"<>Storniert")=0,0,IF(COUNTIFS(Buchungen!$A$7:$A$206,"<="&AO16,Buchungen!$B$7:$B$206,">"&AO16,Buchungen!$G$7:$G$206,"<>Storniert")>1,9,IF(COUNTIFS(Buchungen!$A$7:$A$206,"<="&AO16,Buchungen!$B$7:$B$206,">"&AO16,Buchungen!$G$7:$G$206,"Gebucht")=1,1,IF(COUNTIFS(Buchungen!$A$7:$A$206,"<="&AO16,Buchungen!$B$7:$B$206,">"&AO16,Buchungen!$G$7:$G$206,"Anfrage")=1,2,IF(COUNTIFS(Buchungen!$A$7:$A$206,"<="&AO16,Buchungen!$B$7:$B$206,">"&AO16,Buchungen!$G$7:$G$206,"Eigennutzung")=1,3,IF(COUNTIFS(Buchungen!$A$7:$A$206,"<="&AO16,Buchungen!$B$7:$B$206,">"&AO16,Buchungen!$G$7:$G$206,"Gesperrt")=1,4,9))))))) -> 0 | ... CR16: =IF(BL16=0,-1,IF(COUNTIFS(Buchungen!$A$7:$A$206,"<="&BL16,Buchungen!$B$7:$B$206,">"&BL16,Buchungen!$G$7:$G$206,"<>Storniert")=0,0,IF(COUNTIFS(Buchungen!$A$7:$A$206,"<="&BL16,Buchungen!$B$7:$B$206,">"&BL16,Buchungen!$G$7:$G$206,"<>Storniert")>1,9,IF(COUNTIFS(Buchungen!$A$7:$A$206,"<="&BL16,Buchungen!$B$7:$B$206,">"&BL16,Buchungen!$G$7:$G$206,"Gebucht")=1,1,IF(COUNTIFS(Buchungen!$A$7:$A$206,"<="&BL16,Buchungen!$B$7:$B$206,">"&BL16,Buchungen!$G$7:$G$206,"Anfrage")=1,2,IF(COUNTIFS(Buchungen!$A$7:$A$206,"<="&BL16,Buchungen!$B$7:$B$206,">"&BL16,Buchungen!$G$7:$G$206,"Eigennutzung")=1,3,IF(COUNTIFS(Buchungen!$A$7:$A$206,"<="&BL16,Buchungen!$B$7:$B$206,">"&BL16,Buchungen!$G$7:$G$206,"Gesperrt")=1,4,9))))))) -> -1
A17: Dezember | B17: =IF(AH17=0,"",IF(AND(COUNTIFS(Buchungen!$A$7:$A$206,AH17,Buchungen!$G$7:$G$206,"<>Storniert")>0,COUNTIFS(Buchungen!$B$7:$B$206,AH17,Buchungen!$G$7:$G$206,"<>Storniert")>0),"W",IF(COUNTIFS(Buchungen!$A$7:$A$206,AH17,Buchungen!$G$7:$G$206,"<>Storniert")>0,"An",IF(COUNTIFS(Buchungen!$B$7:$B$206,AH17,Buchungen!$G$7:$G$206,"<>Storniert")>0,"Ab","")))) | C17: =IF(AI17=0,"",IF(AND(COUNTIFS(Buchungen!$A$7:$A$206,AI17,Buchungen!$G$7:$G$206,"<>Storniert")>0,COUNTIFS(Buchungen!$B$7:$B$206,AI17,Buchungen!$G$7:$G$206,"<>Storniert")>0),"W",IF(COUNTIFS(Buchungen!$A$7:$A$206,AI17,Buchungen!$G$7:$G$206,"<>Storniert")>0,"An",IF(COUNTIFS(Buchungen!$B$7:$B$206,AI17,Buchungen!$G$7:$G$206,"<>Storniert")>0,"Ab","")))) | D17: =IF(AJ17=0,"",IF(AND(COUNTIFS(Buchungen!$A$7:$A$206,AJ17,Buchungen!$G$7:$G$206,"<>Storniert")>0,COUNTIFS(Buchungen!$B$7:$B$206,AJ17,Buchungen!$G$7:$G$206,"<>Storniert")>0),"W",IF(COUNTIFS(Buchungen!$A$7:$A$206,AJ17,Buchungen!$G$7:$G$206,"<>Storniert")>0,"An",IF(COUNTIFS(Buchungen!$B$7:$B$206,AJ17,Buchungen!$G$7:$G$206,"<>Storniert")>0,"Ab","")))) | E17: =IF(AK17=0,"",IF(AND(COUNTIFS(Buchungen!$A$7:$A$206,AK17,Buchungen!$G$7:$G$206,"<>Storniert")>0,COUNTIFS(Buchungen!$B$7:$B$206,AK17,Buchungen!$G$7:$G$206,"<>Storniert")>0),"W",IF(COUNTIFS(Buchungen!$A$7:$A$206,AK17,Buchungen!$G$7:$G$206,"<>Storniert")>0,"An",IF(COUNTIFS(Buchungen!$B$7:$B$206,AK17,Buchungen!$G$7:$G$206,"<>Storniert")>0,"Ab","")))) | F17: =IF(AL17=0,"",IF(AND(COUNTIFS(Buchungen!$A$7:$A$206,AL17,Buchungen!$G$7:$G$206,"<>Storniert")>0,COUNTIFS(Buchungen!$B$7:$B$206,AL17,Buchungen!$G$7:$G$206,"<>Storniert")>0),"W",IF(COUNTIFS(Buchungen!$A$7:$A$206,AL17,Buchungen!$G$7:$G$206,"<>Storniert")>0,"An",IF(COUNTIFS(Buchungen!$B$7:$B$206,AL17,Buchungen!$G$7:$G$206,"<>Storniert")>0,"Ab","")))) | G17: =IF(AM17=0,"",IF(AND(COUNTIFS(Buchungen!$A$7:$A$206,AM17,Buchungen!$G$7:$G$206,"<>Storniert")>0,COUNTIFS(Buchungen!$B$7:$B$206,AM17,Buchungen!$G$7:$G$206,"<>Storniert")>0),"W",IF(COUNTIFS(Buchungen!$A$7:$A$206,AM17,Buchungen!$G$7:$G$206,"<>Storniert")>0,"An",IF(COUNTIFS(Buchungen!$B$7:$B$206,AM17,Buchungen!$G$7:$G$206,"<>Storniert")>0,"Ab","")))) | H17: =IF(AN17=0,"",IF(AND(COUNTIFS(Buchungen!$A$7:$A$206,AN17,Buchungen!$G$7:$G$206,"<>Storniert")>0,COUNTIFS(Buchungen!$B$7:$B$206,AN17,Buchungen!$G$7:$G$206,"<>Storniert")>0),"W",IF(COUNTIFS(Buchungen!$A$7:$A$206,AN17,Buchungen!$G$7:$G$206,"<>Storniert")>0,"An",IF(COUNTIFS(Buchungen!$B$7:$B$206,AN17,Buchungen!$G$7:$G$206,"<>Storniert")>0,"Ab","")))) | I17: =IF(AO17=0,"",IF(AND(COUNTIFS(Buchungen!$A$7:$A$206,AO17,Buchungen!$G$7:$G$206,"<>Storniert")>0,COUNTIFS(Buchungen!$B$7:$B$206,AO17,Buchungen!$G$7:$G$206,"<>Storniert")>0),"W",IF(COUNTIFS(Buchungen!$A$7:$A$206,AO17,Buchungen!$G$7:$G$206,"<>Storniert")>0,"An",IF(COUNTIFS(Buchungen!$B$7:$B$206,AO17,Buchungen!$G$7:$G$206,"<>Storniert")>0,"Ab","")))) | ... AF17: =IF(BL17=0,"",IF(AND(COUNTIFS(Buchungen!$A$7:$A$206,BL17,Buchungen!$G$7:$G$206,"<>Storniert")>0,COUNTIFS(Buchungen!$B$7:$B$206,BL17,Buchungen!$G$7:$G$206,"<>Storniert")>0),"W",IF(COUNTIFS(Buchungen!$A$7:$A$206,BL17,Buchungen!$G$7:$G$206,"<>Storniert")>0,"An",IF(COUNTIFS(Buchungen!$B$7:$B$206,BL17,Buchungen!$G$7:$G$206,"<>Storniert")>0,"Ab","")))) | AH17: =IF(MONTH(DATE(Einstellungen!$B$5,12,B$5))=12,DATE(Einstellungen!$B$5,12,B$5),0) -> 46722 | AI17: =IF(MONTH(DATE(Einstellungen!$B$5,12,C$5))=12,DATE(Einstellungen!$B$5,12,C$5),0) -> 46723 | AJ17: =IF(MONTH(DATE(Einstellungen!$B$5,12,D$5))=12,DATE(Einstellungen!$B$5,12,D$5),0) -> 46724 | AK17: =IF(MONTH(DATE(Einstellungen!$B$5,12,E$5))=12,DATE(Einstellungen!$B$5,12,E$5),0) -> 46725 | AL17: =IF(MONTH(DATE(Einstellungen!$B$5,12,F$5))=12,DATE(Einstellungen!$B$5,12,F$5),0) -> 46726 | AM17: =IF(MONTH(DATE(Einstellungen!$B$5,12,G$5))=12,DATE(Einstellungen!$B$5,12,G$5),0) -> 46727 | AN17: =IF(MONTH(DATE(Einstellungen!$B$5,12,H$5))=12,DATE(Einstellungen!$B$5,12,H$5),0) -> 46728 | AO17: =IF(MONTH(DATE(Einstellungen!$B$5,12,I$5))=12,DATE(Einstellungen!$B$5,12,I$5),0) -> 46729 | ... BL17: =IF(MONTH(DATE(Einstellungen!$B$5,12,AF$5))=12,DATE(Einstellungen!$B$5,12,AF$5),0) -> 46752 | BN17: =IF(AH17=0,-1,IF(COUNTIFS(Buchungen!$A$7:$A$206,"<="&AH17,Buchungen!$B$7:$B$206,">"&AH17,Buchungen!$G$7:$G$206,"<>Storniert")=0,0,IF(COUNTIFS(Buchungen!$A$7:$A$206,"<="&AH17,Buchungen!$B$7:$B$206,">"&AH17,Buchungen!$G$7:$G$206,"<>Storniert")>1,9,IF(COUNTIFS(Buchungen!$A$7:$A$206,"<="&AH17,Buchungen!$B$7:$B$206,">"&AH17,Buchungen!$G$7:$G$206,"Gebucht")=1,1,IF(COUNTIFS(Buchungen!$A$7:$A$206,"<="&AH17,Buchungen!$B$7:$B$206,">"&AH17,Buchungen!$G$7:$G$206,"Anfrage")=1,2,IF(COUNTIFS(Buchungen!$A$7:$A$206,"<="&AH17,Buchungen!$B$7:$B$206,">"&AH17,Buchungen!$G$7:$G$206,"Eigennutzung")=1,3,IF(COUNTIFS(Buchungen!$A$7:$A$206,"<="&AH17,Buchungen!$B$7:$B$206,">"&AH17,Buchungen!$G$7:$G$206,"Gesperrt")=1,4,9))))))) -> 0 | BO17: =IF(AI17=0,-1,IF(COUNTIFS(Buchungen!$A$7:$A$206,"<="&AI17,Buchungen!$B$7:$B$206,">"&AI17,Buchungen!$G$7:$G$206,"<>Storniert")=0,0,IF(COUNTIFS(Buchungen!$A$7:$A$206,"<="&AI17,Buchungen!$B$7:$B$206,">"&AI17,Buchungen!$G$7:$G$206,"<>Storniert")>1,9,IF(COUNTIFS(Buchungen!$A$7:$A$206,"<="&AI17,Buchungen!$B$7:$B$206,">"&AI17,Buchungen!$G$7:$G$206,"Gebucht")=1,1,IF(COUNTIFS(Buchungen!$A$7:$A$206,"<="&AI17,Buchungen!$B$7:$B$206,">"&AI17,Buchungen!$G$7:$G$206,"Anfrage")=1,2,IF(COUNTIFS(Buchungen!$A$7:$A$206,"<="&AI17,Buchungen!$B$7:$B$206,">"&AI17,Buchungen!$G$7:$G$206,"Eigennutzung")=1,3,IF(COUNTIFS(Buchungen!$A$7:$A$206,"<="&AI17,Buchungen!$B$7:$B$206,">"&AI17,Buchungen!$G$7:$G$206,"Gesperrt")=1,4,9))))))) -> 0 | BP17: =IF(AJ17=0,-1,IF(COUNTIFS(Buchungen!$A$7:$A$206,"<="&AJ17,Buchungen!$B$7:$B$206,">"&AJ17,Buchungen!$G$7:$G$206,"<>Storniert")=0,0,IF(COUNTIFS(Buchungen!$A$7:$A$206,"<="&AJ17,Buchungen!$B$7:$B$206,">"&AJ17,Buchungen!$G$7:$G$206,"<>Storniert")>1,9,IF(COUNTIFS(Buchungen!$A$7:$A$206,"<="&AJ17,Buchungen!$B$7:$B$206,">"&AJ17,Buchungen!$G$7:$G$206,"Gebucht")=1,1,IF(COUNTIFS(Buchungen!$A$7:$A$206,"<="&AJ17,Buchungen!$B$7:$B$206,">"&AJ17,Buchungen!$G$7:$G$206,"Anfrage")=1,2,IF(COUNTIFS(Buchungen!$A$7:$A$206,"<="&AJ17,Buchungen!$B$7:$B$206,">"&AJ17,Buchungen!$G$7:$G$206,"Eigennutzung")=1,3,IF(COUNTIFS(Buchungen!$A$7:$A$206,"<="&AJ17,Buchungen!$B$7:$B$206,">"&AJ17,Buchungen!$G$7:$G$206,"Gesperrt")=1,4,9))))))) -> 0 | BQ17: =IF(AK17=0,-1,IF(COUNTIFS(Buchungen!$A$7:$A$206,"<="&AK17,Buchungen!$B$7:$B$206,">"&AK17,Buchungen!$G$7:$G$206,"<>Storniert")=0,0,IF(COUNTIFS(Buchungen!$A$7:$A$206,"<="&AK17,Buchungen!$B$7:$B$206,">"&AK17,Buchungen!$G$7:$G$206,"<>Storniert")>1,9,IF(COUNTIFS(Buchungen!$A$7:$A$206,"<="&AK17,Buchungen!$B$7:$B$206,">"&AK17,Buchungen!$G$7:$G$206,"Gebucht")=1,1,IF(COUNTIFS(Buchungen!$A$7:$A$206,"<="&AK17,Buchungen!$B$7:$B$206,">"&AK17,Buchungen!$G$7:$G$206,"Anfrage")=1,2,IF(COUNTIFS(Buchungen!$A$7:$A$206,"<="&AK17,Buchungen!$B$7:$B$206,">"&AK17,Buchungen!$G$7:$G$206,"Eigennutzung")=1,3,IF(COUNTIFS(Buchungen!$A$7:$A$206,"<="&AK17,Buchungen!$B$7:$B$206,">"&AK17,Buchungen!$G$7:$G$206,"Gesperrt")=1,4,9))))))) -> 0 | BR17: =IF(AL17=0,-1,IF(COUNTIFS(Buchungen!$A$7:$A$206,"<="&AL17,Buchungen!$B$7:$B$206,">"&AL17,Buchungen!$G$7:$G$206,"<>Storniert")=0,0,IF(COUNTIFS(Buchungen!$A$7:$A$206,"<="&AL17,Buchungen!$B$7:$B$206,">"&AL17,Buchungen!$G$7:$G$206,"<>Storniert")>1,9,IF(COUNTIFS(Buchungen!$A$7:$A$206,"<="&AL17,Buchungen!$B$7:$B$206,">"&AL17,Buchungen!$G$7:$G$206,"Gebucht")=1,1,IF(COUNTIFS(Buchungen!$A$7:$A$206,"<="&AL17,Buchungen!$B$7:$B$206,">"&AL17,Buchungen!$G$7:$G$206,"Anfrage")=1,2,IF(COUNTIFS(Buchungen!$A$7:$A$206,"<="&AL17,Buchungen!$B$7:$B$206,">"&AL17,Buchungen!$G$7:$G$206,"Eigennutzung")=1,3,IF(COUNTIFS(Buchungen!$A$7:$A$206,"<="&AL17,Buchungen!$B$7:$B$206,">"&AL17,Buchungen!$G$7:$G$206,"Gesperrt")=1,4,9))))))) -> 0 | BS17: =IF(AM17=0,-1,IF(COUNTIFS(Buchungen!$A$7:$A$206,"<="&AM17,Buchungen!$B$7:$B$206,">"&AM17,Buchungen!$G$7:$G$206,"<>Storniert")=0,0,IF(COUNTIFS(Buchungen!$A$7:$A$206,"<="&AM17,Buchungen!$B$7:$B$206,">"&AM17,Buchungen!$G$7:$G$206,"<>Storniert")>1,9,IF(COUNTIFS(Buchungen!$A$7:$A$206,"<="&AM17,Buchungen!$B$7:$B$206,">"&AM17,Buchungen!$G$7:$G$206,"Gebucht")=1,1,IF(COUNTIFS(Buchungen!$A$7:$A$206,"<="&AM17,Buchungen!$B$7:$B$206,">"&AM17,Buchungen!$G$7:$G$206,"Anfrage")=1,2,IF(COUNTIFS(Buchungen!$A$7:$A$206,"<="&AM17,Buchungen!$B$7:$B$206,">"&AM17,Buchungen!$G$7:$G$206,"Eigennutzung")=1,3,IF(COUNTIFS(Buchungen!$A$7:$A$206,"<="&AM17,Buchungen!$B$7:$B$206,">"&AM17,Buchungen!$G$7:$G$206,"Gesperrt")=1,4,9))))))) -> 0 | BT17: =IF(AN17=0,-1,IF(COUNTIFS(Buchungen!$A$7:$A$206,"<="&AN17,Buchungen!$B$7:$B$206,">"&AN17,Buchungen!$G$7:$G$206,"<>Storniert")=0,0,IF(COUNTIFS(Buchungen!$A$7:$A$206,"<="&AN17,Buchungen!$B$7:$B$206,">"&AN17,Buchungen!$G$7:$G$206,"<>Storniert")>1,9,IF(COUNTIFS(Buchungen!$A$7:$A$206,"<="&AN17,Buchungen!$B$7:$B$206,">"&AN17,Buchungen!$G$7:$G$206,"Gebucht")=1,1,IF(COUNTIFS(Buchungen!$A$7:$A$206,"<="&AN17,Buchungen!$B$7:$B$206,">"&AN17,Buchungen!$G$7:$G$206,"Anfrage")=1,2,IF(COUNTIFS(Buchungen!$A$7:$A$206,"<="&AN17,Buchungen!$B$7:$B$206,">"&AN17,Buchungen!$G$7:$G$206,"Eigennutzung")=1,3,IF(COUNTIFS(Buchungen!$A$7:$A$206,"<="&AN17,Buchungen!$B$7:$B$206,">"&AN17,Buchungen!$G$7:$G$206,"Gesperrt")=1,4,9))))))) -> 0 | BU17: =IF(AO17=0,-1,IF(COUNTIFS(Buchungen!$A$7:$A$206,"<="&AO17,Buchungen!$B$7:$B$206,">"&AO17,Buchungen!$G$7:$G$206,"<>Storniert")=0,0,IF(COUNTIFS(Buchungen!$A$7:$A$206,"<="&AO17,Buchungen!$B$7:$B$206,">"&AO17,Buchungen!$G$7:$G$206,"<>Storniert")>1,9,IF(COUNTIFS(Buchungen!$A$7:$A$206,"<="&AO17,Buchungen!$B$7:$B$206,">"&AO17,Buchungen!$G$7:$G$206,"Gebucht")=1,1,IF(COUNTIFS(Buchungen!$A$7:$A$206,"<="&AO17,Buchungen!$B$7:$B$206,">"&AO17,Buchungen!$G$7:$G$206,"Anfrage")=1,2,IF(COUNTIFS(Buchungen!$A$7:$A$206,"<="&AO17,Buchungen!$B$7:$B$206,">"&AO17,Buchungen!$G$7:$G$206,"Eigennutzung")=1,3,IF(COUNTIFS(Buchungen!$A$7:$A$206,"<="&AO17,Buchungen!$B$7:$B$206,">"&AO17,Buchungen!$G$7:$G$206,"Gesperrt")=1,4,9))))))) -> 0 | ... CR17: =IF(BL17=0,-1,IF(COUNTIFS(Buchungen!$A$7:$A$206,"<="&BL17,Buchungen!$B$7:$B$206,">"&BL17,Buchungen!$G$7:$G$206,"<>Storniert")=0,0,IF(COUNTIFS(Buchungen!$A$7:$A$206,"<="&BL17,Buchungen!$B$7:$B$206,">"&BL17,Buchungen!$G$7:$G$206,"<>Storniert")>1,9,IF(COUNTIFS(Buchungen!$A$7:$A$206,"<="&BL17,Buchungen!$B$7:$B$206,">"&BL17,Buchungen!$G$7:$G$206,"Gebucht")=1,1,IF(COUNTIFS(Buchungen!$A$7:$A$206,"<="&BL17,Buchungen!$B$7:$B$206,">"&BL17,Buchungen!$G$7:$G$206,"Anfrage")=1,2,IF(COUNTIFS(Buchungen!$A$7:$A$206,"<="&BL17,Buchungen!$B$7:$B$206,">"&BL17,Buchungen!$G$7:$G$206,"Eigennutzung")=1,3,IF(COUNTIFS(Buchungen!$A$7:$A$206,"<="&BL17,Buchungen!$B$7:$B$206,">"&BL17,Buchungen!$G$7:$G$206,"Gesperrt")=1,4,9))))))) -> 0
A19: Eine farbige Zelle steht für die Nacht ab diesem Tag. Eine Zelle ohne Farbe ist frei, auch wenn dort „Ab“ steht.
A20: An = Anreise, Ab = Abreise, W = Wechseltag (Abreise und Anreise am selben Tag). Leicht graue Zellen sind Samstage und Sonntage.
A21: Rot heißt: Zwei Buchungen überschneiden sich, oder bei einer Buchung fehlt der Status. Das Blatt „Buchungen“ zeigt dir, welche es ist.
A22: Erstellt von besoo.de

Sheet Auswertung
A1: =Einstellungen!$B$4&": Auswertung "&Einstellungen!$B$5 -> Meine Ferienwohnung: Auswertung 2027
A2: Hier trägst du nichts ein. Es zählt nur der Status „Gebucht“. | F2: besoo.de
A4: Monat | B4: Gebuchte Nächte | C4: Eigennutzung und Sperren | D4: Auslastung | E4: Einnahmen | F4: Davon noch offen
A5: Januar | B5: =COUNTIF(Jahresplan!$BN$6:$CR$6,1) -> 0 | C5: =COUNTIF(Jahresplan!$BN$6:$CR$6,3)+COUNTIF(Jahresplan!$BN$6:$CR$6,4) -> 0 | D5: =IF(COUNTIF(Jahresplan!$AH$6:$BL$6,">0")-C5>0,B5/(COUNTIF(Jahresplan!$AH$6:$BL$6,">0")-C5),0) -> 0 | E5: =SUMIFS(Buchungen!$H$7:$H$206,Buchungen!$G$7:$G$206,"Gebucht",Buchungen!$A$7:$A$206,">="&DATE(Einstellungen!$B$5,1,1),Buchungen!$A$7:$A$206,"<"&DATE(Einstellungen!$B$5,2,1)) -> 0 | F5: =SUMIFS(Buchungen!$J$7:$J$206,Buchungen!$G$7:$G$206,"Gebucht",Buchungen!$A$7:$A$206,">="&DATE(Einstellungen!$B$5,1,1),Buchungen!$A$7:$A$206,"<"&DATE(Einstellungen!$B$5,2,1)) -> 0
A6: Februar | B6: =COUNTIF(Jahresplan!$BN$7:$CR$7,1) -> 0 | C6: =COUNTIF(Jahresplan!$BN$7:$CR$7,3)+COUNTIF(Jahresplan!$BN$7:$CR$7,4) -> 0 | D6: =IF(COUNTIF(Jahresplan!$AH$7:$BL$7,">0")-C6>0,B6/(COUNTIF(Jahresplan!$AH$7:$BL$7,">0")-C6),0) -> 0 | E6: =SUMIFS(Buchungen!$H$7:$H$206,Buchungen!$G$7:$G$206,"Gebucht",Buchungen!$A$7:$A$206,">="&DATE(Einstellungen!$B$5,2,1),Buchungen!$A$7:$A$206,"<"&DATE(Einstellungen!$B$5,3,1)) -> 0 | F6: =SUMIFS(Buchungen!$J$7:$J$206,Buchungen!$G$7:$G$206,"Gebucht",Buchungen!$A$7:$A$206,">="&DATE(Einstellungen!$B$5,2,1),Buchungen!$A$7:$A$206,"<"&DATE(Einstellungen!$B$5,3,1)) -> 0
A7: März | B7: =COUNTIF(Jahresplan!$BN$8:$CR$8,1) -> 0 | C7: =COUNTIF(Jahresplan!$BN$8:$CR$8,3)+COUNTIF(Jahresplan!$BN$8:$CR$8,4) -> 0 | D7: =IF(COUNTIF(Jahresplan!$AH$8:$BL$8,">0")-C7>0,B7/(COUNTIF(Jahresplan!$AH$8:$BL$8,">0")-C7),0) -> 0 | E7: =SUMIFS(Buchungen!$H$7:$H$206,Buchungen!$G$7:$G$206,"Gebucht",Buchungen!$A$7:$A$206,">="&DATE(Einstellungen!$B$5,3,1),Buchungen!$A$7:$A$206,"<"&DATE(Einstellungen!$B$5,4,1)) -> 0 | F7: =SUMIFS(Buchungen!$J$7:$J$206,Buchungen!$G$7:$G$206,"Gebucht",Buchungen!$A$7:$A$206,">="&DATE(Einstellungen!$B$5,3,1),Buchungen!$A$7:$A$206,"<"&DATE(Einstellungen!$B$5,4,1)) -> 0
A8: April | B8: =COUNTIF(Jahresplan!$BN$9:$CR$9,1) -> 0 | C8: =COUNTIF(Jahresplan!$BN$9:$CR$9,3)+COUNTIF(Jahresplan!$BN$9:$CR$9,4) -> 0 | D8: =IF(COUNTIF(Jahresplan!$AH$9:$BL$9,">0")-C8>0,B8/(COUNTIF(Jahresplan!$AH$9:$BL$9,">0")-C8),0) -> 0 | E8: =SUMIFS(Buchungen!$H$7:$H$206,Buchungen!$G$7:$G$206,"Gebucht",Buchungen!$A$7:$A$206,">="&DATE(Einstellungen!$B$5,4,1),Buchungen!$A$7:$A$206,"<"&DATE(Einstellungen!$B$5,5,1)) -> 0 | F8: =SUMIFS(Buchungen!$J$7:$J$206,Buchungen!$G$7:$G$206,"Gebucht",Buchungen!$A$7:$A$206,">="&DATE(Einstellungen!$B$5,4,1),Buchungen!$A$7:$A$206,"<"&DATE(Einstellungen!$B$5,5,1)) -> 0
A9: Mai | B9: =COUNTIF(Jahresplan!$BN$10:$CR$10,1) -> 0 | C9: =COUNTIF(Jahresplan!$BN$10:$CR$10,3)+COUNTIF(Jahresplan!$BN$10:$CR$10,4) -> 0 | D9: =IF(COUNTIF(Jahresplan!$AH$10:$BL$10,">0")-C9>0,B9/(COUNTIF(Jahresplan!$AH$10:$BL$10,">0")-C9),0) -> 0 | E9: =SUMIFS(Buchungen!$H$7:$H$206,Buchungen!$G$7:$G$206,"Gebucht",Buchungen!$A$7:$A$206,">="&DATE(Einstellungen!$B$5,5,1),Buchungen!$A$7:$A$206,"<"&DATE(Einstellungen!$B$5,6,1)) -> 0 | F9: =SUMIFS(Buchungen!$J$7:$J$206,Buchungen!$G$7:$G$206,"Gebucht",Buchungen!$A$7:$A$206,">="&DATE(Einstellungen!$B$5,5,1),Buchungen!$A$7:$A$206,"<"&DATE(Einstellungen!$B$5,6,1)) -> 0
A10: Juni | B10: =COUNTIF(Jahresplan!$BN$11:$CR$11,1) -> 0 | C10: =COUNTIF(Jahresplan!$BN$11:$CR$11,3)+COUNTIF(Jahresplan!$BN$11:$CR$11,4) -> 0 | D10: =IF(COUNTIF(Jahresplan!$AH$11:$BL$11,">0")-C10>0,B10/(COUNTIF(Jahresplan!$AH$11:$BL$11,">0")-C10),0) -> 0 | E10: =SUMIFS(Buchungen!$H$7:$H$206,Buchungen!$G$7:$G$206,"Gebucht",Buchungen!$A$7:$A$206,">="&DATE(Einstellungen!$B$5,6,1),Buchungen!$A$7:$A$206,"<"&DATE(Einstellungen!$B$5,7,1)) -> 0 | F10: =SUMIFS(Buchungen!$J$7:$J$206,Buchungen!$G$7:$G$206,"Gebucht",Buchungen!$A$7:$A$206,">="&DATE(Einstellungen!$B$5,6,1),Buchungen!$A$7:$A$206,"<"&DATE(Einstellungen!$B$5,7,1)) -> 0
A11: Juli | B11: =COUNTIF(Jahresplan!$BN$12:$CR$12,1) -> 14 | C11: =COUNTIF(Jahresplan!$BN$12:$CR$12,3)+COUNTIF(Jahresplan!$BN$12:$CR$12,4) -> 0 | D11: =IF(COUNTIF(Jahresplan!$AH$12:$BL$12,">0")-C11>0,B11/(COUNTIF(Jahresplan!$AH$12:$BL$12,">0")-C11),0) -> 0.4516129 | E11: =SUMIFS(Buchungen!$H$7:$H$206,Buchungen!$G$7:$G$206,"Gebucht",Buchungen!$A$7:$A$206,">="&DATE(Einstellungen!$B$5,7,1),Buchungen!$A$7:$A$206,"<"&DATE(Einstellungen!$B$5,8,1)) -> 2100 | F11: =SUMIFS(Buchungen!$J$7:$J$206,Buchungen!$G$7:$G$206,"Gebucht",Buchungen!$A$7:$A$206,">="&DATE(Einstellungen!$B$5,7,1),Buchungen!$A$7:$A$206,"<"&DATE(Einstellungen!$B$5,8,1)) -> 784
A12: August | B12: =COUNTIF(Jahresplan!$BN$13:$CR$13,1) -> 0 | C12: =COUNTIF(Jahresplan!$BN$13:$CR$13,3)+COUNTIF(Jahresplan!$BN$13:$CR$13,4) -> 3 | D12: =IF(COUNTIF(Jahresplan!$AH$13:$BL$13,">0")-C12>0,B12/(COUNTIF(Jahresplan!$AH$13:$BL$13,">0")-C12),0) -> 0 | E12: =SUMIFS(Buchungen!$H$7:$H$206,Buchungen!$G$7:$G$206,"Gebucht",Buchungen!$A$7:$A$206,">="&DATE(Einstellungen!$B$5,8,1),Buchungen!$A$7:$A$206,"<"&DATE(Einstellungen!$B$5,9,1)) -> 0 | F12: =SUMIFS(Buchungen!$J$7:$J$206,Buchungen!$G$7:$G$206,"Gebucht",Buchungen!$A$7:$A$206,">="&DATE(Einstellungen!$B$5,8,1),Buchungen!$A$7:$A$206,"<"&DATE(Einstellungen!$B$5,9,1)) -> 0
A13: September | B13: =COUNTIF(Jahresplan!$BN$14:$CR$14,1) -> 0 | C13: =COUNTIF(Jahresplan!$BN$14:$CR$14,3)+COUNTIF(Jahresplan!$BN$14:$CR$14,4) -> 0 | D13: =IF(COUNTIF(Jahresplan!$AH$14:$BL$14,">0")-C13>0,B13/(COUNTIF(Jahresplan!$AH$14:$BL$14,">0")-C13),0) -> 0 | E13: =SUMIFS(Buchungen!$H$7:$H$206,Buchungen!$G$7:$G$206,"Gebucht",Buchungen!$A$7:$A$206,">="&DATE(Einstellungen!$B$5,9,1),Buchungen!$A$7:$A$206,"<"&DATE(Einstellungen!$B$5,10,1)) -> 0 | F13: =SUMIFS(Buchungen!$J$7:$J$206,Buchungen!$G$7:$G$206,"Gebucht",Buchungen!$A$7:$A$206,">="&DATE(Einstellungen!$B$5,9,1),Buchungen!$A$7:$A$206,"<"&DATE(Einstellungen!$B$5,10,1)) -> 0
A14: Oktober | B14: =COUNTIF(Jahresplan!$BN$15:$CR$15,1) -> 0 | C14: =COUNTIF(Jahresplan!$BN$15:$CR$15,3)+COUNTIF(Jahresplan!$BN$15:$CR$15,4) -> 0 | D14: =IF(COUNTIF(Jahresplan!$AH$15:$BL$15,">0")-C14>0,B14/(COUNTIF(Jahresplan!$AH$15:$BL$15,">0")-C14),0) -> 0 | E14: =SUMIFS(Buchungen!$H$7:$H$206,Buchungen!$G$7:$G$206,"Gebucht",Buchungen!$A$7:$A$206,">="&DATE(Einstellungen!$B$5,10,1),Buchungen!$A$7:$A$206,"<"&DATE(Einstellungen!$B$5,11,1)) -> 0 | F14: =SUMIFS(Buchungen!$J$7:$J$206,Buchungen!$G$7:$G$206,"Gebucht",Buchungen!$A$7:$A$206,">="&DATE(Einstellungen!$B$5,10,1),Buchungen!$A$7:$A$206,"<"&DATE(Einstellungen!$B$5,11,1)) -> 0
A15: November | B15: =COUNTIF(Jahresplan!$BN$16:$CR$16,1) -> 0 | C15: =COUNTIF(Jahresplan!$BN$16:$CR$16,3)+COUNTIF(Jahresplan!$BN$16:$CR$16,4) -> 0 | D15: =IF(COUNTIF(Jahresplan!$AH$16:$BL$16,">0")-C15>0,B15/(COUNTIF(Jahresplan!$AH$16:$BL$16,">0")-C15),0) -> 0 | E15: =SUMIFS(Buchungen!$H$7:$H$206,Buchungen!$G$7:$G$206,"Gebucht",Buchungen!$A$7:$A$206,">="&DATE(Einstellungen!$B$5,11,1),Buchungen!$A$7:$A$206,"<"&DATE(Einstellungen!$B$5,12,1)) -> 0 | F15: =SUMIFS(Buchungen!$J$7:$J$206,Buchungen!$G$7:$G$206,"Gebucht",Buchungen!$A$7:$A$206,">="&DATE(Einstellungen!$B$5,11,1),Buchungen!$A$7:$A$206,"<"&DATE(Einstellungen!$B$5,12,1)) -> 0
A16: Dezember | B16: =COUNTIF(Jahresplan!$BN$17:$CR$17,1) -> 0 | C16: =COUNTIF(Jahresplan!$BN$17:$CR$17,3)+COUNTIF(Jahresplan!$BN$17:$CR$17,4) -> 0 | D16: =IF(COUNTIF(Jahresplan!$AH$17:$BL$17,">0")-C16>0,B16/(COUNTIF(Jahresplan!$AH$17:$BL$17,">0")-C16),0) -> 0 | E16: =SUMIFS(Buchungen!$H$7:$H$206,Buchungen!$G$7:$G$206,"Gebucht",Buchungen!$A$7:$A$206,">="&DATE(Einstellungen!$B$5,12,1),Buchungen!$A$7:$A$206,"<"&DATE(Einstellungen!$B$5,13,1)) -> 0 | F16: =SUMIFS(Buchungen!$J$7:$J$206,Buchungen!$G$7:$G$206,"Gebucht",Buchungen!$A$7:$A$206,">="&DATE(Einstellungen!$B$5,12,1),Buchungen!$A$7:$A$206,"<"&DATE(Einstellungen!$B$5,13,1)) -> 0
A17: Jahr | B17: =SUM(B5:B16) -> 14 | C17: =SUM(C5:C16) -> 3 | D17: =IF(DATE(Einstellungen!$B$5+1,1,1)-DATE(Einstellungen!$B$5,1,1)-C17>0,B17/(DATE(Einstellungen!$B$5+1,1,1)-DATE(Einstellungen!$B$5,1,1)-C17),0) -> 0.038674033 | E17: =SUM(E5:E16) -> 2100 | F17: =SUM(F5:F16) -> 784
A19: Auslastung = gebuchte Nächte geteilt durch alle Nächte ohne Eigennutzung und Sperren.
A20: Die Nächte zählen in dem Monat, in dem sie liegen. Einnahmen und offene Beträge zählen vollständig im Monat der Anreise.
A21: Erstellt von besoo.de

Sheet Einstellungen
A1: Einstellungen
A2: Trag hier den Namen deiner Wohnung und das Jahr ein. | D2: besoo.de
A4: Wohnung | B4: Meine Ferienwohnung
A5: Jahr | B5: 2027
A7: Buchungswege
A8: Diese Liste erscheint im Blatt „Buchungen“ zur Auswahl. Du kannst sie ändern und ergänzen.
A9: Eigene Anfrage per Mail
A10: Telefon
A11: Eigene Website
A12: Booking.com
A13: Vrbo
A14: Tourismusorganisation
A15: Stammgast
A22: Weitere Wohnung
A23: Diese Vorlage ist für genau eine Wohnung gedacht. Für eine zweite Wohnung kopierst du die Datei.
A24: Einen gemeinsamen Überblick und eine Warnung über beide Wohnungen hinweg gibt es dann nicht.
A26: Erstellt von besoo.de
