Workbook
Name Buchungswege: Einstellungen!$A$9:$A$20
Name Print_Area: Jahresplan!$A$1:$AF$22

Sheet Buchungen
A1: ="Buchungen: "&Einstellungen!$B$4 -> Buchungen: Meine Ferienwohnung
A2: Trag jede Buchung in eine eigene Zeile ein. Weiße Felder füllst du aus, graue rechnet die Tabelle selbst. | H2: besoo.de
A3: Die ersten vier Zeilen sind erfundene Beispiele. Lösch einfach ihren Inhalt und schreib deine eigenen Buchungen hinein.
A4: Erstellt von besoo.de
A6: Anreise | B6: Abreise | C6: Nächte | D6: Gast | E6: Personen | F6: Buchungsweg | G6: Status | H6: Preis | I6: Anzahlung erhalten | J6: Noch offen | K6: Notiz | L6: Prüfung
A7: 46578 | B7: 46585 | C7: =IF(AND(ISNUMBER(A7),ISNUMBER(B7)),IF(B7>A7,B7-A7,""),"") -> 7 | D7: Familie Petersen | E7: 4 | F7: Eigene Anfrage per Mail | G7: Gebucht | H7: 1120 | I7: 336 | J7: =IF(OR(H7="",G7<>"Gebucht"),"",H7-N(I7)) -> 784 | K7: Restzahlung bis 10.06. | L7: =IF(AND(A7="",B7=""),"",IF(OR(A7="",B7=""),"Datum fehlt",IF(B7<=A7,"Abreise prüfen",IF(G7="","Status fehlt",IF(G7="Storniert","",IF(COUNTIFS($A$7:$A$206,"<"&B7,$B$7:$B$206,">"&A7,$G$7:$G$206,"<>Storniert")>1,"Überschneidung","ok")))))) -> ok
A8: 46585 | B8: 46592 | C8: =IF(AND(ISNUMBER(A8),ISNUMBER(B8)),IF(B8>A8,B8-A8,""),"") -> 7 | D8: Anne Brandt | E8: 2 | F8: Booking.com | G8: Gebucht | H8: 980 | I8: 980 | J8: =IF(OR(H8="",G8<>"Gebucht"),"",H8-N(I8)) -> 0 | L8: =IF(AND(A8="",B8=""),"",IF(OR(A8="",B8=""),"Datum fehlt",IF(B8<=A8,"Abreise prüfen",IF(G8="","Status fehlt",IF(G8="Storniert","",IF(COUNTIFS($A$7:$A$206,"<"&B8,$B$7:$B$206,">"&A8,$G$7:$G$206,"<>Storniert")>1,"Überschneidung","ok")))))) -> ok
A9: 46601 | B9: 46604 | C9: =IF(AND(ISNUMBER(A9),ISNUMBER(B9)),IF(B9>A9,B9-A9,""),"") -> 3 | D9: Wir selbst | G9: Eigennutzung | J9: =IF(OR(H9="",G9<>"Gebucht"),"",H9-N(I9)) | L9: =IF(AND(A9="",B9=""),"",IF(OR(A9="",B9=""),"Datum fehlt",IF(B9<=A9,"Abreise prüfen",IF(G9="","Status fehlt",IF(G9="Storniert","",IF(COUNTIFS($A$7:$A$206,"<"&B9,$B$7:$B$206,">"&A9,$G$7:$G$206,"<>Storniert")>1,"Überschneidung","ok")))))) -> ok
A10: 46613 | B10: 46620 | C10: =IF(AND(ISNUMBER(A10),ISNUMBER(B10)),IF(B10>A10,B10-A10,""),"") -> 7 | D10: Familie Yilmaz | E10: 5 | F10: Telefon | G10: Anfrage | H10: 1190 | J10: =IF(OR(H10="",G10<>"Gebucht"),"",H10-N(I10)) | K10: Angebot geschickt, Antwort offen | L10: =IF(AND(A10="",B10=""),"",IF(OR(A10="",B10=""),"Datum fehlt",IF(B10<=A10,"Abreise prüfen",IF(G10="","Status fehlt",IF(G10="Storniert","",IF(COUNTIFS($A$7:$A$206,"<"&B10,$B$7:$B$206,">"&A10,$G$7:$G$206,"<>Storniert")>1,"Überschneidung","ok")))))) -> ok
C11: =IF(AND(ISNUMBER(A11),ISNUMBER(B11)),IF(B11>A11,B11-A11,""),"") | J11: =IF(OR(H11="",G11<>"Gebucht"),"",H11-N(I11)) | L11: =IF(AND(A11="",B11=""),"",IF(OR(A11="",B11=""),"Datum fehlt",IF(B11<=A11,"Abreise prüfen",IF(G11="","Status fehlt",IF(G11="Storniert","",IF(COUNTIFS($A$7:$A$206,"<"&B11,$B$7:$B$206,">"&A11,$G$7:$G$206,"<>Storniert")>1,"Überschneidung","ok"))))))
C12: =IF(AND(ISNUMBER(A12),ISNUMBER(B12)),IF(B12>A12,B12-A12,""),"") | J12: =IF(OR(H12="",G12<>"Gebucht"),"",H12-N(I12)) | L12: =IF(AND(A12="",B12=""),"",IF(OR(A12="",B12=""),"Datum fehlt",IF(B12<=A12,"Abreise prüfen",IF(G12="","Status fehlt",IF(G12="Storniert","",IF(COUNTIFS($A$7:$A$206,"<"&B12,$B$7:$B$206,">"&A12,$G$7:$G$206,"<>Storniert")>1,"Überschneidung","ok"))))))
C13: =IF(AND(ISNUMBER(A13),ISNUMBER(B13)),IF(B13>A13,B13-A13,""),"") | J13: =IF(OR(H13="",G13<>"Gebucht"),"",H13-N(I13)) | L13: =IF(AND(A13="",B13=""),"",IF(OR(A13="",B13=""),"Datum fehlt",IF(B13<=A13,"Abreise prüfen",IF(G13="","Status fehlt",IF(G13="Storniert","",IF(COUNTIFS($A$7:$A$206,"<"&B13,$B$7:$B$206,">"&A13,$G$7:$G$206,"<>Storniert")>1,"Überschneidung","ok"))))))
C14: =IF(AND(ISNUMBER(A14),ISNUMBER(B14)),IF(B14>A14,B14-A14,""),"") | J14: =IF(OR(H14="",G14<>"Gebucht"),"",H14-N(I14)) | L14: =IF(AND(A14="",B14=""),"",IF(OR(A14="",B14=""),"Datum fehlt",IF(B14<=A14,"Abreise prüfen",IF(G14="","Status fehlt",IF(G14="Storniert","",IF(COUNTIFS($A$7:$A$206,"<"&B14,$B$7:$B$206,">"&A14,$G$7:$G$206,"<>Storniert")>1,"Überschneidung","ok"))))))
C15: =IF(AND(ISNUMBER(A15),ISNUMBER(B15)),IF(B15>A15,B15-A15,""),"") | J15: =IF(OR(H15="",G15<>"Gebucht"),"",H15-N(I15)) | L15: =IF(AND(A15="",B15=""),"",IF(OR(A15="",B15=""),"Datum fehlt",IF(B15<=A15,"Abreise prüfen",IF(G15="","Status fehlt",IF(G15="Storniert","",IF(COUNTIFS($A$7:$A$206,"<"&B15,$B$7:$B$206,">"&A15,$G$7:$G$206,"<>Storniert")>1,"Überschneidung","ok"))))))
C16: =IF(AND(ISNUMBER(A16),ISNUMBER(B16)),IF(B16>A16,B16-A16,""),"") | J16: =IF(OR(H16="",G16<>"Gebucht"),"",H16-N(I16)) | L16: =IF(AND(A16="",B16=""),"",IF(OR(A16="",B16=""),"Datum fehlt",IF(B16<=A16,"Abreise prüfen",IF(G16="","Status fehlt",IF(G16="Storniert","",IF(COUNTIFS($A$7:$A$206,"<"&B16,$B$7:$B$206,">"&A16,$G$7:$G$206,"<>Storniert")>1,"Überschneidung","ok"))))))
C17: =IF(AND(ISNUMBER(A17),ISNUMBER(B17)),IF(B17>A17,B17-A17,""),"") | J17: =IF(OR(H17="",G17<>"Gebucht"),"",H17-N(I17)) | L17: =IF(AND(A17="",B17=""),"",IF(OR(A17="",B17=""),"Datum fehlt",IF(B17<=A17,"Abreise prüfen",IF(G17="","Status fehlt",IF(G17="Storniert","",IF(COUNTIFS($A$7:$A$206,"<"&B17,$B$7:$B$206,">"&A17,$G$7:$G$206,"<>Storniert")>1,"Überschneidung","ok"))))))
C18: =IF(AND(ISNUMBER(A18),ISNUMBER(B18)),IF(B18>A18,B18-A18,""),"") | J18: =IF(OR(H18="",G18<>"Gebucht"),"",H18-N(I18)) | L18: =IF(AND(A18="",B18=""),"",IF(OR(A18="",B18=""),"Datum fehlt",IF(B18<=A18,"Abreise prüfen",IF(G18="","Status fehlt",IF(G18="Storniert","",IF(COUNTIFS($A$7:$A$206,"<"&B18,$B$7:$B$206,">"&A18,$G$7:$G$206,"<>Storniert")>1,"Überschneidung","ok"))))))
C19: =IF(AND(ISNUMBER(A19),ISNUMBER(B19)),IF(B19>A19,B19-A19,""),"") | J19: =IF(OR(H19="",G19<>"Gebucht"),"",H19-N(I19)) | L19: =IF(AND(A19="",B19=""),"",IF(OR(A19="",B19=""),"Datum fehlt",IF(B19<=A19,"Abreise prüfen",IF(G19="","Status fehlt",IF(G19="Storniert","",IF(COUNTIFS($A$7:$A$206,"<"&B19,$B$7:$B$206,">"&A19,$G$7:$G$206,"<>Storniert")>1,"Überschneidung","ok"))))))
C20: =IF(AND(ISNUMBER(A20),ISNUMBER(B20)),IF(B20>A20,B20-A20,""),"") | J20: =IF(OR(H20="",G20<>"Gebucht"),"",H20-N(I20)) | L20: =IF(AND(A20="",B20=""),"",IF(OR(A20="",B20=""),"Datum fehlt",IF(B20<=A20,"Abreise prüfen",IF(G20="","Status fehlt",IF(G20="Storniert","",IF(COUNTIFS($A$7:$A$206,"<"&B20,$B$7:$B$206,">"&A20,$G$7:$G$206,"<>Storniert")>1,"Überschneidung","ok"))))))
C21: =IF(AND(ISNUMBER(A21),ISNUMBER(B21)),IF(B21>A21,B21-A21,""),"") | J21: =IF(OR(H21="",G21<>"Gebucht"),"",H21-N(I21)) | L21: =IF(AND(A21="",B21=""),"",IF(OR(A21="",B21=""),"Datum fehlt",IF(B21<=A21,"Abreise prüfen",IF(G21="","Status fehlt",IF(G21="Storniert","",IF(COUNTIFS($A$7:$A$206,"<"&B21,$B$7:$B$206,">"&A21,$G$7:$G$206,"<>Storniert")>1,"Überschneidung","ok"))))))
C22: =IF(AND(ISNUMBER(A22),ISNUMBER(B22)),IF(B22>A22,B22-A22,""),"") | J22: =IF(OR(H22="",G22<>"Gebucht"),"",H22-N(I22)) | L22: =IF(AND(A22="",B22=""),"",IF(OR(A22="",B22=""),"Datum fehlt",IF(B22<=A22,"Abreise prüfen",IF(G22="","Status fehlt",IF(G22="Storniert","",IF(COUNTIFS($A$7:$A$206,"<"&B22,$B$7:$B$206,">"&A22,$G$7:$G$206,"<>Storniert")>1,"Überschneidung","ok"))))))
... C206: =IF(AND(ISNUMBER(A206),ISNUMBER(B206)),IF(B206>A206,B206-A206,""),"") | J206: =IF(OR(H206="",G206<>"Gebucht"),"",H206-N(I206)) | L206: =IF(AND(A206="",B206=""),"",IF(OR(A206="",B206=""),"Datum fehlt",IF(B206<=A206,"Abreise prüfen",IF(G206="","Status fehlt",IF(G206="Storniert","",IF(COUNTIFS($A$7:$A$206,"<"&B206,$B$7:$B$206,">"&A206,$G$7:$G$206,"<>Storniert")>1,"Überschneidung","ok"))))))

Sheet Jahresplan
A1: =Einstellungen!$B$4&": Belegung "&Einstellungen!$B$5 -> Meine Ferienwohnung: Belegung 2027
A2: Hier trägst du nichts ein. Das Blatt füllt sich aus dem Blatt „Buchungen“. | AC2: besoo.de
B3: Gebucht | H3: Anfrage | N3: Eigennutzung | T3: Gesperrt | Z3: Überschneidung
A5: Monat | B5: 1 | C5: 2 | D5: 3 | E5: 4 | F5: 5 | G5: 6 | H5: 7 | I5: 8 | J5: 9 | K5: 10 | L5: 11 | M5: 12 | N5: 13 | O5: 14 | P5: 15 | Q5: 16 | R5: 17 | S5: 18 | T5: 19 | U5: 20 | V5: 21 | W5: 22 | X5: 23 | Y5: 24 | Z5: 25 | AA5: 26 | AB5: 27 | AC5: 28 | AD5: 29 | AE5: 30 | AF5: 31
A6: Januar | B6: =IF(AH6=0,"",IF(AND(COUNTIFS(Buchungen!$A$7:$A$206,AH6,Buchungen!$G$7:$G$206,"<>Storniert")>0,COUNTIFS(Buchungen!$B$7:$B$206,AH6,Buchungen!$G$7:$G$206,"<>Storniert")>0),"W",IF(COUNTIFS(Buchungen!$A$7:$A$206,AH6,Buchungen!$G$7:$G$206,"<>Storniert")>0,"An",IF(COUNTIFS(Buchungen!$B$7:$B$206,AH6,Buchungen!$G$7:$G$206,"<>Storniert")>0,"Ab","")))) | C6: =IF(AI6=0,"",IF(AND(COUNTIFS(Buchungen!$A$7:$A$206,AI6,Buchungen!$G$7:$G$206,"<>Storniert")>0,COUNTIFS(Buchungen!$B$7:$B$206,AI6,Buchungen!$G$7:$G$206,"<>Storniert")>0),"W",IF(COUNTIFS(Buchungen!$A$7:$A$206,AI6,Buchungen!$G$7:$G$206,"<>Storniert")>0,"An",IF(COUNTIFS(Buchungen!$B$7:$B$206,AI6,Buchungen!$G$7:$G$206,"<>Storniert")>0,"Ab","")))) | D6: =IF(AJ6=0,"",IF(AND(COUNTIFS(Buchungen!$A$7:$A$206,AJ6,Buchungen!$G$7:$G$206,"<>Storniert")>0,COUNTIFS(Buchungen!$B$7:$B$206,AJ6,Buchungen!$G$7:$G$206,"<>Storniert")>0),"W",IF(COUNTIFS(Buchungen!$A$7:$A$206,AJ6,Buchungen!$G$7:$G$206,"<>Storniert")>0,"An",IF(COUNTIFS(Buchungen!$B$7:$B$206,AJ6,Buchungen!$G$7:$G$206,"<>Storniert")>0,"Ab","")))) | E6: =IF(AK6=0,"",IF(AND(COUNTIFS(Buchungen!$A$7:$A$206,AK6,Buchungen!$G$7:$G$206,"<>Storniert")>0,COUNTIFS(Buchungen!$B$7:$B$206,AK6,Buchungen!$G$7:$G$206,"<>Storniert")>0),"W",IF(COUNTIFS(Buchungen!$A$7:$A$206,AK6,Buchungen!$G$7:$G$206,"<>Storniert")>0,"An",IF(COUNTIFS(Buchungen!$B$7:$B$206,AK6,Buchungen!$G$7:$G$206,"<>Storniert")>0,"Ab","")))) | F6: =IF(AL6=0,"",IF(AND(COUNTIFS(Buchungen!$A$7:$A$206,AL6,Buchungen!$G$7:$G$206,"<>Storniert")>0,COUNTIFS(Buchungen!$B$7:$B$206,AL6,Buchungen!$G$7:$G$206,"<>Storniert")>0),"W",IF(COUNTIFS(Buchungen!$A$7:$A$206,AL6,Buchungen!$G$7:$G$206,"<>Storniert")>0,"An",IF(COUNTIFS(Buchungen!$B$7:$B$206,AL6,Buchungen!$G$7:$G$206,"<>Storniert")>0,"Ab","")))) | G6: =IF(AM6=0,"",IF(AND(COUNTIFS(Buchungen!$A$7:$A$206,AM6,Buchungen!$G$7:$G$206,"<>Storniert")>0,COUNTIFS(Buchungen!$B$7:$B$206,AM6,Buchungen!$G$7:$G$206,"<>Storniert")>0),"W",IF(COUNTIFS(Buchungen!$A$7:$A$206,AM6,Buchungen!$G$7:$G$206,"<>Storniert")>0,"An",IF(COUNTIFS(Buchungen!$B$7:$B$206,AM6,Buchungen!$G$7:$G$206,"<>Storniert")>0,"Ab","")))) | H6: =IF(AN6=0,"",IF(AND(COUNTIFS(Buchungen!$A$7:$A$206,AN6,Buchungen!$G$7:$G$206,"<>Storniert")>0,COUNTIFS(Buchungen!$B$7:$B$206,AN6,Buchungen!$G$7:$G$206,"<>Storniert")>0),"W",IF(COUNTIFS(Buchungen!$A$7:$A$206,AN6,Buchungen!$G$7:$G$206,"<>Storniert")>0,"An",IF(COUNTIFS(Buchungen!$B$7:$B$206,AN6,Buchungen!$G$7:$G$206,"<>Storniert")>0,"Ab","")))) | I6: =IF(AO6=0,"",IF(AND(COUNTIFS(Buchungen!$A$7:$A$206,AO6,Buchungen!$G$7:$G$206,"<>Storniert")>0,COUNTIFS(Buchungen!$B$7:$B$206,AO6,Buchungen!$G$7:$G$206,"<>Storniert")>0),"W",IF(COUNTIFS(Buchungen!$A$7:$A$206,AO6,Buchungen!$G$7:$G$206,"<>Storniert")>0,"An",IF(COUNTIFS(Buchungen!$B$7:$B$206,AO6,Buchungen!$G$7:$G$206,"<>Storniert")>0,"Ab","")))) | ... AF6: =IF(BL6=0,"",IF(AND(COUNTIFS(Buchungen!$A$7:$A$206,BL6,Buchungen!$G$7:$G$206,"<>Storniert")>0,COUNTIFS(Buchungen!$B$7:$B$206,BL6,Buchungen!$G$7:$G$206,"<>Storniert")>0),"W",IF(COUNTIFS(Buchungen!$A$7:$A$206,BL6,Buchungen!$G$7:$G$206,"<>Storniert")>0,"An",IF(COUNTIFS(Buchungen!$B$7:$B$206,BL6,Buchungen!$G$7:$G$206,"<>Storniert")>0,"Ab","")))) | AH6: =IF(MONTH(DATE(Einstellungen!$B$5,1,B$5))=1,DATE(Einstellungen!$B$5,1,B$5),0) -> 46388 | AI6: =IF(MONTH(DATE(Einstellungen!$B$5,1,C$5))=1,DATE(Einstellungen!$B$5,1,C$5),0) -> 46389 | AJ6: =IF(MONTH(DATE(Einstellungen!$B$5,1,D$5))=1,DATE(Einstellungen!$B$5,1,D$5),0) -> 46390 | AK6: =IF(MONTH(DATE(Einstellungen!$B$5,1,E$5))=1,DATE(Einstellungen!$B$5,1,E$5),0) -> 46391 | AL6: =IF(MONTH(DATE(Einstellungen!$B$5,1,F$5))=1,DATE(Einstellungen!$B$5,1,F$5),0) -> 46392 | AM6: =IF(MONTH(DATE(Einstellungen!$B$5,1,G$5))=1,DATE(Einstellungen!$B$5,1,G$5),0) -> 46393 | AN6: =IF(MONTH(DATE(Einstellungen!$B$5,1,H$5))=1,DATE(Einstellungen!$B$5,1,H$5),0) -> 46394 | AO6: =IF(MONTH(DATE(Einstellungen!$B$5,1,I$5))=1,DATE(Einstellungen!$B$5,1,I$5),0) -> 46395 | ... BL6: =IF(MONTH(DATE(Einstellungen!$B$5,1,AF$5))=1,DATE(Einstellungen!$B$5,1,AF$5),0) -> 46418 | BN6: =IF(AH6=0,-1,IF(COUNTIFS(Buchungen!$A$7:$A$206,"<="&AH6,Buchungen!$B$7:$B$206,">"&AH6,Buchungen!$G$7:$G$206,"<>Storniert")=0,0,IF(COUNTIFS(Buchungen!$A$7:$A$206,"<="&AH6,Buchungen!$B$7:$B$206,">"&AH6,Buchungen!$G$7:$G$206,"<>Storniert")>1,9,IF(COUNTIFS(Buchungen!$A$7:$A$206,"<="&AH6,Buchungen!$B$7:$B$206,">"&AH6,Buchungen!$G$7:$G$206,"Gebucht")=1,1,IF(COUNTIFS(Buchungen!$A$7:$A$206,"<="&AH6,Buchungen!$B$7:$B$206,">"&AH6,Buchungen!$G$7:$G$206,"Anfrage")=1,2,IF(COUNTIFS(Buchungen!$A$7:$A$206,"<="&AH6,Buchungen!$B$7:$B$206,">"&AH6,Buchungen!$G$7:$G$206,"Eigennutzung")=1,3,IF(COUNTIFS(Buchungen!$A$7:$A$206,"<="&AH6,Buchungen!$B$7:$B$206,">"&AH6,Buchungen!$G$7:$G$206,"Gesperrt")=1,4,9))))))) -> 0 | BO6: =IF(AI6=0,-1,IF(COUNTIFS(Buchungen!$A$7:$A$206,"<="&AI6,Buchungen!$B$7:$B$206,">"&AI6,Buchungen!$G$7:$G$206,"<>Storniert")=0,0,IF(COUNTIFS(Buchungen!$A$7:$A$206,"<="&AI6,Buchungen!$B$7:$B$206,">"&AI6,Buchungen!$G$7:$G$206,"<>Storniert")>1,9,IF(COUNTIFS(Buchungen!$A$7:$A$206,"<="&AI6,Buchungen!$B$7:$B$206,">"&AI6,Buchungen!$G$7:$G$206,"Gebucht")=1,1,IF(COUNTIFS(Buchungen!$A$7:$A$206,"<="&AI6,Buchungen!$B$7:$B$206,">"&AI6,Buchungen!$G$7:$G$206,"Anfrage")=1,2,IF(COUNTIFS(Buchungen!$A$7:$A$206,"<="&AI6,Buchungen!$B$7:$B$206,">"&AI6,Buchungen!$G$7:$G$206,"Eigennutzung")=1,3,IF(COUNTIFS(Buchungen!$A$7:$A$206,"<="&AI6,Buchungen!$B$7:$B$206,">"&AI6,Buchungen!$G$7:$G$206,"Gesperrt")=1,4,9))))))) -> 0 | BP6: =IF(AJ6=0,-1,IF(COUNTIFS(Buchungen!$A$7:$A$206,"<="&AJ6,Buchungen!$B$7:$B$206,">"&AJ6,Buchungen!$G$7:$G$206,"<>Storniert")=0,0,IF(COUNTIFS(Buchungen!$A$7:$A$206,"<="&AJ6,Buchungen!$B$7:$B$206,">"&AJ6,Buchungen!$G$7:$G$206,"<>Storniert")>1,9,IF(COUNTIFS(Buchungen!$A$7:$A$206,"<="&AJ6,Buchungen!$B$7:$B$206,">"&AJ6,Buchungen!$G$7:$G$206,"Gebucht")=1,1,IF(COUNTIFS(Buchungen!$A$7:$A$206,"<="&AJ6,Buchungen!$B$7:$B$206,">"&AJ6,Buchungen!$G$7:$G$206,"Anfrage")=1,2,IF(COUNTIFS(Buchungen!$A$7:$A$206,"<="&AJ6,Buchungen!$B$7:$B$206,">"&AJ6,Buchungen!$G$7:$G$206,"Eigennutzung")=1,3,IF(COUNTIFS(Buchungen!$A$7:$A$206,"<="&AJ6,Buchungen!$B$7:$B$206,">"&AJ6,Buchungen!$G$7:$G$206,"Gesperrt")=1,4,9))))))) -> 0 | BQ6: =IF(AK6=0,-1,IF(COUNTIFS(Buchungen!$A$7:$A$206,"<="&AK6,Buchungen!$B$7:$B$206,">"&AK6,Buchungen!$G$7:$G$206,"<>Storniert")=0,0,IF(COUNTIFS(Buchungen!$A$7:$A$206,"<="&AK6,Buchungen!$B$7:$B$206,">"&AK6,Buchungen!$G$7:$G$206,"<>Storniert")>1,9,IF(COUNTIFS(Buchungen!$A$7:$A$206,"<="&AK6,Buchungen!$B$7:$B$206,">"&AK6,Buchungen!$G$7:$G$206,"Gebucht")=1,1,IF(COUNTIFS(Buchungen!$A$7:$A$206,"<="&AK6,Buchungen!$B$7:$B$206,">"&AK6,Buchungen!$G$7:$G$206,"Anfrage")=1,2,IF(COUNTIFS(Buchungen!$A$7:$A$206,"<="&AK6,Buchungen!$B$7:$B$206,">"&AK6,Buchungen!$G$7:$G$206,"Eigennutzung")=1,3,IF(COUNTIFS(Buchungen!$A$7:$A$206,"<="&AK6,Buchungen!$B$7:$B$206,">"&AK6,Buchungen!$G$7:$G$206,"Gesperrt")=1,4,9))))))) -> 0 | BR6: =IF(AL6=0,-1,IF(COUNTIFS(Buchungen!$A$7:$A$206,"<="&AL6,Buchungen!$B$7:$B$206,">"&AL6,Buchungen!$G$7:$G$206,"<>Storniert")=0,0,IF(COUNTIFS(Buchungen!$A$7:$A$206,"<="&AL6,Buchungen!$B$7:$B$206,">"&AL6,Buchungen!$G$7:$G$206,"<>Storniert")>1,9,IF(COUNTIFS(Buchungen!$A$7:$A$206,"<="&AL6,Buchungen!$B$7:$B$206,">"&AL6,Buchungen!$G$7:$G$206,"Gebucht")=1,1,IF(COUNTIFS(Buchungen!$A$7:$A$206,"<="&AL6,Buchungen!$B$7:$B$206,">"&AL6,Buchungen!$G$7:$G$206,"Anfrage")=1,2,IF(COUNTIFS(Buchungen!$A$7:$A$206,"<="&AL6,Buchungen!$B$7:$B$206,">"&AL6,Buchungen!$G$7:$G$206,"Eigennutzung")=1,3,IF(COUNTIFS(Buchungen!$A$7:$A$206,"<="&AL6,Buchungen!$B$7:$B$206,">"&AL6,Buchungen!$G$7:$G$206,"Gesperrt")=1,4,9))))))) -> 0 | BS6: =IF(AM6=0,-1,IF(COUNTIFS(Buchungen!$A$7:$A$206,"<="&AM6,Buchungen!$B$7:$B$206,">"&AM6,Buchungen!$G$7:$G$206,"<>Storniert")=0,0,IF(COUNTIFS(Buchungen!$A$7:$A$206,"<="&AM6,Buchungen!$B$7:$B$206,">"&AM6,Buchungen!$G$7:$G$206,"<>Storniert")>1,9,IF(COUNTIFS(Buchungen!$A$7:$A$206,"<="&AM6,Buchungen!$B$7:$B$206,">"&AM6,Buchungen!$G$7:$G$206,"Gebucht")=1,1,IF(COUNTIFS(Buchungen!$A$7:$A$206,"<="&AM6,Buchungen!$B$7:$B$206,">"&AM6,Buchungen!$G$7:$G$206,"Anfrage")=1,2,IF(COUNTIFS(Buchungen!$A$7:$A$206,"<="&AM6,Buchungen!$B$7:$B$206,">"&AM6,Buchungen!$G$7:$G$206,"Eigennutzung")=1,3,IF(COUNTIFS(Buchungen!$A$7:$A$206,"<="&AM6,Buchungen!$B$7:$B$206,">"&AM6,Buchungen!$G$7:$G$206,"Gesperrt")=1,4,9))))))) -> 0 | BT6: =IF(AN6=0,-1,IF(COUNTIFS(Buchungen!$A$7:$A$206,"<="&AN6,Buchungen!$B$7:$B$206,">"&AN6,Buchungen!$G$7:$G$206,"<>Storniert")=0,0,IF(COUNTIFS(Buchungen!$A$7:$A$206,"<="&AN6,Buchungen!$B$7:$B$206,">"&AN6,Buchungen!$G$7:$G$206,"<>Storniert")>1,9,IF(COUNTIFS(Buchungen!$A$7:$A$206,"<="&AN6,Buchungen!$B$7:$B$206,">"&AN6,Buchungen!$G$7:$G$206,"Gebucht")=1,1,IF(COUNTIFS(Buchungen!$A$7:$A$206,"<="&AN6,Buchungen!$B$7:$B$206,">"&AN6,Buchungen!$G$7:$G$206,"Anfrage")=1,2,IF(COUNTIFS(Buchungen!$A$7:$A$206,"<="&AN6,Buchungen!$B$7:$B$206,">"&AN6,Buchungen!$G$7:$G$206,"Eigennutzung")=1,3,IF(COUNTIFS(Buchungen!$A$7:$A$206,"<="&AN6,Buchungen!$B$7:$B$206,">"&AN6,Buchungen!$G$7:$G$206,"Gesperrt")=1,4,9))))))) -> 0 | BU6: =IF(AO6=0,-1,IF(COUNTIFS(Buchungen!$A$7:$A$206,"<="&AO6,Buchungen!$B$7:$B$206,">"&AO6,Buchungen!$G$7:$G$206,"<>Storniert")=0,0,IF(COUNTIFS(Buchungen!$A$7:$A$206,"<="&AO6,Buchungen!$B$7:$B$206,">"&AO6,Buchungen!$G$7:$G$206,"<>Storniert")>1,9,IF(COUNTIFS(Buchungen!$A$7:$A$206,"<="&AO6,Buchungen!$B$7:$B$206,">"&AO6,Buchungen!$G$7:$G$206,"Gebucht")=1,1,IF(COUNTIFS(Buchungen!$A$7:$A$206,"<="&AO6,Buchungen!$B$7:$B$206,">"&AO6,Buchungen!$G$7:$G$206,"Anfrage")=1,2,IF(COUNTIFS(Buchungen!$A$7:$A$206,"<="&AO6,Buchungen!$B$7:$B$206,">"&AO6,Buchungen!$G$7:$G$206,"Eigennutzung")=1,3,IF(COUNTIFS(Buchungen!$A$7:$A$206,"<="&AO6,Buchungen!$B$7:$B$206,">"&AO6,Buchungen!$G$7:$G$206,"Gesperrt")=1,4,9))))))) -> 0 | ... CR6: =IF(BL6=0,-1,IF(COUNTIFS(Buchungen!$A$7:$A$206,"<="&BL6,Buchungen!$B$7:$B$206,">"&BL6,Buchungen!$G$7:$G$206,"<>Storniert")=0,0,IF(COUNTIFS(Buchungen!$A$7:$A$206,"<="&BL6,Buchungen!$B$7:$B$206,">"&BL6,Buchungen!$G$7:$G$206,"<>Storniert")>1,9,IF(COUNTIFS(Buchungen!$A$7:$A$206,"<="&BL6,Buchungen!$B$7:$B$206,">"&BL6,Buchungen!$G$7:$G$206,"Gebucht")=1,1,IF(COUNTIFS(Buchungen!$A$7:$A$206,"<="&BL6,Buchungen!$B$7:$B$206,">"&BL6,Buchungen!$G$7:$G$206,"Anfrage")=1,2,IF(COUNTIFS(Buchungen!$A$7:$A$206,"<="&BL6,Buchungen!$B$7:$B$206,">"&BL6,Buchungen!$G$7:$G$206,"Eigennutzung")=1,3,IF(COUNTIFS(Buchungen!$A$7:$A$206,"<="&BL6,Buchungen!$B$7:$B$206,">"&BL6,Buchungen!$G$7:$G$206,"Gesperrt")=1,4,9))))))) -> 0
A7: Februar | B7: =IF(AH7=0,"",IF(AND(COUNTIFS(Buchungen!$A$7:$A$206,AH7,Buchungen!$G$7:$G$206,"<>Storniert")>0,COUNTIFS(Buchungen!$B$7:$B$206,AH7,Buchungen!$G$7:$G$206,"<>Storniert")>0),"W",IF(COUNTIFS(Buchungen!$A$7:$A$206,AH7,Buchungen!$G$7:$G$206,"<>Storniert")>0,"An",IF(COUNTIFS(Buchungen!$B$7:$B$206,AH7,Buchungen!$G$7:$G$206,"<>Storniert")>0,"Ab","")))) | C7: =IF(AI7=0,"",IF(AND(COUNTIFS(Buchungen!$A$7:$A$206,AI7,Buchungen!$G$7:$G$206,"<>Storniert")>0,COUNTIFS(Buchungen!$B$7:$B$206,AI7,Buchungen!$G$7:$G$206,"<>Storniert")>0),"W",IF(COUNTIFS(Buchungen!$A$7:$A$206,AI7,Buchungen!$G$7:$G$206,"<>Storniert")>0,"An",IF(COUNTIFS(Buchungen!$B$7:$B$206,AI7,Buchungen!$G$7:$G$206,"<>Storniert")>0,"Ab","")))) | D7: =IF(AJ7=0,"",IF(AND(COUNTIFS(Buchungen!$A$7:$A$206,AJ7,Buchungen!$G$7:$G$206,"<>Storniert")>0,COUNTIFS(Buchungen!$B$7:$B$206,AJ7,Buchungen!$G$7:$G$206,"<>Storniert")>0),"W",IF(COUNTIFS(Buchungen!$A$7:$A$206,AJ7,Buchungen!$G$7:$G$206,"<>Storniert")>0,"An",IF(COUNTIFS(Buchungen!$B$7:$B$206,AJ7,Buchungen!$G$7:$G$206,"<>Storniert")>0,"Ab","")))) | E7: =IF(AK7=0,"",IF(AND(COUNTIFS(Buchungen!$A$7:$A$206,AK7,Buchungen!$G$7:$G$206,"<>Storniert")>0,COUNTIFS(Buchungen!$B$7:$B$206,AK7,Buchungen!$G$7:$G$206,"<>Storniert")>0),"W",IF(COUNTIFS(Buchungen!$A$7:$A$206,AK7,Buchungen!$G$7:$G$206,"<>Storniert")>0,"An",IF(COUNTIFS(Buchungen!$B$7:$B$206,AK7,Buchungen!$G$7:$G$206,"<>Storniert")>0,"Ab","")))) | F7: =IF(AL7=0,"",IF(AND(COUNTIFS(Buchungen!$A$7:$A$206,AL7,Buchungen!$G$7:$G$206,"<>Storniert")>0,COUNTIFS(Buchungen!$B$7:$B$206,AL7,Buchungen!$G$7:$G$206,"<>Storniert")>0),"W",IF(COUNTIFS(Buchungen!$A$7:$A$206,AL7,Buchungen!$G$7:$G$206,"<>Storniert")>0,"An",IF(COUNTIFS(Buchungen!$B$7:$B$206,AL7,Buchungen!$G$7:$G$206,"<>Storniert")>0,"Ab","")))) | G7: =IF(AM7=0,"",IF(AND(COUNTIFS(Buchungen!$A$7:$A$206,AM7,Buchungen!$G$7:$G$206,"<>Storniert")>0,COUNTIFS(Buchungen!$B$7:$B$206,AM7,Buchungen!$G$7:$G$206,"<>Storniert")>0),"W",IF(COUNTIFS(Buchungen!$A$7:$A$206,AM7,Buchungen!$G$7:$G$206,"<>Storniert")>0,"An",IF(COUNTIFS(Buchungen!$B$7:$B$206,AM7,Buchungen!$G$7:$G$206,"<>Storniert")>0,"Ab","")))) | H7: =IF(AN7=0,"",IF(AND(COUNTIFS(Buchungen!$A$7:$A$206,AN7,Buchungen!$G$7:$G$206,"<>Storniert")>0,COUNTIFS(Buchungen!$B$7:$B$206,AN7,Buchungen!$G$7:$G$206,"<>Storniert")>0),"W",IF(COUNTIFS(Buchungen!$A$7:$A$206,AN7,Buchungen!$G$7:$G$206,"<>Storniert")>0,"An",IF(COUNTIFS(Buchungen!$B$7:$B$206,AN7,Buchungen!$G$7:$G$206,"<>Storniert")>0,"Ab","")))) | I7: =IF(AO7=0,"",IF(AND(COUNTIFS(Buchungen!$A$7:$A$206,AO7,Buchungen!$G$7:$G$206,"<>Storniert")>0,COUNTIFS(Buchungen!$B$7:$B$206,AO7,Buchungen!$G$7:$G$206,"<>Storniert")>0),"W",IF(COUNTIFS(Buchungen!$A$7:$A$206,AO7,Buchungen!$G$7:$G$206,"<>Storniert")>0,"An",IF(COUNTIFS(Buchungen!$B$7:$B$206,AO7,Buchungen!$G$7:$G$206,"<>Storniert")>0,"Ab","")))) | ... AF7: =IF(BL7=0,"",IF(AND(COUNTIFS(Buchungen!$A$7:$A$206,BL7,Buchungen!$G$7:$G$206,"<>Storniert")>0,COUNTIFS(Buchungen!$B$7:$B$206,BL7,Buchungen!$G$7:$G$206,"<>Storniert")>0),"W",IF(COUNTIFS(Buchungen!$A$7:$A$206,BL7,Buchungen!$G$7:$G$206,"<>Storniert")>0,"An",IF(COUNTIFS(Buchungen!$B$7:$B$206,BL7,Buchungen!$G$7:$G$206,"<>Storniert")>0,"Ab","")))) | AH7: =IF(MONTH(DATE(Einstellungen!$B$5,2,B$5))=2,DATE(Einstellungen!$B$5,2,B$5),0) -> 46419 | AI7: =IF(MONTH(DATE(Einstellungen!$B$5,2,C$5))=2,DATE(Einstellungen!$B$5,2,C$5),0) -> 46420 | AJ7: =IF(MONTH(DATE(Einstellungen!$B$5,2,D$5))=2,DATE(Einstellungen!$B$5,2,D$5),0) -> 46421 | AK7: =IF(MONTH(DATE(Einstellungen!$B$5,2,E$5))=2,DATE(Einstellungen!$B$5,2,E$5),0) -> 46422 | AL7: =IF(MONTH(DATE(Einstellungen!$B$5,2,F$5))=2,DATE(Einstellungen!$B$5,2,F$5),0) -> 46423 | AM7: =IF(MONTH(DATE(Einstellungen!$B$5,2,G$5))=2,DATE(Einstellungen!$B$5,2,G$5),0) -> 46424 | AN7: =IF(MONTH(DATE(Einstellungen!$B$5,2,H$5))=2,DATE(Einstellungen!$B$5,2,H$5),0) -> 46425 | AO7: =IF(MONTH(DATE(Einstellungen!$B$5,2,I$5))=2,DATE(Einstellungen!$B$5,2,I$5),0) -> 46426 | ... BL7: =IF(MONTH(DATE(Einstellungen!$B$5,2,AF$5))=2,DATE(Einstellungen!$B$5,2,AF$5),0) -> 0 | BN7: =IF(AH7=0,-1,IF(COUNTIFS(Buchungen!$A$7:$A$206,"<="&AH7,Buchungen!$B$7:$B$206,">"&AH7,Buchungen!$G$7:$G$206,"<>Storniert")=0,0,IF(COUNTIFS(Buchungen!$A$7:$A$206,"<="&AH7,Buchungen!$B$7:$B$206,">"&AH7,Buchungen!$G$7:$G$206,"<>Storniert")>1,9,IF(COUNTIFS(Buchungen!$A$7:$A$206,"<="&AH7,Buchungen!$B$7:$B$206,">"&AH7,Buchungen!$G$7:$G$206,"Gebucht")=1,1,IF(COUNTIFS(Buchungen!$A$7:$A$206,"<="&AH7,Buchungen!$B$7:$B$206,">"&AH7,Buchungen!$G$7:$G$206,"Anfrage")=1,2,IF(COUNTIFS(Buchungen!$A$7:$A$206,"<="&AH7,Buchungen!$B$7:$B$206,">"&AH7,Buchungen!$G$7:$G$206,"Eigennutzung")=1,3,IF(COUNTIFS(Buchungen!$A$7:$A$206,"<="&AH7,Buchungen!$B$7:$B$206,">"&AH7,Buchungen!$G$7:$G$206,"Gesperrt")=1,4,9))))))) -> 0 | BO7: =IF(AI7=0,-1,IF(COUNTIFS(Buchungen!$A$7:$A$206,"<="&AI7,Buchungen!$B$7:$B$206,">"&AI7,Buchungen!$G$7:$G$206,"<>Storniert")=0,0,IF(COUNTIFS(Buchungen!$A$7:$A$206,"<="&AI7,Buchungen!$B$7:$B$206,">"&AI7,Buchungen!$G$7:$G$206,"<>Storniert")>1,9,IF(COUNTIFS(Buchungen!$A$7:$A$206,"<="&AI7,Buchungen!$B$7:$B$206,">"&AI7,Buchungen!$G$7:$G$206,"Gebucht")=1,1,IF(COUNTIFS(Buchungen!$A$7:$A$206,"<="&AI7,Buchungen!$B$7:$B$206,">"&AI7,Buchungen!$G$7:$G$206,"Anfrage")=1,2,IF(COUNTIFS(Buchungen!$A$7:$A$206,"<="&AI7,Buchungen!$B$7:$B$206,">"&AI7,Buchungen!$G$7:$G$206,"Eigennutzung")=1,3,IF(COUNTIFS(Buchungen!$A$7:$A$206,"<="&AI7,Buchungen!$B$7:$B$206,">"&AI7,Buchungen!$G$7:$G$206,"Gesperrt")=1,4,9))))))) -> 0 | BP7: =IF(AJ7=0,-1,IF(COUNTIFS(Buchungen!$A$7:$A$206,"<="&AJ7,Buchungen!$B$7:$B$206,">"&AJ7,Buchungen!$G$7:$G$206,"<>Storniert")=0,0,IF(COUNTIFS(Buchungen!$A$7:$A$206,"<="&AJ7,Buchungen!$B$7:$B$206,">"&AJ7,Buchungen!$G$7:$G$206,"<>Storniert")>1,9,IF(COUNTIFS(Buchungen!$A$7:$A$206,"<="&AJ7,Buchungen!$B$7:$B$206,">"&AJ7,Buchungen!$G$7:$G$206,"Gebucht")=1,1,IF(COUNTIFS(Buchungen!$A$7:$A$206,"<="&AJ7,Buchungen!$B$7:$B$206,">"&AJ7,Buchungen!$G$7:$G$206,"Anfrage")=1,2,IF(COUNTIFS(Buchungen!$A$7:$A$206,"<="&AJ7,Buchungen!$B$7:$B$206,">"&AJ7,Buchungen!$G$7:$G$206,"Eigennutzung")=1,3,IF(COUNTIFS(Buchungen!$A$7:$A$206,"<="&AJ7,Buchungen!$B$7:$B$206,">"&AJ7,Buchungen!$G$7:$G$206,"Gesperrt")=1,4,9))))))) -> 0 | BQ7: =IF(AK7=0,-1,IF(COUNTIFS(Buchungen!$A$7:$A$206,"<="&AK7,Buchungen!$B$7:$B$206,">"&AK7,Buchungen!$G$7:$G$206,"<>Storniert")=0,0,IF(COUNTIFS(Buchungen!$A$7:$A$206,"<="&AK7,Buchungen!$B$7:$B$206,">"&AK7,Buchungen!$G$7:$G$206,"<>Storniert")>1,9,IF(COUNTIFS(Buchungen!$A$7:$A$206,"<="&AK7,Buchungen!$B$7:$B$206,">"&AK7,Buchungen!$G$7:$G$206,"Gebucht")=1,1,IF(COUNTIFS(Buchungen!$A$7:$A$206,"<="&AK7,Buchungen!$B$7:$B$206,">"&AK7,Buchungen!$G$7:$G$206,"Anfrage")=1,2,IF(COUNTIFS(Buchungen!$A$7:$A$206,"<="&AK7,Buchungen!$B$7:$B$206,">"&AK7,Buchungen!$G$7:$G$206,"Eigennutzung")=1,3,IF(COUNTIFS(Buchungen!$A$7:$A$206,"<="&AK7,Buchungen!$B$7:$B$206,">"&AK7,Buchungen!$G$7:$G$206,"Gesperrt")=1,4,9))))))) -> 0 | BR7: =IF(AL7=0,-1,IF(COUNTIFS(Buchungen!$A$7:$A$206,"<="&AL7,Buchungen!$B$7:$B$206,">"&AL7,Buchungen!$G$7:$G$206,"<>Storniert")=0,0,IF(COUNTIFS(Buchungen!$A$7:$A$206,"<="&AL7,Buchungen!$B$7:$B$206,">"&AL7,Buchungen!$G$7:$G$206,"<>Storniert")>1,9,IF(COUNTIFS(Buchungen!$A$7:$A$206,"<="&AL7,Buchungen!$B$7:$B$206,">"&AL7,Buchungen!$G$7:$G$206,"Gebucht")=1,1,IF(COUNTIFS(Buchungen!$A$7:$A$206,"<="&AL7,Buchungen!$B$7:$B$206,">"&AL7,Buchungen!$G$7:$G$206,"Anfrage")=1,2,IF(COUNTIFS(Buchungen!$A$7:$A$206,"<="&AL7,Buchungen!$B$7:$B$206,">"&AL7,Buchungen!$G$7:$G$206,"Eigennutzung")=1,3,IF(COUNTIFS(Buchungen!$A$7:$A$206,"<="&AL7,Buchungen!$B$7:$B$206,">"&AL7,Buchungen!$G$7:$G$206,"Gesperrt")=1,4,9))))))) -> 0 | BS7: =IF(AM7=0,-1,IF(COUNTIFS(Buchungen!$A$7:$A$206,"<="&AM7,Buchungen!$B$7:$B$206,">"&AM7,Buchungen!$G$7:$G$206,"<>Storniert")=0,0,IF(COUNTIFS(Buchungen!$A$7:$A$206,"<="&AM7,Buchungen!$B$7:$B$206,">"&AM7,Buchungen!$G$7:$G$206,"<>Storniert")>1,9,IF(COUNTIFS(Buchungen!$A$7:$A$206,"<="&AM7,Buchungen!$B$7:$B$206,">"&AM7,Buchungen!$G$7:$G$206,"Gebucht")=1,1,IF(COUNTIFS(Buchungen!$A$7:$A$206,"<="&AM7,Buchungen!$B$7:$B$206,">"&AM7,Buchungen!$G$7:$G$206,"Anfrage")=1,2,IF(COUNTIFS(Buchungen!$A$7:$A$206,"<="&AM7,Buchungen!$B$7:$B$206,">"&AM7,Buchungen!$G$7:$G$206,"Eigennutzung")=1,3,IF(COUNTIFS(Buchungen!$A$7:$A$206,"<="&AM7,Buchungen!$B$7:$B$206,">"&AM7,Buchungen!$G$7:$G$206,"Gesperrt")=1,4,9))))))) -> 0 | BT7: =IF(AN7=0,-1,IF(COUNTIFS(Buchungen!$A$7:$A$206,"<="&AN7,Buchungen!$B$7:$B$206,">"&AN7,Buchungen!$G$7:$G$206,"<>Storniert")=0,0,IF(COUNTIFS(Buchungen!$A$7:$A$206,"<="&AN7,Buchungen!$B$7:$B$206,">"&AN7,Buchungen!$G$7:$G$206,"<>Storniert")>1,9,IF(COUNTIFS(Buchungen!$A$7:$A$206,"<="&AN7,Buchungen!$B$7:$B$206,">"&AN7,Buchungen!$G$7:$G$206,"Gebucht")=1,1,IF(COUNTIFS(Buchungen!$A$7:$A$206,"<="&AN7,Buchungen!$B$7:$B$206,">"&AN7,Buchungen!$G$7:$G$206,"Anfrage")=1,2,IF(COUNTIFS(Buchungen!$A$7:$A$206,"<="&AN7,Buchungen!$B$7:$B$206,">"&AN7,Buchungen!$G$7:$G$206,"Eigennutzung")=1,3,IF(COUNTIFS(Buchungen!$A$7:$A$206,"<="&AN7,Buchungen!$B$7:$B$206,">"&AN7,Buchungen!$G$7:$G$206,"Gesperrt")=1,4,9))))))) -> 0 | BU7: =IF(AO7=0,-1,IF(COUNTIFS(Buchungen!$A$7:$A$206,"<="&AO7,Buchungen!$B$7:$B$206,">"&AO7,Buchungen!$G$7:$G$206,"<>Storniert")=0,0,IF(COUNTIFS(Buchungen!$A$7:$A$206,"<="&AO7,Buchungen!$B$7:$B$206,">"&AO7,Buchungen!$G$7:$G$206,"<>Storniert")>1,9,IF(COUNTIFS(Buchungen!$A$7:$A$206,"<="&AO7,Buchungen!$B$7:$B$206,">"&AO7,Buchungen!$G$7:$G$206,"Gebucht")=1,1,IF(COUNTIFS(Buchungen!$A$7:$A$206,"<="&AO7,Buchungen!$B$7:$B$206,">"&AO7,Buchungen!$G$7:$G$206,"Anfrage")=1,2,IF(COUNTIFS(Buchungen!$A$7:$A$206,"<="&AO7,Buchungen!$B$7:$B$206,">"&AO7,Buchungen!$G$7:$G$206,"Eigennutzung")=1,3,IF(COUNTIFS(Buchungen!$A$7:$A$206,"<="&AO7,Buchungen!$B$7:$B$206,">"&AO7,Buchungen!$G$7:$G$206,"Gesperrt")=1,4,9))))))) -> 0 | ... CR7: =IF(BL7=0,-1,IF(COUNTIFS(Buchungen!$A$7:$A$206,"<="&BL7,Buchungen!$B$7:$B$206,">"&BL7,Buchungen!$G$7:$G$206,"<>Storniert")=0,0,IF(COUNTIFS(Buchungen!$A$7:$A$206,"<="&BL7,Buchungen!$B$7:$B$206,">"&BL7,Buchungen!$G$7:$G$206,"<>Storniert")>1,9,IF(COUNTIFS(Buchungen!$A$7:$A$206,"<="&BL7,Buchungen!$B$7:$B$206,">"&BL7,Buchungen!$G$7:$G$206,"Gebucht")=1,1,IF(COUNTIFS(Buchungen!$A$7:$A$206,"<="&BL7,Buchungen!$B$7:$B$206,">"&BL7,Buchungen!$G$7:$G$206,"Anfrage")=1,2,IF(COUNTIFS(Buchungen!$A$7:$A$206,"<="&BL7,Buchungen!$B$7:$B$206,">"&BL7,Buchungen!$G$7:$G$206,"Eigennutzung")=1,3,IF(COUNTIFS(Buchungen!$A$7:$A$206,"<="&BL7,Buchungen!$B$7:$B$206,">"&BL7,Buchungen!$G$7:$G$206,"Gesperrt")=1,4,9))))))) -> -1
A8: März | B8: =IF(AH8=0,"",IF(AND(COUNTIFS(Buchungen!$A$7:$A$206,AH8,Buchungen!$G$7:$G$206,"<>Storniert")>0,COUNTIFS(Buchungen!$B$7:$B$206,AH8,Buchungen!$G$7:$G$206,"<>Storniert")>0),"W",IF(COUNTIFS(Buchungen!$A$7:$A$206,AH8,Buchungen!$G$7:$G$206,"<>Storniert")>0,"An",IF(COUNTIFS(Buchungen!$B$7:$B$206,AH8,Buchungen!$G$7:$G$206,"<>Storniert")>0,"Ab","")))) | C8: =IF(AI8=0,"",IF(AND(COUNTIFS(Buchungen!$A$7:$A$206,AI8,Buchungen!$G$7:$G$206,"<>Storniert")>0,COUNTIFS(Buchungen!$B$7:$B$206,AI8,Buchungen!$G$7:$G$206,"<>Storniert")>0),"W",IF(COUNTIFS(Buchungen!$A$7:$A$206,AI8,Buchungen!$G$7:$G$206,"<>Storniert")>0,"An",IF(COUNTIFS(Buchungen!$B$7:$B$206,AI8,Buchungen!$G$7:$G$206,"<>Storniert")>0,"Ab","")))) | D8: =IF(AJ8=0,"",IF(AND(COUNTIFS(Buchungen!$A$7:$A$206,AJ8,Buchungen!$G$7:$G$206,"<>Storniert")>0,COUNTIFS(Buchungen!$B$7:$B$206,AJ8,Buchungen!$G$7:$G$206,"<>Storniert")>0),"W",IF(COUNTIFS(Buchungen!$A$7:$A$206,AJ8,Buchungen!$G$7:$G$206,"<>Storniert")>0,"An",IF(COUNTIFS(Buchungen!$B$7:$B$206,AJ8,Buchungen!$G$7:$G$206,"<>Storniert")>0,"Ab","")))) | E8: =IF(AK8=0,"",IF(AND(COUNTIFS(Buchungen!$A$7:$A$206,AK8,Buchungen!$G$7:$G$206,"<>Storniert")>0,COUNTIFS(Buchungen!$B$7:$B$206,AK8,Buchungen!$G$7:$G$206,"<>Storniert")>0),"W",IF(COUNTIFS(Buchungen!$A$7:$A$206,AK8,Buchungen!$G$7:$G$206,"<>Storniert")>0,"An",IF(COUNTIFS(Buchungen!$B$7:$B$206,AK8,Buchungen!$G$7:$G$206,"<>Storniert")>0,"Ab","")))) | F8: =IF(AL8=0,"",IF(AND(COUNTIFS(Buchungen!$A$7:$A$206,AL8,Buchungen!$G$7:$G$206,"<>Storniert")>0,COUNTIFS(Buchungen!$B$7:$B$206,AL8,Buchungen!$G$7:$G$206,"<>Storniert")>0),"W",IF(COUNTIFS(Buchungen!$A$7:$A$206,AL8,Buchungen!$G$7:$G$206,"<>Storniert")>0,"An",IF(COUNTIFS(Buchungen!$B$7:$B$206,AL8,Buchungen!$G$7:$G$206,"<>Storniert")>0,"Ab","")))) | G8: =IF(AM8=0,"",IF(AND(COUNTIFS(Buchungen!$A$7:$A$206,AM8,Buchungen!$G$7:$G$206,"<>Storniert")>0,COUNTIFS(Buchungen!$B$7:$B$206,AM8,Buchungen!$G$7:$G$206,"<>Storniert")>0),"W",IF(COUNTIFS(Buchungen!$A$7:$A$206,AM8,Buchungen!$G$7:$G$206,"<>Storniert")>0,"An",IF(COUNTIFS(Buchungen!$B$7:$B$206,AM8,Buchungen!$G$7:$G$206,"<>Storniert")>0,"Ab","")))) | H8: =IF(AN8=0,"",IF(AND(COUNTIFS(Buchungen!$A$7:$A$206,AN8,Buchungen!$G$7:$G$206,"<>Storniert")>0,COUNTIFS(Buchungen!$B$7:$B$206,AN8,Buchungen!$G$7:$G$206,"<>Storniert")>0),"W",IF(COUNTIFS(Buchungen!$A$7:$A$206,AN8,Buchungen!$G$7:$G$206,"<>Storniert")>0,"An",IF(COUNTIFS(Buchungen!$B$7:$B$206,AN8,Buchungen!$G$7:$G$206,"<>Storniert")>0,"Ab","")))) | I8: =IF(AO8=0,"",IF(AND(COUNTIFS(Buchungen!$A$7:$A$206,AO8,Buchungen!$G$7:$G$206,"<>Storniert")>0,COUNTIFS(Buchungen!$B$7:$B$206,AO8,Buchungen!$G$7:$G$206,"<>Storniert")>0),"W",IF(COUNTIFS(Buchungen!$A$7:$A$206,AO8,Buchungen!$G$7:$G$206,"<>Storniert")>0,"An",IF(COUNTIFS(Buchungen!$B$7:$B$206,AO8,Buchungen!$G$7:$G$206,"<>Storniert")>0,"Ab","")))) | ... AF8: =IF(BL8=0,"",IF(AND(COUNTIFS(Buchungen!$A$7:$A$206,BL8,Buchungen!$G$7:$G$206,"<>Storniert")>0,COUNTIFS(Buchungen!$B$7:$B$206,BL8,Buchungen!$G$7:$G$206,"<>Storniert")>0),"W",IF(COUNTIFS(Buchungen!$A$7:$A$206,BL8,Buchungen!$G$7:$G$206,"<>Storniert")>0,"An",IF(COUNTIFS(Buchungen!$B$7:$B$206,BL8,Buchungen!$G$7:$G$206,"<>Storniert")>0,"Ab","")))) | AH8: =IF(MONTH(DATE(Einstellungen!$B$5,3,B$5))=3,DATE(Einstellungen!$B$5,3,B$5),0) -> 46447 | AI8: =IF(MONTH(DATE(Einstellungen!$B$5,3,C$5))=3,DATE(Einstellungen!$B$5,3,C$5),0) -> 46448 | AJ8: =IF(MONTH(DATE(Einstellungen!$B$5,3,D$5))=3,DATE(Einstellungen!$B$5,3,D$5),0) -> 46449 | AK8: =IF(MONTH(DATE(Einstellungen!$B$5,3,E$5))=3,DATE(Einstellungen!$B$5,3,E$5),0) -> 46450 | AL8: =IF(MONTH(DATE(Einstellungen!$B$5,3,F$5))=3,DATE(Einstellungen!$B$5,3,F$5),0) -> 46451 | AM8: =IF(MONTH(DATE(Einstellungen!$B$5,3,G$5))=3,DATE(Einstellungen!$B$5,3,G$5),0) -> 46452 | AN8: =IF(MONTH(DATE(Einstellungen!$B$5,3,H$5))=3,DATE(Einstellungen!$B$5,3,H$5),0) -> 46453 | AO8: =IF(MONTH(DATE(Einstellungen!$B$5,3,I$5))=3,DATE(Einstellungen!$B$5,3,I$5),0) -> 46454 | ... BL8: =IF(MONTH(DATE(Einstellungen!$B$5,3,AF$5))=3,DATE(Einstellungen!$B$5,3,AF$5),0) -> 46477 | BN8: =IF(AH8=0,-1,IF(COUNTIFS(Buchungen!$A$7:$A$206,"<="&AH8,Buchungen!$B$7:$B$206,">"&AH8,Buchungen!$G$7:$G$206,"<>Storniert")=0,0,IF(COUNTIFS(Buchungen!$A$7:$A$206,"<="&AH8,Buchungen!$B$7:$B$206,">"&AH8,Buchungen!$G$7:$G$206,"<>Storniert")>1,9,IF(COUNTIFS(Buchungen!$A$7:$A$206,"<="&AH8,Buchungen!$B$7:$B$206,">"&AH8,Buchungen!$G$7:$G$206,"Gebucht")=1,1,IF(COUNTIFS(Buchungen!$A$7:$A$206,"<="&AH8,Buchungen!$B$7:$B$206,">"&AH8,Buchungen!$G$7:$G$206,"Anfrage")=1,2,IF(COUNTIFS(Buchungen!$A$7:$A$206,"<="&AH8,Buchungen!$B$7:$B$206,">"&AH8,Buchungen!$G$7:$G$206,"Eigennutzung")=1,3,IF(COUNTIFS(Buchungen!$A$7:$A$206,"<="&AH8,Buchungen!$B$7:$B$206,">"&AH8,Buchungen!$G$7:$G$206,"Gesperrt")=1,4,9))))))) -> 0 | BO8: =IF(AI8=0,-1,IF(COUNTIFS(Buchungen!$A$7:$A$206,"<="&AI8,Buchungen!$B$7:$B$206,">"&AI8,Buchungen!$G$7:$G$206,"<>Storniert")=0,0,IF(COUNTIFS(Buchungen!$A$7:$A$206,"<="&AI8,Buchungen!$B$7:$B$206,">"&AI8,Buchungen!$G$7:$G$206,"<>Storniert")>1,9,IF(COUNTIFS(Buchungen!$A$7:$A$206,"<="&AI8,Buchungen!$B$7:$B$206,">"&AI8,Buchungen!$G$7:$G$206,"Gebucht")=1,1,IF(COUNTIFS(Buchungen!$A$7:$A$206,"<="&AI8,Buchungen!$B$7:$B$206,">"&AI8,Buchungen!$G$7:$G$206,"Anfrage")=1,2,IF(COUNTIFS(Buchungen!$A$7:$A$206,"<="&AI8,Buchungen!$B$7:$B$206,">"&AI8,Buchungen!$G$7:$G$206,"Eigennutzung")=1,3,IF(COUNTIFS(Buchungen!$A$7:$A$206,"<="&AI8,Buchungen!$B$7:$B$206,">"&AI8,Buchungen!$G$7:$G$206,"Gesperrt")=1,4,9))))))) -> 0 | BP8: =IF(AJ8=0,-1,IF(COUNTIFS(Buchungen!$A$7:$A$206,"<="&AJ8,Buchungen!$B$7:$B$206,">"&AJ8,Buchungen!$G$7:$G$206,"<>Storniert")=0,0,IF(COUNTIFS(Buchungen!$A$7:$A$206,"<="&AJ8,Buchungen!$B$7:$B$206,">"&AJ8,Buchungen!$G$7:$G$206,"<>Storniert")>1,9,IF(COUNTIFS(Buchungen!$A$7:$A$206,"<="&AJ8,Buchungen!$B$7:$B$206,">"&AJ8,Buchungen!$G$7:$G$206,"Gebucht")=1,1,IF(COUNTIFS(Buchungen!$A$7:$A$206,"<="&AJ8,Buchungen!$B$7:$B$206,">"&AJ8,Buchungen!$G$7:$G$206,"Anfrage")=1,2,IF(COUNTIFS(Buchungen!$A$7:$A$206,"<="&AJ8,Buchungen!$B$7:$B$206,">"&AJ8,Buchungen!$G$7:$G$206,"Eigennutzung")=1,3,IF(COUNTIFS(Buchungen!$A$7:$A$206,"<="&AJ8,Buchungen!$B$7:$B$206,">"&AJ8,Buchungen!$G$7:$G$206,"Gesperrt")=1,4,9))))))) -> 0 | BQ8: =IF(AK8=0,-1,IF(COUNTIFS(Buchungen!$A$7:$A$206,"<="&AK8,Buchungen!$B$7:$B$206,">"&AK8,Buchungen!$G$7:$G$206,"<>Storniert")=0,0,IF(COUNTIFS(Buchungen!$A$7:$A$206,"<="&AK8,Buchungen!$B$7:$B$206,">"&AK8,Buchungen!$G$7:$G$206,"<>Storniert")>1,9,IF(COUNTIFS(Buchungen!$A$7:$A$206,"<="&AK8,Buchungen!$B$7:$B$206,">"&AK8,Buchungen!$G$7:$G$206,"Gebucht")=1,1,IF(COUNTIFS(Buchungen!$A$7:$A$206,"<="&AK8,Buchungen!$B$7:$B$206,">"&AK8,Buchungen!$G$7:$G$206,"Anfrage")=1,2,IF(COUNTIFS(Buchungen!$A$7:$A$206,"<="&AK8,Buchungen!$B$7:$B$206,">"&AK8,Buchungen!$G$7:$G$206,"Eigennutzung")=1,3,IF(COUNTIFS(Buchungen!$A$7:$A$206,"<="&AK8,Buchungen!$B$7:$B$206,">"&AK8,Buchungen!$G$7:$G$206,"Gesperrt")=1,4,9))))))) -> 0 | BR8: =IF(AL8=0,-1,IF(COUNTIFS(Buchungen!$A$7:$A$206,"<="&AL8,Buchungen!$B$7:$B$206,">"&AL8,Buchungen!$G$7:$G$206,"<>Storniert")=0,0,IF(COUNTIFS(Buchungen!$A$7:$A$206,"<="&AL8,Buchungen!$B$7:$B$206,">"&AL8,Buchungen!$G$7:$G$206,"<>Storniert")>1,9,IF(COUNTIFS(Buchungen!$A$7:$A$206,"<="&AL8,Buchungen!$B$7:$B$206,">"&AL8,Buchungen!$G$7:$G$206,"Gebucht")=1,1,IF(COUNTIFS(Buchungen!$A$7:$A$206,"<="&AL8,Buchungen!$B$7:$B$206,">"&AL8,Buchungen!$G$7:$G$206,"Anfrage")=1,2,IF(COUNTIFS(Buchungen!$A$7:$A$206,"<="&AL8,Buchungen!$B$7:$B$206,">"&AL8,Buchungen!$G$7:$G$206,"Eigennutzung")=1,3,IF(COUNTIFS(Buchungen!$A$7:$A$206,"<="&AL8,Buchungen!$B$7:$B$206,">"&AL8,Buchungen!$G$7:$G$206,"Gesperrt")=1,4,9))))))) -> 0 | BS8: =IF(AM8=0,-1,IF(COUNTIFS(Buchungen!$A$7:$A$206,"<="&AM8,Buchungen!$B$7:$B$206,">"&AM8,Buchungen!$G$7:$G$206,"<>Storniert")=0,0,IF(COUNTIFS(Buchungen!$A$7:$A$206,"<="&AM8,Buchungen!$B$7:$B$206,">"&AM8,Buchungen!$G$7:$G$206,"<>Storniert")>1,9,IF(COUNTIFS(Buchungen!$A$7:$A$206,"<="&AM8,Buchungen!$B$7:$B$206,">"&AM8,Buchungen!$G$7:$G$206,"Gebucht")=1,1,IF(COUNTIFS(Buchungen!$A$7:$A$206,"<="&AM8,Buchungen!$B$7:$B$206,">"&AM8,Buchungen!$G$7:$G$206,"Anfrage")=1,2,IF(COUNTIFS(Buchungen!$A$7:$A$206,"<="&AM8,Buchungen!$B$7:$B$206,">"&AM8,Buchungen!$G$7:$G$206,"Eigennutzung")=1,3,IF(COUNTIFS(Buchungen!$A$7:$A$206,"<="&AM8,Buchungen!$B$7:$B$206,">"&AM8,Buchungen!$G$7:$G$206,"Gesperrt")=1,4,9))))))) -> 0 | BT8: =IF(AN8=0,-1,IF(COUNTIFS(Buchungen!$A$7:$A$206,"<="&AN8,Buchungen!$B$7:$B$206,">"&AN8,Buchungen!$G$7:$G$206,"<>Storniert")=0,0,IF(COUNTIFS(Buchungen!$A$7:$A$206,"<="&AN8,Buchungen!$B$7:$B$206,">"&AN8,Buchungen!$G$7:$G$206,"<>Storniert")>1,9,IF(COUNTIFS(Buchungen!$A$7:$A$206,"<="&AN8,Buchungen!$B$7:$B$206,">"&AN8,Buchungen!$G$7:$G$206,"Gebucht")=1,1,IF(COUNTIFS(Buchungen!$A$7:$A$206,"<="&AN8,Buchungen!$B$7:$B$206,">"&AN8,Buchungen!$G$7:$G$206,"Anfrage")=1,2,IF(COUNTIFS(Buchungen!$A$7:$A$206,"<="&AN8,Buchungen!$B$7:$B$206,">"&AN8,Buchungen!$G$7:$G$206,"Eigennutzung")=1,3,IF(COUNTIFS(Buchungen!$A$7:$A$206,"<="&AN8,Buchungen!$B$7:$B$206,">"&AN8,Buchungen!$G$7:$G$206,"Gesperrt")=1,4,9))))))) -> 0 | BU8: =IF(AO8=0,-1,IF(COUNTIFS(Buchungen!$A$7:$A$206,"<="&AO8,Buchungen!$B$7:$B$206,">"&AO8,Buchungen!$G$7:$G$206,"<>Storniert")=0,0,IF(COUNTIFS(Buchungen!$A$7:$A$206,"<="&AO8,Buchungen!$B$7:$B$206,">"&AO8,Buchungen!$G$7:$G$206,"<>Storniert")>1,9,IF(COUNTIFS(Buchungen!$A$7:$A$206,"<="&AO8,Buchungen!$B$7:$B$206,">"&AO8,Buchungen!$G$7:$G$206,"Gebucht")=1,1,IF(COUNTIFS(Buchungen!$A$7:$A$206,"<="&AO8,Buchungen!$B$7:$B$206,">"&AO8,Buchungen!$G$7:$G$206,"Anfrage")=1,2,IF(COUNTIFS(Buchungen!$A$7:$A$206,"<="&AO8,Buchungen!$B$7:$B$206,">"&AO8,Buchungen!$G$7:$G$206,"Eigennutzung")=1,3,IF(COUNTIFS(Buchungen!$A$7:$A$206,"<="&AO8,Buchungen!$B$7:$B$206,">"&AO8,Buchungen!$G$7:$G$206,"Gesperrt")=1,4,9))))))) -> 0 | ... CR8: =IF(BL8=0,-1,IF(COUNTIFS(Buchungen!$A$7:$A$206,"<="&BL8,Buchungen!$B$7:$B$206,">"&BL8,Buchungen!$G$7:$G$206,"<>Storniert")=0,0,IF(COUNTIFS(Buchungen!$A$7:$A$206,"<="&BL8,Buchungen!$B$7:$B$206,">"&BL8,Buchungen!$G$7:$G$206,"<>Storniert")>1,9,IF(COUNTIFS(Buchungen!$A$7:$A$206,"<="&BL8,Buchungen!$B$7:$B$206,">"&BL8,Buchungen!$G$7:$G$206,"Gebucht")=1,1,IF(COUNTIFS(Buchungen!$A$7:$A$206,"<="&BL8,Buchungen!$B$7:$B$206,">"&BL8,Buchungen!$G$7:$G$206,"Anfrage")=1,2,IF(COUNTIFS(Buchungen!$A$7:$A$206,"<="&BL8,Buchungen!$B$7:$B$206,">"&BL8,Buchungen!$G$7:$G$206,"Eigennutzung")=1,3,IF(COUNTIFS(Buchungen!$A$7:$A$206,"<="&BL8,Buchungen!$B$7:$B$206,">"&BL8,Buchungen!$G$7:$G$206,"Gesperrt")=1,4,9))))))) -> 0
A9: April | B9: =IF(AH9=0,"",IF(AND(COUNTIFS(Buchungen!$A$7:$A$206,AH9,Buchungen!$G$7:$G$206,"<>Storniert")>0,COUNTIFS(Buchungen!$B$7:$B$206,AH9,Buchungen!$G$7:$G$206,"<>Storniert")>0),"W",IF(COUNTIFS(Buchungen!$A$7:$A$206,AH9,Buchungen!$G$7:$G$206,"<>Storniert")>0,"An",IF(COUNTIFS(Buchungen!$B$7:$B$206,AH9,Buchungen!$G$7:$G$206,"<>Storniert")>0,"Ab","")))) | C9: =IF(AI9=0,"",IF(AND(COUNTIFS(Buchungen!$A$7:$A$206,AI9,Buchungen!$G$7:$G$206,"<>Storniert")>0,COUNTIFS(Buchungen!$B$7:$B$206,AI9,Buchungen!$G$7:$G$206,"<>Storniert")>0),"W",IF(COUNTIFS(Buchungen!$A$7:$A$206,AI9,Buchungen!$G$7:$G$206,"<>Storniert")>0,"An",IF(COUNTIFS(Buchungen!$B$7:$B$206,AI9,Buchungen!$G$7:$G$206,"<>Storniert")>0,"Ab","")))) | D9: =IF(AJ9=0,"",IF(AND(COUNTIFS(Buchungen!$A$7:$A$206,AJ9,Buchungen!$G$7:$G$206,"<>Storniert")>0,COUNTIFS(Buchungen!$B$7:$B$206,AJ9,Buchungen!$G$7:$G$206,"<>Storniert")>0),"W",IF(COUNTIFS(Buchungen!$A$7:$A$206,AJ9,Buchungen!$G$7:$G$206,"<>Storniert")>0,"An",IF(COUNTIFS(Buchungen!$B$7:$B$206,AJ9,Buchungen!$G$7:$G$206,"<>Storniert")>0,"Ab","")))) | E9: =IF(AK9=0,"",IF(AND(COUNTIFS(Buchungen!$A$7:$A$206,AK9,Buchungen!$G$7:$G$206,"<>Storniert")>0,COUNTIFS(Buchungen!$B$7:$B$206,AK9,Buchungen!$G$7:$G$206,"<>Storniert")>0),"W",IF(COUNTIFS(Buchungen!$A$7:$A$206,AK9,Buchungen!$G$7:$G$206,"<>Storniert")>0,"An",IF(COUNTIFS(Buchungen!$B$7:$B$206,AK9,Buchungen!$G$7:$G$206,"<>Storniert")>0,"Ab","")))) | F9: =IF(AL9=0,"",IF(AND(COUNTIFS(Buchungen!$A$7:$A$206,AL9,Buchungen!$G$7:$G$206,"<>Storniert")>0,COUNTIFS(Buchungen!$B$7:$B$206,AL9,Buchungen!$G$7:$G$206,"<>Storniert")>0),"W",IF(COUNTIFS(Buchungen!$A$7:$A$206,AL9,Buchungen!$G$7:$G$206,"<>Storniert")>0,"An",IF(COUNTIFS(Buchungen!$B$7:$B$206,AL9,Buchungen!$G$7:$G$206,"<>Storniert")>0,"Ab","")))) | G9: =IF(AM9=0,"",IF(AND(COUNTIFS(Buchungen!$A$7:$A$206,AM9,Buchungen!$G$7:$G$206,"<>Storniert")>0,COUNTIFS(Buchungen!$B$7:$B$206,AM9,Buchungen!$G$7:$G$206,"<>Storniert")>0),"W",IF(COUNTIFS(Buchungen!$A$7:$A$206,AM9,Buchungen!$G$7:$G$206,"<>Storniert")>0,"An",IF(COUNTIFS(Buchungen!$B$7:$B$206,AM9,Buchungen!$G$7:$G$206,"<>Storniert")>0,"Ab","")))) | H9: =IF(AN9=0,"",IF(AND(COUNTIFS(Buchungen!$A$7:$A$206,AN9,Buchungen!$G$7:$G$206,"<>Storniert")>0,COUNTIFS(Buchungen!$B$7:$B$206,AN9,Buchungen!$G$7:$G$206,"<>Storniert")>0),"W",IF(COUNTIFS(Buchungen!$A$7:$A$206,AN9,Buchungen!$G$7:$G$206,"<>Storniert")>0,"An",IF(COUNTIFS(Buchungen!$B$7:$B$206,AN9,Buchungen!$G$7:$G$206,"<>Storniert")>0,"Ab","")))) | I9: =IF(AO9=0,"",IF(AND(COUNTIFS(Buchungen!$A$7:$A$206,AO9,Buchungen!$G$7:$G$206,"<>Storniert")>0,COUNTIFS(Buchungen!$B$7:$B$206,AO9,Buchungen!$G$7:$G$206,"<>Storniert")>0),"W",IF(COUNTIFS(Buchungen!$A$7:$A$206,AO9,Buchungen!$G$7:$G$206,"<>Storniert")>0,"An",IF(COUNTIFS(Buchungen!$B$7:$B$206,AO9,Buchungen!$G$7:$G$206,"<>Storniert")>0,"Ab","")))) | ... AF9: =IF(BL9=0,"",IF(AND(COUNTIFS(Buchungen!$A$7:$A$206,BL9,Buchungen!$G$7:$G$206,"<>Storniert")>0,COUNTIFS(Buchungen!$B$7:$B$206,BL9,Buchungen!$G$7:$G$206,"<>Storniert")>0),"W",IF(COUNTIFS(Buchungen!$A$7:$A$206,BL9,Buchungen!$G$7:$G$206,"<>Storniert")>0,"An",IF(COUNTIFS(Buchungen!$B$7:$B$206,BL9,Buchungen!$G$7:$G$206,"<>Storniert")>0,"Ab","")))) | AH9: =IF(MONTH(DATE(Einstellungen!$B$5,4,B$5))=4,DATE(Einstellungen!$B$5,4,B$5),0) -> 46478 | AI9: =IF(MONTH(DATE(Einstellungen!$B$5,4,C$5))=4,DATE(Einstellungen!$B$5,4,C$5),0) -> 46479 | AJ9: =IF(MONTH(DATE(Einstellungen!$B$5,4,D$5))=4,DATE(Einstellungen!$B$5,4,D$5),0) -> 46480 | AK9: =IF(MONTH(DATE(Einstellungen!$B$5,4,E$5))=4,DATE(Einstellungen!$B$5,4,E$5),0) -> 46481 | AL9: =IF(MONTH(DATE(Einstellungen!$B$5,4,F$5))=4,DATE(Einstellungen!$B$5,4,F$5),0) -> 46482 | AM9: =IF(MONTH(DATE(Einstellungen!$B$5,4,G$5))=4,DATE(Einstellungen!$B$5,4,G$5),0) -> 46483 | AN9: =IF(MONTH(DATE(Einstellungen!$B$5,4,H$5))=4,DATE(Einstellungen!$B$5,4,H$5),0) -> 46484 | AO9: =IF(MONTH(DATE(Einstellungen!$B$5,4,I$5))=4,DATE(Einstellungen!$B$5,4,I$5),0) -> 46485 | ... BL9: =IF(MONTH(DATE(Einstellungen!$B$5,4,AF$5))=4,DATE(Einstellungen!$B$5,4,AF$5),0) -> 0 | BN9: =IF(AH9=0,-1,IF(COUNTIFS(Buchungen!$A$7:$A$206,"<="&AH9,Buchungen!$B$7:$B$206,">"&AH9,Buchungen!$G$7:$G$206,"<>Storniert")=0,0,IF(COUNTIFS(Buchungen!$A$7:$A$206,"<="&AH9,Buchungen!$B$7:$B$206,">"&AH9,Buchungen!$G$7:$G$206,"<>Storniert")>1,9,IF(COUNTIFS(Buchungen!$A$7:$A$206,"<="&AH9,Buchungen!$B$7:$B$206,">"&AH9,Buchungen!$G$7:$G$206,"Gebucht")=1,1,IF(COUNTIFS(Buchungen!$A$7:$A$206,"<="&AH9,Buchungen!$B$7:$B$206,">"&AH9,Buchungen!$G$7:$G$206,"Anfrage")=1,2,IF(COUNTIFS(Buchungen!$A$7:$A$206,"<="&AH9,Buchungen!$B$7:$B$206,">"&AH9,Buchungen!$G$7:$G$206,"Eigennutzung")=1,3,IF(COUNTIFS(Buchungen!$A$7:$A$206,"<="&AH9,Buchungen!$B$7:$B$206,">"&AH9,Buchungen!$G$7:$G$206,"Gesperrt")=1,4,9))))))) -> 0 | BO9: =IF(AI9=0,-1,IF(COUNTIFS(Buchungen!$A$7:$A$206,"<="&AI9,Buchungen!$B$7:$B$206,">"&AI9,Buchungen!$G$7:$G$206,"<>Storniert")=0,0,IF(COUNTIFS(Buchungen!$A$7:$A$206,"<="&AI9,Buchungen!$B$7:$B$206,">"&AI9,Buchungen!$G$7:$G$206,"<>Storniert")>1,9,IF(COUNTIFS(Buchungen!$A$7:$A$206,"<="&AI9,Buchungen!$B$7:$B$206,">"&AI9,Buchungen!$G$7:$G$206,"Gebucht")=1,1,IF(COUNTIFS(Buchungen!$A$7:$A$206,"<="&AI9,Buchungen!$B$7:$B$206,">"&AI9,Buchungen!$G$7:$G$206,"Anfrage")=1,2,IF(COUNTIFS(Buchungen!$A$7:$A$206,"<="&AI9,Buchungen!$B$7:$B$206,">"&AI9,Buchungen!$G$7:$G$206,"Eigennutzung")=1,3,IF(COUNTIFS(Buchungen!$A$7:$A$206,"<="&AI9,Buchungen!$B$7:$B$206,">"&AI9,Buchungen!$G$7:$G$206,"Gesperrt")=1,4,9))))))) -> 0 | BP9: =IF(AJ9=0,-1,IF(COUNTIFS(Buchungen!$A$7:$A$206,"<="&AJ9,Buchungen!$B$7:$B$206,">"&AJ9,Buchungen!$G$7:$G$206,"<>Storniert")=0,0,IF(COUNTIFS(Buchungen!$A$7:$A$206,"<="&AJ9,Buchungen!$B$7:$B$206,">"&AJ9,Buchungen!$G$7:$G$206,"<>Storniert")>1,9,IF(COUNTIFS(Buchungen!$A$7:$A$206,"<="&AJ9,Buchungen!$B$7:$B$206,">"&AJ9,Buchungen!$G$7:$G$206,"Gebucht")=1,1,IF(COUNTIFS(Buchungen!$A$7:$A$206,"<="&AJ9,Buchungen!$B$7:$B$206,">"&AJ9,Buchungen!$G$7:$G$206,"Anfrage")=1,2,IF(COUNTIFS(Buchungen!$A$7:$A$206,"<="&AJ9,Buchungen!$B$7:$B$206,">"&AJ9,Buchungen!$G$7:$G$206,"Eigennutzung")=1,3,IF(COUNTIFS(Buchungen!$A$7:$A$206,"<="&AJ9,Buchungen!$B$7:$B$206,">"&AJ9,Buchungen!$G$7:$G$206,"Gesperrt")=1,4,9))))))) -> 0 | BQ9: =IF(AK9=0,-1,IF(COUNTIFS(Buchungen!$A$7:$A$206,"<="&AK9,Buchungen!$B$7:$B$206,">"&AK9,Buchungen!$G$7:$G$206,"<>Storniert")=0,0,IF(COUNTIFS(Buchungen!$A$7:$A$206,"<="&AK9,Buchungen!$B$7:$B$206,">"&AK9,Buchungen!$G$7:$G$206,"<>Storniert")>1,9,IF(COUNTIFS(Buchungen!$A$7:$A$206,"<="&AK9,Buchungen!$B$7:$B$206,">"&AK9,Buchungen!$G$7:$G$206,"Gebucht")=1,1,IF(COUNTIFS(Buchungen!$A$7:$A$206,"<="&AK9,Buchungen!$B$7:$B$206,">"&AK9,Buchungen!$G$7:$G$206,"Anfrage")=1,2,IF(COUNTIFS(Buchungen!$A$7:$A$206,"<="&AK9,Buchungen!$B$7:$B$206,">"&AK9,Buchungen!$G$7:$G$206,"Eigennutzung")=1,3,IF(COUNTIFS(Buchungen!$A$7:$A$206,"<="&AK9,Buchungen!$B$7:$B$206,">"&AK9,Buchungen!$G$7:$G$206,"Gesperrt")=1,4,9))))))) -> 0 | BR9: =IF(AL9=0,-1,IF(COUNTIFS(Buchungen!$A$7:$A$206,"<="&AL9,Buchungen!$B$7:$B$206,">"&AL9,Buchungen!$G$7:$G$206,"<>Storniert")=0,0,IF(COUNTIFS(Buchungen!$A$7:$A$206,"<="&AL9,Buchungen!$B$7:$B$206,">"&AL9,Buchungen!$G$7:$G$206,"<>Storniert")>1,9,IF(COUNTIFS(Buchungen!$A$7:$A$206,"<="&AL9,Buchungen!$B$7:$B$206,">"&AL9,Buchungen!$G$7:$G$206,"Gebucht")=1,1,IF(COUNTIFS(Buchungen!$A$7:$A$206,"<="&AL9,Buchungen!$B$7:$B$206,">"&AL9,Buchungen!$G$7:$G$206,"Anfrage")=1,2,IF(COUNTIFS(Buchungen!$A$7:$A$206,"<="&AL9,Buchungen!$B$7:$B$206,">"&AL9,Buchungen!$G$7:$G$206,"Eigennutzung")=1,3,IF(COUNTIFS(Buchungen!$A$7:$A$206,"<="&AL9,Buchungen!$B$7:$B$206,">"&AL9,Buchungen!$G$7:$G$206,"Gesperrt")=1,4,9))))))) -> 0 | BS9: =IF(AM9=0,-1,IF(COUNTIFS(Buchungen!$A$7:$A$206,"<="&AM9,Buchungen!$B$7:$B$206,">"&AM9,Buchungen!$G$7:$G$206,"<>Storniert")=0,0,IF(COUNTIFS(Buchungen!$A$7:$A$206,"<="&AM9,Buchungen!$B$7:$B$206,">"&AM9,Buchungen!$G$7:$G$206,"<>Storniert")>1,9,IF(COUNTIFS(Buchungen!$A$7:$A$206,"<="&AM9,Buchungen!$B$7:$B$206,">"&AM9,Buchungen!$G$7:$G$206,"Gebucht")=1,1,IF(COUNTIFS(Buchungen!$A$7:$A$206,"<="&AM9,Buchungen!$B$7:$B$206,">"&AM9,Buchungen!$G$7:$G$206,"Anfrage")=1,2,IF(COUNTIFS(Buchungen!$A$7:$A$206,"<="&AM9,Buchungen!$B$7:$B$206,">"&AM9,Buchungen!$G$7:$G$206,"Eigennutzung")=1,3,IF(COUNTIFS(Buchungen!$A$7:$A$206,"<="&AM9,Buchungen!$B$7:$B$206,">"&AM9,Buchungen!$G$7:$G$206,"Gesperrt")=1,4,9))))))) -> 0 | BT9: =IF(AN9=0,-1,IF(COUNTIFS(Buchungen!$A$7:$A$206,"<="&AN9,Buchungen!$B$7:$B$206,">"&AN9,Buchungen!$G$7:$G$206,"<>Storniert")=0,0,IF(COUNTIFS(Buchungen!$A$7:$A$206,"<="&AN9,Buchungen!$B$7:$B$206,">"&AN9,Buchungen!$G$7:$G$206,"<>Storniert")>1,9,IF(COUNTIFS(Buchungen!$A$7:$A$206,"<="&AN9,Buchungen!$B$7:$B$206,">"&AN9,Buchungen!$G$7:$G$206,"Gebucht")=1,1,IF(COUNTIFS(Buchungen!$A$7:$A$206,"<="&AN9,Buchungen!$B$7:$B$206,">"&AN9,Buchungen!$G$7:$G$206,"Anfrage")=1,2,IF(COUNTIFS(Buchungen!$A$7:$A$206,"<="&AN9,Buchungen!$B$7:$B$206,">"&AN9,Buchungen!$G$7:$G$206,"Eigennutzung")=1,3,IF(COUNTIFS(Buchungen!$A$7:$A$206,"<="&AN9,Buchungen!$B$7:$B$206,">"&AN9,Buchungen!$G$7:$G$206,"Gesperrt")=1,4,9))))))) -> 0 | BU9: =IF(AO9=0,-1,IF(COUNTIFS(Buchungen!$A$7:$A$206,"<="&AO9,Buchungen!$B$7:$B$206,">"&AO9,Buchungen!$G$7:$G$206,"<>Storniert")=0,0,IF(COUNTIFS(Buchungen!$A$7:$A$206,"<="&AO9,Buchungen!$B$7:$B$206,">"&AO9,Buchungen!$G$7:$G$206,"<>Storniert")>1,9,IF(COUNTIFS(Buchungen!$A$7:$A$206,"<="&AO9,Buchungen!$B$7:$B$206,">"&AO9,Buchungen!$G$7:$G$206,"Gebucht")=1,1,IF(COUNTIFS(Buchungen!$A$7:$A$206,"<="&AO9,Buchungen!$B$7:$B$206,">"&AO9,Buchungen!$G$7:$G$206,"Anfrage")=1,2,IF(COUNTIFS(Buchungen!$A$7:$A$206,"<="&AO9,Buchungen!$B$7:$B$206,">"&AO9,Buchungen!$G$7:$G$206,"Eigennutzung")=1,3,IF(COUNTIFS(Buchungen!$A$7:$A$206,"<="&AO9,Buchungen!$B$7:$B$206,">"&AO9,Buchungen!$G$7:$G$206,"Gesperrt")=1,4,9))))))) -> 0 | ... CR9: =IF(BL9=0,-1,IF(COUNTIFS(Buchungen!$A$7:$A$206,"<="&BL9,Buchungen!$B$7:$B$206,">"&BL9,Buchungen!$G$7:$G$206,"<>Storniert")=0,0,IF(COUNTIFS(Buchungen!$A$7:$A$206,"<="&BL9,Buchungen!$B$7:$B$206,">"&BL9,Buchungen!$G$7:$G$206,"<>Storniert")>1,9,IF(COUNTIFS(Buchungen!$A$7:$A$206,"<="&BL9,Buchungen!$B$7:$B$206,">"&BL9,Buchungen!$G$7:$G$206,"Gebucht")=1,1,IF(COUNTIFS(Buchungen!$A$7:$A$206,"<="&BL9,Buchungen!$B$7:$B$206,">"&BL9,Buchungen!$G$7:$G$206,"Anfrage")=1,2,IF(COUNTIFS(Buchungen!$A$7:$A$206,"<="&BL9,Buchungen!$B$7:$B$206,">"&BL9,Buchungen!$G$7:$G$206,"Eigennutzung")=1,3,IF(COUNTIFS(Buchungen!$A$7:$A$206,"<="&BL9,Buchungen!$B$7:$B$206,">"&BL9,Buchungen!$G$7:$G$206,"Gesperrt")=1,4,9))))))) -> -1
